{"text_format":"1","workbook":"xlsx","n_sheets":4,"sheets":["Edycja spisu","Wydruk spisu","EwidAktOsob","EwidencjaArchiwalna"],"not_rendered":{"charts":0,"images":0,"macros":0,"external_links":0,"defined_names":7,"comments":4,"pivot_tables":0},"unopened":[],"bounds":{"document_bytes":16777216,"sheet_cells":100000,"rows_first":2000,"rows_last":500,"rows_between":2000,"halvings":0,"cell_chars":16384,"cell_head_chars":4096},"cells_cut":0,"cells_raw":0,"read":"whole","date_system":"1900"}

{"sheet":"Edycja spisu","index":0,"n_rows":226,"n_cols":22,"rows_kept":226,"cut":false,"hidden":false,"merged":[[16,5,16,6],[19,5,19,6],[17,8,17,9],[14,5,14,9],[17,5,17,6],[15,5,15,6]]}
[]
[null,null,"Jak wykorzystać ten szablon do opracowania spisu akt przekazanych do archiwum"]
[]
[null,"Po otwarciu  nowego dokumentu office \"Spis akt osobowych\" w dolnym pasku widoczne są nazwy 2 arkuszy:"]
[null,"Edycja spisu, Wydruk spisu. Aktywny arkusz posiada nazwę na białym tle."]
[null,"Rozpocznij wykonanie zadania  w arkuszu Edycja spisu. "]
[]
[null,"Wpisz wartości w polach zaznaczonych na kolorowo i wypełnij arkusz danych zaczynając od komórki A24."]
[null,"Po zakończeniu edycji tego arkusza  zapisz plik wybierając ścieżkę dostępu do folderu na dysku twojego komputera, "]
[null," w którym będzie on przechowywany pod właściwą nazwą np.SpisAktPrzek24wrz06, a następnie  otwórz arkusz \"Wydruk spisu\". "]
[null,"Przed wybraniem z menu Plik polecenia Drukuj zaznacz zbędne wiersze i je usuń. Wypełnij rozdzielnik i pozostałe pola na ostatniej stronie."]
[null,"W podglądzie wydruku ilość stron dokumentu musi się zgadzać z informacją o stronach umieszczoną w stopce każdej strony."]
[]
[]
[null,null,null,null,"Jednostka (wydział KWP, KPP,KMP)","Wydział Kadr i Szkolenia KWP w Łodzi",null,null,null,null,null,null,null,null,null,{"$f":"VLOOKUP(F15,D202:F224,2,FALSE)","v":"KWP1209"}]
[null,null,null,null,"Komórka organizacyjna",null,null," "]
[null,null,null,null,"Miejscowość",{"$f":"VLOOKUP(F15,D202:F224,3)","v":"Łódź"},null,null,null,null,null,null,null,null,null,{"$f":"CONCATENATE(\"  \" &\"l.dz. \",F18)","v":"  l.dz. "}]
[null,null,null,null,"L.dz."]
[null,null,null,null,"Data sporządzenia spisu ",null,null,null,null,null,null,null,null,null,null,{"$f":"F18","v":0}]
[null,null,null,null,"Archiwum (składnica akt) przyjmujące dokumentację ","Archiwum KWP w Łodzi",null,null,null,null,null,null,null,null,null,{"$f":"CONCATENATE(F16,P17)","v":"  l.dz. "}]
[]
[]
["L.p","Symbol JRWAP","Służba","Oznaczenie twórcy akt","Nazwisko","Imię1","Imię2","Imię ojca","Imię matki","Data urodzenia","Data przyjęcia","Data zwolnienia","Liczba teczek","Kategoria","Uwagi","IDCechyTaj",null,null,"\" \"","Tytuł akt1","Tytuł akt2","Tytuł akt"]
[1,"1200",null,null,null,null,null,null,null,null,null,null,null,"BE60-E",null,{"$f":"VLOOKUP(#REF!,CechaTaj,2,FALSE)","v":{"$error":"#REF!"}},", imię ojca - ",", ur."," ",{"$f":"CONCATENATE(E24,S24,F24,Q24,H24)","v":" , imię ojca - "},{"$f":"CONCATENATE(R24,J24)","v":", ur."},{"$f":"CONCATENATE(T24,U24)","v":" , imię ojca - , ur."}]
[2,"1200",null,null,null,null,null,null,null,null,null,null,null,"BE60-E",null,{"$f":"VLOOKUP(#REF!,CechaTaj,2,FALSE)","v":{"$error":"#REF!"}},", i.o. - ",", ur."," "," , i.o. - ",", ur.",{"$f":"CONCATENATE(T25,U25)","v":" , i.o. - , ur."}]
[3,"1200",null,null,null,null,null,null,null,null,null,null,null,"BE60-E",null,{"$f":"VLOOKUP(#REF!,CechaTaj,2,FALSE)","v":{"$error":"#REF!"}},", i.o. - ",", ur."," "," , i.o. - ",", ur.",{"$f":"CONCATENATE(T26,U26)","v":" , i.o. - , ur."}]
[4,"1200",null,null,null,null,null,null,null,null,null,null,null,"BE60-E",null,{"$f":"VLOOKUP(#REF!,CechaTaj,2,FALSE)","v":{"$error":"#REF!"}},", i.o. - ",", ur."," "," , i.o. - ",", ur.",{"$f":"CONCATENATE(T27,U27)","v":" , i.o. - , ur."}]
[5,"1200",null,null,null,null,null,null,null,null,null,null,null,"BE60-E",null,{"$f":"VLOOKUP(#REF!,CechaTaj,2,FALSE)","v":{"$error":"#REF!"}},", i.o. - ",", ur."," "," , i.o. - ",", ur.",{"$f":"CONCATENATE(T28,U28)","v":" , i.o. - , ur."}]
[6,"1200",null,null,null,null,null,null,null,null,null,null,null,"BE60-E",null,{"$f":"VLOOKUP(#REF!,CechaTaj,2,FALSE)","v":{"$error":"#REF!"}},", i.o. - ",", ur."," "," , i.o. - ",", ur.",{"$f":"CONCATENATE(T29,U29)","v":" , i.o. - , ur."}]
[7,"1200",null,null,null,null,null,null,null,null,null,null,null,"BE60-E",null,{"$f":"VLOOKUP(#REF!,CechaTaj,2,FALSE)","v":{"$error":"#REF!"}},", i.o. - ",", ur."," "," , i.o. - ",", ur."," , i.o. - , ur."]
[8,"1200",null,null,null,null,null,null,null,null,null,null,null,"BE60-E",null,{"$f":"VLOOKUP(#REF!,CechaTaj,2,FALSE)","v":{"$error":"#REF!"}},", i.o. - ",", ur."," "," , i.o. - ",", ur."," , i.o. - , ur."]
[9,"1200",null,null,null,null,null,null,null,null,null,null,null,"BE60-E",null,{"$f":"VLOOKUP(#REF!,CechaTaj,2,FALSE)","v":{"$error":"#REF!"}},", i.o. - ",", ur."," "," , i.o. - ",", ur."," , i.o. - , ur."]
[10,"1200",null,null,null,null,null,null,null,null,null,null,null,"BE60-E",null,{"$f":"VLOOKUP(#REF!,CechaTaj,2,FALSE)","v":{"$error":"#REF!"}},", i.o. - ",", ur."," "," , i.o. - ",", ur."," , i.o. - , ur."]
[11,"1200",null,null,null,null,null,null,null,null,null,null,null,"BE60-E",null,{"$f":"VLOOKUP(#REF!,CechaTaj,2,FALSE)","v":{"$error":"#REF!"}},", i.o. - ",", ur."," "," , i.o. - ",", ur."," , i.o. - , ur."]
[12,"1200",null,null,null,null,null,null,null,null,null,null,null,"BE60-E",null,{"$f":"VLOOKUP(#REF!,CechaTaj,2,FALSE)","v":{"$error":"#REF!"}},", i.o. - ",", ur."," "," , i.o. - ",", ur."," , i.o. - , ur."]
[13,"1200",null,null,null,null,null,null,null,null,null,null,null,"BE60-E",null,{"$f":"VLOOKUP(#REF!,CechaTaj,2,FALSE)","v":{"$error":"#REF!"}},", i.o. - ",", ur."," "," , i.o. - ",", ur."," , i.o. - , ur."]
[14,"1200",null,null,null,null,null,null,null,null,null,null,null,"BE60-E",null,{"$f":"VLOOKUP(#REF!,CechaTaj,2,FALSE)","v":{"$error":"#REF!"}},", i.o. - ",", ur."," "," , i.o. - ",", ur."," , i.o. - , ur."]
[15,"1200",null,null,null,null,null,null,null,null,null,null,null,"BE60-E",null,{"$f":"VLOOKUP(#REF!,CechaTaj,2,FALSE)","v":{"$error":"#REF!"}},", i.o. - ",", ur."," "," , i.o. - ",", ur."," , i.o. - , ur."]
[16,"1200",null,null,null,null,null,null,null,null,null,null,null,"BE60-E",null,{"$f":"VLOOKUP(#REF!,CechaTaj,2,FALSE)","v":{"$error":"#REF!"}},", i.o. - ",", ur."," "," , i.o. - ",", ur."," , i.o. - , ur."]
[17,"1200",null,null,null,null,null,null,null,null,null,null,null,"BE60-E",null,{"$f":"VLOOKUP(#REF!,CechaTaj,2,FALSE)","v":{"$error":"#REF!"}},", i.o. - ",", ur."," "," , i.o. - ",", ur."," , i.o. - , ur."]
[18,"1200",null,null,null,null,null,null,null,null,null,null,null,"BE60-E",null,{"$f":"VLOOKUP(#REF!,CechaTaj,2,FALSE)","v":{"$error":"#REF!"}},", i.o. - ",", ur."," "," , i.o. - ",", ur."," , i.o. - , ur."]
[19,"1200",null,null,null,null,null,null,null,null,null,null,null,"BE60-E",null,{"$f":"VLOOKUP(#REF!,CechaTaj,2,FALSE)","v":{"$error":"#REF!"}},", i.o. - ",", ur."," "," , i.o. - ",", ur."," , i.o. - , ur."]
[20,"1200",null,null,null,null,null,null,null,null,null,null,null,"BE60-E",null,{"$f":"VLOOKUP(#REF!,CechaTaj,2,FALSE)","v":{"$error":"#REF!"}},", i.o. - ",", ur."," "," , i.o. - ",", ur."," , i.o. - , ur."]
[21,"1200",null,null,null,null,null,null,null,null,null,null,null,"BE60-E",null,{"$f":"VLOOKUP(#REF!,CechaTaj,2,FALSE)","v":{"$error":"#REF!"}},", i.o. - ",", ur."," "," , i.o. - ",", ur."," , i.o. - , ur."]
[22,"1200",null,null,null,null,null,null,null,null,null,null,null,"BE60-E",null,{"$f":"VLOOKUP(#REF!,CechaTaj,2,FALSE)","v":{"$error":"#REF!"}},", i.o. - ",", ur."," "," , i.o. - ",", ur."," , i.o. - , ur."]
[23,"1200",null,null,null,null,null,null,null,null,null,null,null,"BE60-E",null,{"$f":"VLOOKUP(#REF!,CechaTaj,2,FALSE)","v":{"$error":"#REF!"}},", i.o. - ",", ur."," "," , i.o. - ",", ur."," , i.o. - , ur."]
[24,"1200",null,null,null,null,null,null,null,null,null,null,null,"BE60-E",null,{"$f":"VLOOKUP(#REF!,CechaTaj,2,FALSE)","v":{"$error":"#REF!"}},", i.o. - ",", ur."," "," , i.o. - ",", ur."," , i.o. - , ur."]
[25,"1200",null,null,null,null,null,null,null,null,null,null,null,"BE60-E",null,{"$f":"VLOOKUP(#REF!,CechaTaj,2,FALSE)","v":{"$error":"#REF!"}},", i.o. - ",", ur."," "," , i.o. - ",", ur."," , i.o. - , ur."]
[26,"1200",null,null,null,null,null,null,null,null,null,null,null,"BE60-E",null,{"$f":"VLOOKUP(#REF!,CechaTaj,2,FALSE)","v":{"$error":"#REF!"}},", i.o. - ",", ur."," "," , i.o. - ",", ur."," , i.o. - , ur."]
[27,"1200",null,null,null,null,null,null,null,null,null,null,null,"BE60-E",null,{"$f":"VLOOKUP(#REF!,CechaTaj,2,FALSE)","v":{"$error":"#REF!"}},", i.o. - ",", ur."," "," , i.o. - ",", ur."," , i.o. - , ur."]
[28,"1200",null,null,null,null,null,null,null,null,null,null,null,"BE60-E",null,{"$f":"VLOOKUP(#REF!,CechaTaj,2,FALSE)","v":{"$error":"#REF!"}},", i.o. - ",", ur."," "," , i.o. - ",", ur."," , i.o. - , ur."]
[29,"1200",null,null,null,null,null,null,null,null,null,null,null,"BE60-E",null,{"$f":"VLOOKUP(#REF!,CechaTaj,2,FALSE)","v":{"$error":"#REF!"}},", i.o. - ",", ur."," "," , i.o. - ",", ur."," , i.o. - , ur."]
[30,"1200",null,null,null,null,null,null,null,null,null,null,null,"BE60-E",null,{"$f":"VLOOKUP(#REF!,CechaTaj,2,FALSE)","v":{"$error":"#REF!"}},", i.o. - ",", ur."," "," , i.o. - ",", ur."," , i.o. - , ur."]
[31,"1200",null,null,null,null,null,null,null,null,null,null,null,"BE60-E",null,{"$f":"VLOOKUP(#REF!,CechaTaj,2,FALSE)","v":{"$error":"#REF!"}},", i.o. - ",", ur."," "," , i.o. - ",", ur."," , i.o. - , ur."]
[32,"1200",null,null,null,null,null,null,null,null,null,null,null,"BE60-E",null,{"$f":"VLOOKUP(#REF!,CechaTaj,2,FALSE)","v":{"$error":"#REF!"}},", i.o. - ",", ur."," "," , i.o. - ",", ur."," , i.o. - , ur."]
[33,"1200",null,null,null,null,null,null,null,null,null,null,null,"BE60-E",null,{"$f":"VLOOKUP(#REF!,CechaTaj,2,FALSE)","v":{"$error":"#REF!"}},", i.o. - ",", ur."," ",{"$f":"CONCATENATE(E56,S56,F56,Q56,H56)","v":" , i.o. - "},{"$f":"CONCATENATE(R56,J56)","v":", ur."}," , i.o. - , ur."]
[34,"1200",null,null,null,null,null,null,null,null,null,null,null,"BE60-E",null,{"$f":"VLOOKUP(#REF!,CechaTaj,2,FALSE)","v":{"$error":"#REF!"}},", i.o. - ",", ur."," "," , i.o. - ",", ur."," , i.o. - , ur."]
[35,"1200",null,null,null,null,null,null,null,null,null,null,null,"BE60-E",null,{"$f":"VLOOKUP(#REF!,CechaTaj,2,FALSE)","v":{"$error":"#REF!"}},", i.o. - ",", ur."," "," , i.o. - ",", ur."," , i.o. - , ur."]
[36,"1200",null,null,null,null,null,null,null,null,null,null,null,"BE60-E",null,{"$f":"VLOOKUP(#REF!,CechaTaj,2,FALSE)","v":{"$error":"#REF!"}},", i.o. - ",", ur."," "," , i.o. - ",", ur."," , i.o. - , ur."]
[37,"1200",null,null,null,null,null,null,null,null,null,null,null,"BE60-E",null,{"$f":"VLOOKUP(#REF!,CechaTaj,2,FALSE)","v":{"$error":"#REF!"}},", i.o. - ",", ur."," "," , i.o. - ",", ur."," , i.o. - , ur."]
[38,"1200",null,null,null,null,null,null,null,null,null,null,null,"BE60-E",null,{"$f":"VLOOKUP(#REF!,CechaTaj,2,FALSE)","v":{"$error":"#REF!"}},", i.o. - ",", ur."," "," , i.o. - ",", ur."," , i.o. - , ur."]
[39,"1200",null,null,null,null,null,null,null,null,null,null,null,"BE60-E",null,{"$f":"VLOOKUP(#REF!,CechaTaj,2,FALSE)","v":{"$error":"#REF!"}},", i.o. - ",", ur."," "," , i.o. - ",", ur."," , i.o. - , ur."]
[40,"1200",null,null,null,null,null,null,null,null,null,null,null,"BE60-E",null,{"$f":"VLOOKUP(#REF!,CechaTaj,2,FALSE)","v":{"$error":"#REF!"}},", i.o. - ",", ur."," "," , i.o. - ",", ur."," , i.o. - , ur."]
[41,"1200",null,null,null,null,null,null,null,null,null,null,null,"BE60-E",null,{"$f":"VLOOKUP(#REF!,CechaTaj,2,FALSE)","v":{"$error":"#REF!"}},", i.o. - ",", ur."," "," , i.o. - ",", ur."," , i.o. - , ur."]
[42,"1200",null,null,null,null,null,null,null,null,null,null,null,"BE60-E",null,{"$f":"VLOOKUP(#REF!,CechaTaj,2,FALSE)","v":{"$error":"#REF!"}},", i.o. - ",", ur."," "," , i.o. - ",", ur."," , i.o. - , ur."]
[43,"1200",null,null,null,null,null,null,null,null,null,null,null,"BE60-E",null,{"$f":"VLOOKUP(#REF!,CechaTaj,2,FALSE)","v":{"$error":"#REF!"}},", i.o. - ",", ur."," "," , i.o. - ",", ur."," , i.o. - , ur."]
[44,"1200",null,null,null,null,null,null,null,null,null,null,null,"BE60-E",null,{"$f":"VLOOKUP(#REF!,CechaTaj,2,FALSE)","v":{"$error":"#REF!"}},", i.o. - ",", ur."," "," , i.o. - ",", ur."," , i.o. - , ur."]
[45,"1200",null,null,null,null,null,null,null,null,null,null,null,"BE60-E",null,{"$f":"VLOOKUP(#REF!,CechaTaj,2,FALSE)","v":{"$error":"#REF!"}},", i.o. - ",", ur."," "," , i.o. - ",", ur."," , i.o. - , ur."]
[46,"1200",null,null,null,null,null,null,null,null,null,null,null,"BE60-E",null,{"$f":"VLOOKUP(#REF!,CechaTaj,2,FALSE)","v":{"$error":"#REF!"}},", i.o. - ",", ur."," "," , i.o. - ",", ur."," , i.o. - , ur."]
[47,"1200",null,null,null,null,null,null,null,null,null,null,null,"BE60-E",null,{"$f":"VLOOKUP(#REF!,CechaTaj,2,FALSE)","v":{"$error":"#REF!"}},", i.o. - ",", ur."," "," , i.o. - ",", ur."," , i.o. - , ur."]
[48,"1200",null,null,null,null,null,null,null,null,null,null,null,"BE60-E",null,{"$f":"VLOOKUP(#REF!,CechaTaj,2,FALSE)","v":{"$error":"#REF!"}},", i.o. - ",", ur."," "," , i.o. - ",", ur."," , i.o. - , ur."]
[49,"1200",null,null,null,null,null,null,null,null,null,null,null,"BE60-E",null,{"$f":"VLOOKUP(#REF!,CechaTaj,2,FALSE)","v":{"$error":"#REF!"}},", i.o. - ",", ur."," "," , i.o. - ",", ur."," , i.o. - , ur."]
[50,"1200",null,null,null,null,null,null,null,null,null,null,null,"BE60-E",null,{"$f":"VLOOKUP(#REF!,CechaTaj,2,FALSE)","v":{"$error":"#REF!"}},", i.o. - ",", ur."," "," , i.o. - ",", ur."," , i.o. - , ur."]
[51,"1200",null,null,null,null,null,null,null,null,null,null,null,"BE60-E",null,{"$f":"VLOOKUP(#REF!,CechaTaj,2,FALSE)","v":{"$error":"#REF!"}},", i.o. - ",", ur."," "," , i.o. - ",", ur."," , i.o. - , ur."]
[52,"1200",null,null,null,null,null,null,null,null,null,null,null,"BE60-E",null,{"$f":"VLOOKUP(#REF!,CechaTaj,2,FALSE)","v":{"$error":"#REF!"}},", i.o. - ",", ur."," "," , i.o. - ",", ur."," , i.o. - , ur."]
[53,"1200",null,null,null,null,null,null,null,null,null,null,null,"BE60-E",null,{"$f":"VLOOKUP(#REF!,CechaTaj,2,FALSE)","v":{"$error":"#REF!"}},", i.o. - ",", ur."," "," , i.o. - ",", ur."," , i.o. - , ur."]
[54,"1200",null,null,null,null,null,null,null,null,null,null,null,"BE60-E",null,{"$f":"VLOOKUP(#REF!,CechaTaj,2,FALSE)","v":{"$error":"#REF!"}},", i.o. - ",", ur."," "," , i.o. - ",", ur."," , i.o. - , ur."]
[55,"1200",null,null,null,null,null,null,null,null,null,null,null,"BE60-E",null,{"$f":"VLOOKUP(#REF!,CechaTaj,2,FALSE)","v":{"$error":"#REF!"}},", i.o. - ",", ur."," "," , i.o. - ",", ur."," , i.o. - , ur."]
[56,"1200",null,null,null,null,null,null,null,null,null,null,null,"BE60-E",null,{"$f":"VLOOKUP(#REF!,CechaTaj,2,FALSE)","v":{"$error":"#REF!"}},", i.o. - ",", ur."," "," , i.o. - ",", ur."," , i.o. - , ur."]
[57,"1200",null,null,null,null,null,null,null,null,null,null,null,"BE60-E",null,{"$f":"VLOOKUP(#REF!,CechaTaj,2,FALSE)","v":{"$error":"#REF!"}},", i.o. - ",", ur."," "," , i.o. - ",", ur."," , i.o. - , ur."]
[58,"1200",null,null,null,null,null,null,null,null,null,null,null,"BE60-E",null,{"$f":"VLOOKUP(#REF!,CechaTaj,2,FALSE)","v":{"$error":"#REF!"}},", i.o. - ",", ur."," "," , i.o. - ",", ur."," , i.o. - , ur."]
[59,"1200",null,null,null,null,null,null,null,null,null,null,null,"BE60-E",null,{"$f":"VLOOKUP(#REF!,CechaTaj,2,FALSE)","v":{"$error":"#REF!"}},", i.o. - ",", ur."," "," , i.o. - ",", ur."," , i.o. - , ur."]
[60,"1200",null,null,null,null,null,null,null,null,null,null,null,"BE60-E",null,{"$f":"VLOOKUP(#REF!,CechaTaj,2,FALSE)","v":{"$error":"#REF!"}},", i.o. - ",", ur."," "," , i.o. - ",", ur."," , i.o. - , ur."]
[61,"1200",null,null,null,null,null,null,null,null,null,null,null,"BE60-E",null,{"$f":"VLOOKUP(#REF!,CechaTaj,2,FALSE)","v":{"$error":"#REF!"}},", i.o. - ",", ur."," "," , i.o. - ",", ur."," , i.o. - , ur."]
[62,"1200",null,null,null,null,null,null,null,null,null,null,null,"BE60-E",null,{"$f":"VLOOKUP(#REF!,CechaTaj,2,FALSE)","v":{"$error":"#REF!"}},", i.o. - ",", ur."," "," , i.o. - ",", ur."," , i.o. - , ur."]
[63,"1200",null,null,null,null,null,null,null,null,null,null,null,"BE60-E",null,{"$f":"VLOOKUP(#REF!,CechaTaj,2,FALSE)","v":{"$error":"#REF!"}},", i.o. - ",", ur."," "," , i.o. - ",", ur."," , i.o. - , ur."]
[64,"1200",null,null,null,null,null,null,null,null,null,null,null,"BE60-E",null,{"$f":"VLOOKUP(#REF!,CechaTaj,2,FALSE)","v":{"$error":"#REF!"}},", i.o. - ",", ur."," "," , i.o. - ",", ur."," , i.o. - , ur."]
[65,"1200",null,null,null,null,null,null,null,null,null,null,null,"BE60-E",null,{"$f":"VLOOKUP(#REF!,CechaTaj,2,FALSE)","v":{"$error":"#REF!"}},", i.o. - ",", ur."," ",{"$f":"CONCATENATE(E88,S88,F88,Q88,H88)","v":" , i.o. - "},{"$f":"CONCATENATE(R88,J88)","v":", ur."}," , i.o. - , ur."]
[66,"1200",null,null,null,null,null,null,null,null,null,null,null,"BE60-E",null,{"$f":"VLOOKUP(#REF!,CechaTaj,2,FALSE)","v":{"$error":"#REF!"}},", i.o. - ",", ur."," "," , i.o. - ",", ur."," , i.o. - , ur."]
[67,"1200",null,null,null,null,null,null,null,null,null,null,null,"BE60-E",null,{"$f":"VLOOKUP(#REF!,CechaTaj,2,FALSE)","v":{"$error":"#REF!"}},", i.o. - ",", ur."," "," , i.o. - ",", ur."," , i.o. - , ur."]
[68,"1200",null,null,null,null,null,null,null,null,null,null,null,"BE60-E",null,{"$f":"VLOOKUP(#REF!,CechaTaj,2,FALSE)","v":{"$error":"#REF!"}},", i.o. - ",", ur."," "," , i.o. - ",", ur."," , i.o. - , ur."]
[69,"1200",null,null,null,null,null,null,null,null,null,null,null,"BE60-E",null,{"$f":"VLOOKUP(#REF!,CechaTaj,2,FALSE)","v":{"$error":"#REF!"}},", i.o. - ",", ur."," "," , i.o. - ",", ur."," , i.o. - , ur."]
[70,"1200",null,null,null,null,null,null,null,null,null,null,null,"BE60-E",null,{"$f":"VLOOKUP(#REF!,CechaTaj,2,FALSE)","v":{"$error":"#REF!"}},", i.o. - ",", ur."," "," , i.o. - ",", ur.",{"$f":"CONCATENATE(T93,U93)","v":" , i.o. - , ur."}]
[71,"1200",null,null,null,null,null,null,null,null,null,null,null,"BE60-E",null,{"$f":"VLOOKUP(#REF!,CechaTaj,2,FALSE)","v":{"$error":"#REF!"}},", i.o. - ",", ur."," "," , i.o. - ",", ur."," , i.o. - , ur."]
[72,"1200",null,null,null,null,null,null,null,null,null,null,null,"BE60-E",null,{"$f":"VLOOKUP(#REF!,CechaTaj,2,FALSE)","v":{"$error":"#REF!"}},", i.o. - ",", ur."," "," , i.o. - ",", ur."," , i.o. - , ur."]
[73,"1200",null,null,null,null,null,null,null,null,null,null,null,"BE60-E",null,{"$f":"VLOOKUP(#REF!,CechaTaj,2,FALSE)","v":{"$error":"#REF!"}},", i.o. - ",", ur."," "," , i.o. - ",", ur."," , i.o. - , ur."]
[74,"1200",null,null,null,null,null,null,null,null,null,null,null,"BE60-E",null,{"$f":"VLOOKUP(#REF!,CechaTaj,2,FALSE)","v":{"$error":"#REF!"}},", i.o. - ",", ur."," ",{"$f":"CONCATENATE(E84,S97,F84,Q97,H84)","v":" , i.o. - "},{"$f":"CONCATENATE(R97,J84)","v":", ur."}," , i.o. - , ur."]
[75,"1200",null,null,null,null,null,null,null,null,null,null,null,"BE60-E",null,{"$f":"VLOOKUP(#REF!,CechaTaj,2,FALSE)","v":{"$error":"#REF!"}},", i.o. - ",", ur."," "," , i.o. - ",", ur."," , i.o. - , ur."]
[76,"1200",null,null,null,null,null,null,null,null,null,null,null,"BE60-E",null,{"$f":"VLOOKUP(#REF!,CechaTaj,2,FALSE)","v":{"$error":"#REF!"}},", i.o. - ",", ur."," "," , i.o. - ",", ur."," , i.o. - , ur."]
[77,"1200",null,null,null,null,null,null,null,null,null,null,null,"BE60-E",null,{"$f":"VLOOKUP(#REF!,CechaTaj,2,FALSE)","v":{"$error":"#REF!"}},", i.o. - ",", ur."," "," , i.o. - ",", ur."," , i.o. - , ur."]
[78,"1200",null,null,null,null,null,null,null,null,null,null,null,"BE60-E",null,{"$f":"VLOOKUP(#REF!,CechaTaj,2,FALSE)","v":{"$error":"#REF!"}},", i.o. - ",", ur."," "," , i.o. - ",", ur."," , i.o. - , ur."]
[79,"1200",null,null,null,null,null,null,null,null,null,null,null,"BE60-E",null,{"$f":"VLOOKUP(#REF!,CechaTaj,2,FALSE)","v":{"$error":"#REF!"}},", i.o. - ",", ur."," "," , i.o. - ",", ur."," , i.o. - , ur."]
[80,"1200",null,null,null,null,null,null,null,null,null,null,null,"BE60-E",null,{"$f":"VLOOKUP(#REF!,CechaTaj,2,FALSE)","v":{"$error":"#REF!"}},", i.o. - ",", ur."," "," , i.o. - ",", ur."," , i.o. - , ur."]
[81,"1200",null,null,null,null,null,null,null,null,null,null,null,"BE60-E",null,{"$f":"VLOOKUP(#REF!,CechaTaj,2,FALSE)","v":{"$error":"#REF!"}},", i.o. - ",", ur."," "," , i.o. - ",", ur."," , i.o. - , ur."]
[82,"1200",null,null,null,null,null,null,null,null,null,null,null,"BE60-E",null,{"$f":"VLOOKUP(#REF!,CechaTaj,2,FALSE)","v":{"$error":"#REF!"}},", i.o. - ",", ur."," "," , i.o. - ",", ur."," , i.o. - , ur."]
[83,"1200",null,null,null,null,null,null,null,null,null,null,null,"BE60-E",null,{"$f":"VLOOKUP(#REF!,CechaTaj,2,FALSE)","v":{"$error":"#REF!"}},", i.o. - ",", ur."," "," , i.o. - ",", ur."," , i.o. - , ur."]
[84,"1200",null,null,null,null,null,null,null,null,null,null,null,"BE60-E",null,{"$f":"VLOOKUP(#REF!,CechaTaj,2,FALSE)","v":{"$error":"#REF!"}},", i.o. - ",", ur."," "," , i.o. - ",", ur."," , i.o. - , ur."]
[85,"1200",null,null,null,null,null,null,null,null,null,null,null,"BE60-E",null,{"$f":"VLOOKUP(#REF!,CechaTaj,2,FALSE)","v":{"$error":"#REF!"}},", i.o. - ",", ur."," "," , i.o. - ",", ur."," , i.o. - , ur."]
[86,"1200",null,null,null,null,null,null,null,null,null,null,null,"BE60-E",null,{"$f":"VLOOKUP(#REF!,CechaTaj,2,FALSE)","v":{"$error":"#REF!"}},", i.o. - ",", ur."," "," , i.o. - ",", ur."," , i.o. - , ur."]
[87,"1200",null,null,null,null,null,null,null,null,null,null,null,"BE60-E",null,{"$f":"VLOOKUP(#REF!,CechaTaj,2,FALSE)","v":{"$error":"#REF!"}},", i.o. - ",", ur."," "," , i.o. - ",", ur."," , i.o. - , ur."]
[88,"1200",null,null,null,null,null,null,null,null,null,null,null,"BE60-E",null,{"$f":"VLOOKUP(#REF!,CechaTaj,2,FALSE)","v":{"$error":"#REF!"}},", i.o. - ",", ur."," "," , i.o. - ",", ur."," , i.o. - , ur."]
[89,"1200",null,null,null,null,null,null,null,null,null,null,null,"BE60-E",null,{"$f":"VLOOKUP(#REF!,CechaTaj,2,FALSE)","v":{"$error":"#REF!"}},", i.o. - ",", ur."," "," , i.o. - ",", ur."," , i.o. - , ur."]
[90,"1200",null,null,null,null,null,null,null,null,null,null,null,"BE60-E",null,{"$f":"VLOOKUP(#REF!,CechaTaj,2,FALSE)","v":{"$error":"#REF!"}},", i.o. - ",", ur."," "," , i.o. - ",", ur."," , i.o. - , ur."]
[91,"1200",null,null,null,null,null,null,null,null,null,null,null,"BE60-E",null,{"$f":"VLOOKUP(#REF!,CechaTaj,2,FALSE)","v":{"$error":"#REF!"}},", i.o. - ",", ur."," "," , i.o. - ",", ur."," , i.o. - , ur."]
[92,"1200",null,null,null,null,null,null,null,null,null,null,null,"BE60-E",null,{"$f":"VLOOKUP(#REF!,CechaTaj,2,FALSE)","v":{"$error":"#REF!"}},", i.o. - ",", ur."," "," , i.o. - ",", ur."," , i.o. - , ur."]
[93,"1200",null,null,null,null,null,null,null,null,null,null,null,"BE60-E",null,{"$f":"VLOOKUP(#REF!,CechaTaj,2,FALSE)","v":{"$error":"#REF!"}},", i.o. - ",", ur."," "," , i.o. - ",", ur."," , i.o. - , ur."]
[94,"1200",null,null,null,null,null,null,null,null,null,null,null,"BE60-E",null,{"$f":"VLOOKUP(#REF!,CechaTaj,2,FALSE)","v":{"$error":"#REF!"}},", i.o. - ",", ur."," "," , i.o. - ",", ur."," , i.o. - , ur."]
[95,"1200",null,null,null,null,null,null,null,null,null,null,null,"BE60-E",null,{"$f":"VLOOKUP(#REF!,CechaTaj,2,FALSE)","v":{"$error":"#REF!"}},", i.o. - ",", ur."," "," , i.o. - ",", ur."," , i.o. - , ur."]
[96,"1200",null,null,null,null,null,null,null,null,null,null,null,"BE60-E",null,{"$f":"VLOOKUP(#REF!,CechaTaj,2,FALSE)","v":{"$error":"#REF!"}},", i.o. - ",", ur."," "," , i.o. - ",", ur."," , i.o. - , ur."]
[97,"1200",null,null,null,null,null,null,null,null,null,null,null,"BE60-E",null,{"$f":"VLOOKUP(#REF!,CechaTaj,2,FALSE)","v":{"$error":"#REF!"}},", i.o. - ",", ur."," "," , i.o. - ",", ur."," , i.o. - , ur."]
[98,"1200",null,null,null,null,null,null,null,null,null,null,null,"BE60-E",null,{"$f":"VLOOKUP(#REF!,CechaTaj,2,FALSE)","v":{"$error":"#REF!"}},", i.o. - ",", ur."," "," , i.o. - ",", ur."," , i.o. - , ur."]
[99,"1200",null,null,null,null,null,null,null,null,null,null,null,"BE60-E",null,{"$f":"VLOOKUP(#REF!,CechaTaj,2,FALSE)","v":{"$error":"#REF!"}},", i.o. - ",", ur."," "," , i.o. - ",", ur."," , i.o. - , ur."]
[100,"1200",null,null,null,null,null,null,null,null,null,null,null,"BE60-E",null,{"$f":"VLOOKUP(#REF!,CechaTaj,2,FALSE)","v":{"$error":"#REF!"}},", i.o. - ",", ur."," "," , i.o. - ",", ur."," , i.o. - , ur."]
[]
[]
[]
[]
[]
[]
[]
[]
[]
[]
[]
[]
[]
[]
[]
[]
[]
[]
[]
[]
[]
[]
[]
[]
[]
[null,"Symbol JRWAP","Służba",null,"Jednostka","IDJedn",null,null,null,null,null,null,null,null,null,null,null,null,null,null,{"$f":"CONCATENATE(S149,T149)","v":""}]
[null,"1200","Policja",null,"Biuro Kadr i Szkolenia","KGP2071","Warszawa",null,null,null,null,null,null,null,null,null,null,null,null,null,""]
[null,"1201","cywil","Miejscowość","Gabinet Komendanta Głównego Policji","KGP2012","Warszawa",null,null,null,null,null,null,null,null,null,null,null,null,null,""]
[null,"1202",null,"Białystok","Centrum Szkolenia Policji w Legionowie","SZK2400","Legionowo",null,null,null,null,null,null,null,null,null,null,null,null,null,""]
[null,"1203",null,"Bydgoszcz","Szkoła Policji w Słupsku","SZK2401","Słupsk",null,null,null,null,null,null,null,null,null,null,null,null,null,""]
[null,null,null,"Gdańsk","Szkoła Policji w Katowicach","SZK2402","Katowice",null,null,null,null,null,null,null,null,null,null,null,null,null,""]
[null,null,null,"Gorzów","Wyższa Szkoła Policji w Szczytnie","SZK2403","Szczytno","Kategoria archiwalna",null,null,null,null,null,null,null,null,null,null,null,null,""]
[null,null,null,"Katowice","Szkoła Policji w Pile","SZK2404","Piła","BE60-E",null,null,null,null,null,null,null,null,null,null,null,null,""]
[null,null,null,"Katowice","KSP  Warszawa","KSP2410","Warszawa","B 60-E",null,null,null,null,null,null,null,null,null,null,null,null,""]
[null,null,null,"Kielce","KWP Białystok ","KWP1450","Białystok","BE10-E",null,null,null,null,null,null,null,null,null,null,null,null,""]
[null,null,null,"Kraków","KWP Bydgoszcz ","KWP1050","Bydgoszcz",null,null,null,null,null,null,null,null,null,null,null,null,null,""]
[null,null,null,"Legionowo","KWP Gdańsk ","KWP1500","Gdańsk",null,null,null,null,null,null,null,null,null,null,null,null,null,""]
[null,null,null,"Lublin","KWP Gorzów Wielkopolski ","KWP1150","Gorzów Wielkopolski",null,null,null,null,null,null,null,null,null,null,null,null,null,""]
[null,null,null,"Łódź","KWP Katowice ","KWP1550","Katowice",null,null,null,null,null,null,null,null,null,null,null,null,null,""]
[null,null,null,"Olsztyn","KWP Kielce ","KWP1600","Kielce",null,null,null,null,null,null,null,null,null,null,null,null,null,""]
[null,null,null,"Opole","KWP Kraków ","KWP1250","Kraków",null,null,null,null,null,null,null,null,null,null,null,null,null,""]
[null,null,null,"Piła","KWP Lublin ","KWP1100","Lublin",null,null,null,null,null,null,null,null,null,null,null,null,null,""]
[null,null,null,"Poznań","KWP Łódź ","KWP1200","Łódź",null,null,null,null,null,null,null,null,null,null,null,null,null,""]
[null,null,null,"Radom","KWP Olsztyn ","KWP1650","Olsztyn",null,null,null,null,null,null,null,null,null,null,null,null,null,""]
[null,null,null,"Rzeszów","KWP Opole ","KWP1350","Opole",null,null,null,null,null,null,null,null,null,null,null,null,null,""]
[null,null,null,"Słupsk","KWP Poznań ","KWP1700","Poznań",null,null,null,null,null,null,null,null,null,null,null,null,null,""]
[null,null,null,"Szczecin","KWP Radom ","KWP1300","Radom",null,null,null,null,null,null,null,null,null,null,null,null,null,""]
[null,null,null,"Szczytno","KWP Rzeszów ","KWP1400","Rzeszów",null,null,null,null,null,null,null,null,null,null,null,null,null,""]
[null,null,null,"Warszawa","KWP Szczecin ","KWP1750","Szczecin",null,null,null,null,null,null,null,null,null,null,null,null,null,""]
[null,null,null,"Wrocław","KWP Wrocław ","KWP1000","Wrocław",null,null,null,null,null,null,null,null,null,null,null,null,null,""]
[null,null,null,null,null,null,null,null,null,null,null,null,null,null,null,null,null,null,null,null,""]
[null,null,null,null,null,null,null,null,null,null,null,null,null,null,null,null,null,null,null,null,""]
[null,null,null,null,null,null,null,null,null,null,null,null,null,null,null,null,null,null,null,null,""]
[null,null,null,null,null,null,null,null,null,null,null,null,null,null,null,null,null,null,null,null,""]
[null,null,null,null,null,null,null,null,null,null,null,null,null,null,null,null,null,null,null,null,""]
[null,null,null,null,null,null,null,null,null,null,null,null,null,null,null,null,null,null,null,null,""]
[null,null,null,null,null,null,null,null,null,null,null,null,null,null,null,null,null,null,null,null,""]
[null,null,null,null,null,null,null,null,null,null,null,null,null,null,null,null,null,null,null,null,""]
[null,null,null,null,null,null,null,null,null,null,null,null,null,null,null,null,null,null,null,null,""]
[null,null,null,null,null,null,null,null,null,null,null,null,null,null,null,null,null,null,null,null,""]
[null,null,null,null,null,null,null,null,null,null,null,null,null,null,null,null,null,null,null,null,""]
[null,null,null,null,null,null,null,null,null,null,null,null,null,null,null,null,null,null,null,null,""]
[null,null,null,null,null,null,null,null,null,null,null,null,null,null,null,null,null,null,null,null,""]
[null,null,null,null,null,null,null,null,null,null,null,null,null,null,null,null,null,null,null,null,""]
[null,null,null,null,null,null,null,null,null,null,null,null,null,null,null,null,null,null,null,null,""]
[null,null,null,null,null,null,null,null,null,null,null,null,null,null,null,null,null,null,null,null,""]
[null,null,null,null,null,null,null,null,null,null,null,null,null,null,null,null,null,null,null,null,""]
[null,null,null,null,null,null,null,null,null,null,null,null,null,null,null,null,null,null,null,null,""]
[null,null,null,null,null,null,null,null,null,null,null,null,null,null,null,null,null,null,null,null,""]
[null,null,null,null,null,null,null,null,null,null,null,null,null,null,null,null,null,null,null,null,""]
[null,null,null,null,null,null,null,null,null,null,null,null,null,null,null,null,null,null,null,null,""]
[null,null,null,null,null,null,null,null,null,null,null,null,null,null,null,null,null,null,null,null,""]
[null,null,null,null,null,null,null,null,null,null,null,null,null,null,null,null,null,null,null,null,""]
[null,null,null,null,null,null,null,null,null,null,null,null,null,null,null,null,null,null,null,null,""]
[null,null,null,null,null,null,null,null,null,null,null,null,null,null,null,null,null,null,null,null,""]
[null,null,null,null,null,null,null,null,null,null,null,null,null,null,null,null,null,null,null,null,""]
[null,null,null,null,null,null,null,null,null,null,null,null,null,null,null,null,null,null,null,null,""]
[null,null,null,"NazwaJedn",null,"IDJedn",null,null,null,null,null,null,null,null,null,null,null,null,null,null,""]
[null,null,null,"Komenda Miejska Policji w Łodzi","KMP1241","Łódź",null,null,null,null,null,null,null,null,null,null,null,null,null,null,""]
[null,null,null,"Komenda Miejska Policji w Piotrkowie Trybunalskim","KMP1255","Piotrków Trybunalski",null,null,null,null,null,null,null,null,null,null,null,null,null,null,""]
[null,null,null,"Komenda Miejska Policji w Skierniewicach","KMP1256","Skierniewice",null,null,null,null,null,null,null,null,null,null,null,null,null,null,""]
[null,null,null,"Komenda Powiatowa Policji Łódź-Wschód","KPP1218","Koluszki",null,null,null,null,null,null,null,null,null,null,null,null,null,null,""]
[null,null,null,"Komenda Powiatowa Policji w Bełchatowie","KPP1201","Bełchatów",null,null,null,null,null,null,null,null,null,null,null,null,null,null,""]
[null,null,null,"Komenda Powiatowa Policji w Brzezinach","KPP1219","Brzeziny",null,null,null,null,null,null,null,null,null,null,null,null,null,null,""]
[null,null,null,"Komenda Powiatowa Policji w Kutnie","KPP1202","Kutno",null,null,null,null,null,null,null,null,null,null,null,null,null,null,""]
[null,null,null,"Komenda Powiatowa Policji w Łasku","KPP1203","Łask",null,null,null,null,null,null,null,null,null,null,null,null,null,null,{"$f":"CONCATENATE(S209,T209)","v":""}]
[null,null,null,"Komenda Powiatowa Policji w Łęczycy","KPP1204","Łęczyca",null,null,null,null,null,null,null,null,null,null,null,null,null,null,""]
[null,null,null,"Komenda Powiatowa Policji w Łowiczu","KPP1205","Łowicz",null,null,null,null,null,null,null,null,null,null,null,null,null,null,""]
[null,null,null,"Komenda Powiatowa Policji w Opocznie","KPP1206","Opoczno",null,null,null,null,null,null,null,null,null,null,null,null,null,null,""]
[null,null,null,"Komenda Powiatowa Policji w Pabianicach","KPP1207","Pabianice",null,null,null,null,null,null,null,null,null,null,null,null,null,null,""]
[null,null,null,"Komenda Powiatowa Policji w Pajęcznie","KPP1208","Pajęczno",null,null,null,null,null,null,null,null,null,null,null,null,null,null,""]
[null,null,null,"Komenda Powiatowa Policji w Poddębicach","KPP1209","Poddębice",null,null,null,null,null,null,null,null,null,null,null,null,null,null,""]
[null,null,null,"Komenda Powiatowa Policji w Radomsku","KPP1210","Radomsko",null,null,null,null,null,null,null,null,null,null,null,null,null,null,""]
[null,null,null,"Komenda Powiatowa Policji w Rawie Mazowieckiej","KPP1211","Rawa Mazowiecka",null,null,null,null,null,null,null,null,null,null,null,null,null,null,""]
[null,null,null,"Komenda Powiatowa Policji w Sieradzu","KPP1212","Sieradz",null,null,null,null,null,null,null,null,null,null,null,null,null,null,""]
[null,null,null,"Komenda Powiatowa Policji w Tomaszowie Mazowieckim","KPP1213","Tomaszów Mazowiecki",null,null,null,null,null,null,null,null,null,null,null,null,null,null,""]
[null,null,null,"Komenda Powiatowa Policji w Wieluniu","KPP1214","Wieluń",null,null,null,null,null,null,null,null,null,null,null,null,null,null,""]
[null,null,null,"Komenda Powiatowa Policji w Wieruszowie","KPP1215","Wieruszów",null,null,null,null,null,null,null,null,null,null,null,null,null,null,""]
[null,null,null,"Komenda Powiatowa Policji w Zduńskiej Woli","KPP1216","Zduńska Wola",null,null,null,null,null,null,null,null,null,null,null,null,null,null,""]
[null,null,null,"Komenda Powiatowa Policji w Zgierzu","KPP1217","Zgierz",null,null,null,null,null,null,null,null,null,null,null,null,null,null,""]
[null,null,null,"Wydział Kadr i Szkolenia KWP w Łodzi","KWP1209","Łódź",null,null,null,null,null,null,null,null,null,null,null,null,null,null,""]
[null,null,null,null,null,null,null,null,null,null,null,null,null,null,null,null,null,null,null,null,""]
[null,null,null,null,null,null,null,null,null,null,null,null,null,null,null,null,null,null,null,null,""]

{"sheet":"Wydruk spisu","index":1,"n_rows":145,"n_cols":12,"rows_kept":145,"cut":false,"hidden":false,"merged":[[18,9,21,9],[128,1,128,4],[133,1,133,4],[129,1,129,4],[134,1,134,4],[141,0,141,1],[140,0,140,1],[140,2,140,3],[141,2,141,3],[16,5,16,6],[123,0,123,6],[18,7,21,7],[19,2,21,2],[18,0,21,0],[18,1,18,2],[19,1,20,1],[7,8,7,9],[5,2,5,3],[15,5,15,6],[2,0,2,3],[0,0,1,3],[9,6,9,7],[134,6,134,9],[128,6,128,9],[133,6,133,9],[18,3,21,3],[18,4,18,5],[19,4,21,4],[18,6,21,6],[18,8,21,8],[19,5,21,5],[129,6,129,9]]}
[{"$f":"'Edycja spisu'!F15","v":"Wydział Kadr i Szkolenia KWP w Łodzi"},null,null,null,null,null,null,{"$f":"'Edycja spisu'!F17","v":"Łódź"},", dnia",{"$f":"'Edycja spisu'!F19","v":"00:00:00"}]
[]
["_____________________________"]
[null,"(Nazwa komórki organizacyjnej)",null,null,null,null,null,null,"Egz. nr ........."]
[]
[null,"L. dz. ",{"$f":"'Edycja spisu'!F18","v":0}]
[]
[null,null,null,null,null,"S P I S",null,null,null,null,null,2020]
[null,null,null,null,null,null,null,null,null,null,null,2007]
[null,null,null,null,null,"akt przekazanych Nr   "]
[null,null,null,null,null,null,"(nadaje archiwum)"]
[]
[null,null,null,null,"do     ",{"$f":"'Edycja spisu'!F20","v":"Archiwum KWP w Łodzi"}]
[]
[]
[null,null,null,null,"dnia"]
[null,null,null,null,null,"(wpisuje archiwum)"]
[]
["L.p.","Symbol teczki wg",null,"Tytuł teczki","Daty skrajne",null,"Ilość teczek","Kategoria","Nr i data protokołu brakowania lub przekazania","Uwagi"]
[null,"wykazu akt","opisu",null,"początkowa","końcowa"]
[]
[null,2020]
[{"$f":"'Edycja spisu'!A24","v":1},{"$f":"'Edycja spisu'!B24","v":"1200"},{"$f":"'Edycja spisu'!D24","v":0},{"$f":"'Edycja spisu'!V24","v":" , imię ojca - , ur."},{"$f":"'Edycja spisu'!K24","v":"00:00:00"},{"$f":"'Edycja spisu'!L24","v":"00:00:00"},{"$f":"'Edycja spisu'!M24","v":0},{"$f":"'Edycja spisu'!N24","v":"BE60-E"},null,{"$f":"'Edycja spisu'!O24","v":0}]
[{"$f":"'Edycja spisu'!A25","v":2},{"$f":"'Edycja spisu'!B25","v":"1200"},{"$f":"'Edycja spisu'!D25","v":0},{"$f":"'Edycja spisu'!V25","v":" , i.o. - , ur."},{"$f":"'Edycja spisu'!K25","v":"00:00:00"},{"$f":"'Edycja spisu'!L25","v":"00:00:00"},{"$f":"'Edycja spisu'!M25","v":0},{"$f":"'Edycja spisu'!N25","v":"BE60-E"},null,{"$f":"'Edycja spisu'!O25","v":0}]
[{"$f":"'Edycja spisu'!A26","v":3},{"$f":"'Edycja spisu'!B26","v":"1200"},{"$f":"'Edycja spisu'!D26","v":0},{"$f":"'Edycja spisu'!V26","v":" , i.o. - , ur."},{"$f":"'Edycja spisu'!K26","v":"00:00:00"},{"$f":"'Edycja spisu'!L26","v":"00:00:00"},{"$f":"'Edycja spisu'!M26","v":0},{"$f":"'Edycja spisu'!N26","v":"BE60-E"},null,{"$f":"'Edycja spisu'!O26","v":0}]
[{"$f":"'Edycja spisu'!A27","v":4},{"$f":"'Edycja spisu'!B27","v":"1200"},{"$f":"'Edycja spisu'!D27","v":0},{"$f":"'Edycja spisu'!V27","v":" , i.o. - , ur."},{"$f":"'Edycja spisu'!K27","v":"00:00:00"},{"$f":"'Edycja spisu'!L27","v":"00:00:00"},{"$f":"'Edycja spisu'!M27","v":0},{"$f":"'Edycja spisu'!N27","v":"BE60-E"},null,{"$f":"'Edycja spisu'!O27","v":0}]
[{"$f":"'Edycja spisu'!A28","v":5},{"$f":"'Edycja spisu'!B28","v":"1200"},{"$f":"'Edycja spisu'!D28","v":0},{"$f":"'Edycja spisu'!V28","v":" , i.o. - , ur."},{"$f":"'Edycja spisu'!K28","v":"00:00:00"},{"$f":"'Edycja spisu'!L28","v":"00:00:00"},{"$f":"'Edycja spisu'!M28","v":0},{"$f":"'Edycja spisu'!N28","v":"BE60-E"},null,{"$f":"'Edycja spisu'!O28","v":0}]
[{"$f":"'Edycja spisu'!A29","v":6},{"$f":"'Edycja spisu'!B29","v":"1200"},{"$f":"'Edycja spisu'!D29","v":0},{"$f":"'Edycja spisu'!V29","v":" , i.o. - , ur."},{"$f":"'Edycja spisu'!K29","v":"00:00:00"},{"$f":"'Edycja spisu'!L29","v":"00:00:00"},{"$f":"'Edycja spisu'!M29","v":0},{"$f":"'Edycja spisu'!N29","v":"BE60-E"},null,{"$f":"'Edycja spisu'!O29","v":0}]
[{"$f":"'Edycja spisu'!A30","v":7},{"$f":"'Edycja spisu'!B30","v":"1200"},{"$f":"'Edycja spisu'!D30","v":0},{"$f":"'Edycja spisu'!V30","v":" , i.o. - , ur."},{"$f":"'Edycja spisu'!K30","v":"00:00:00"},{"$f":"'Edycja spisu'!L30","v":"00:00:00"},{"$f":"'Edycja spisu'!M30","v":0},{"$f":"'Edycja spisu'!N30","v":"BE60-E"},null,{"$f":"'Edycja spisu'!O30","v":0}]
[{"$f":"'Edycja spisu'!A31","v":8},{"$f":"'Edycja spisu'!B31","v":"1200"},{"$f":"'Edycja spisu'!D31","v":0},{"$f":"'Edycja spisu'!V31","v":" , i.o. - , ur."},{"$f":"'Edycja spisu'!K31","v":"00:00:00"},{"$f":"'Edycja spisu'!L31","v":"00:00:00"},{"$f":"'Edycja spisu'!M31","v":0},{"$f":"'Edycja spisu'!N31","v":"BE60-E"},null,{"$f":"'Edycja spisu'!O31","v":0}]
[{"$f":"'Edycja spisu'!A32","v":9},{"$f":"'Edycja spisu'!B32","v":"1200"},{"$f":"'Edycja spisu'!D32","v":0},{"$f":"'Edycja spisu'!V32","v":" , i.o. - , ur."},{"$f":"'Edycja spisu'!K32","v":"00:00:00"},{"$f":"'Edycja spisu'!L32","v":"00:00:00"},{"$f":"'Edycja spisu'!M32","v":0},{"$f":"'Edycja spisu'!N32","v":"BE60-E"},null,{"$f":"'Edycja spisu'!O32","v":0}]
[{"$f":"'Edycja spisu'!A33","v":10},{"$f":"'Edycja spisu'!B33","v":"1200"},{"$f":"'Edycja spisu'!D33","v":0},{"$f":"'Edycja spisu'!V33","v":" , i.o. - , ur."},{"$f":"'Edycja spisu'!K33","v":"00:00:00"},{"$f":"'Edycja spisu'!L33","v":"00:00:00"},{"$f":"'Edycja spisu'!M33","v":0},{"$f":"'Edycja spisu'!N33","v":"BE60-E"},null,{"$f":"'Edycja spisu'!O33","v":0}]
[{"$f":"'Edycja spisu'!A34","v":11},{"$f":"'Edycja spisu'!B34","v":"1200"},{"$f":"'Edycja spisu'!D34","v":0},{"$f":"'Edycja spisu'!V34","v":" , i.o. - , ur."},{"$f":"'Edycja spisu'!K34","v":"00:00:00"},{"$f":"'Edycja spisu'!L34","v":"00:00:00"},{"$f":"'Edycja spisu'!M34","v":0},{"$f":"'Edycja spisu'!N34","v":"BE60-E"},null,{"$f":"'Edycja spisu'!O34","v":0}]
[{"$f":"'Edycja spisu'!A35","v":12},{"$f":"'Edycja spisu'!B35","v":"1200"},{"$f":"'Edycja spisu'!D35","v":0},{"$f":"'Edycja spisu'!V35","v":" , i.o. - , ur."},{"$f":"'Edycja spisu'!K35","v":"00:00:00"},{"$f":"'Edycja spisu'!L35","v":"00:00:00"},{"$f":"'Edycja spisu'!M35","v":0},{"$f":"'Edycja spisu'!N35","v":"BE60-E"},null,{"$f":"'Edycja spisu'!O35","v":0}]
[{"$f":"'Edycja spisu'!A36","v":13},{"$f":"'Edycja spisu'!B36","v":"1200"},{"$f":"'Edycja spisu'!D36","v":0},{"$f":"'Edycja spisu'!V36","v":" , i.o. - , ur."},{"$f":"'Edycja spisu'!K36","v":"00:00:00"},{"$f":"'Edycja spisu'!L36","v":"00:00:00"},{"$f":"'Edycja spisu'!M36","v":0},{"$f":"'Edycja spisu'!N36","v":"BE60-E"},null,{"$f":"'Edycja spisu'!O36","v":0}]
[{"$f":"'Edycja spisu'!A37","v":14},{"$f":"'Edycja spisu'!B37","v":"1200"},{"$f":"'Edycja spisu'!D37","v":0},{"$f":"'Edycja spisu'!V37","v":" , i.o. - , ur."},{"$f":"'Edycja spisu'!K37","v":"00:00:00"},{"$f":"'Edycja spisu'!L37","v":"00:00:00"},{"$f":"'Edycja spisu'!M37","v":0},{"$f":"'Edycja spisu'!N37","v":"BE60-E"},null,{"$f":"'Edycja spisu'!O37","v":0}]
[{"$f":"'Edycja spisu'!A38","v":15},{"$f":"'Edycja spisu'!B38","v":"1200"},{"$f":"'Edycja spisu'!D38","v":0},{"$f":"'Edycja spisu'!V38","v":" , i.o. - , ur."},{"$f":"'Edycja spisu'!K38","v":"00:00:00"},{"$f":"'Edycja spisu'!L38","v":"00:00:00"},{"$f":"'Edycja spisu'!M38","v":0},{"$f":"'Edycja spisu'!N38","v":"BE60-E"},null,{"$f":"'Edycja spisu'!O38","v":0}]
[{"$f":"'Edycja spisu'!A39","v":16},{"$f":"'Edycja spisu'!B39","v":"1200"},{"$f":"'Edycja spisu'!D39","v":0},{"$f":"'Edycja spisu'!V39","v":" , i.o. - , ur."},{"$f":"'Edycja spisu'!K39","v":"00:00:00"},{"$f":"'Edycja spisu'!L39","v":"00:00:00"},{"$f":"'Edycja spisu'!M39","v":0},{"$f":"'Edycja spisu'!N39","v":"BE60-E"},null,{"$f":"'Edycja spisu'!O39","v":0}]
[{"$f":"'Edycja spisu'!A40","v":17},{"$f":"'Edycja spisu'!B40","v":"1200"},{"$f":"'Edycja spisu'!D40","v":0},{"$f":"'Edycja spisu'!V40","v":" , i.o. - , ur."},{"$f":"'Edycja spisu'!K40","v":"00:00:00"},{"$f":"'Edycja spisu'!L40","v":"00:00:00"},{"$f":"'Edycja spisu'!M40","v":0},{"$f":"'Edycja spisu'!N40","v":"BE60-E"},null,{"$f":"'Edycja spisu'!O40","v":0}]
[{"$f":"'Edycja spisu'!A41","v":18},{"$f":"'Edycja spisu'!B41","v":"1200"},{"$f":"'Edycja spisu'!D41","v":0},{"$f":"'Edycja spisu'!V41","v":" , i.o. - , ur."},{"$f":"'Edycja spisu'!K41","v":"00:00:00"},{"$f":"'Edycja spisu'!L41","v":"00:00:00"},{"$f":"'Edycja spisu'!M41","v":0},{"$f":"'Edycja spisu'!N41","v":"BE60-E"},null,{"$f":"'Edycja spisu'!O41","v":0}]
[{"$f":"'Edycja spisu'!A42","v":19},{"$f":"'Edycja spisu'!B42","v":"1200"},{"$f":"'Edycja spisu'!D42","v":0},{"$f":"'Edycja spisu'!V42","v":" , i.o. - , ur."},{"$f":"'Edycja spisu'!K42","v":"00:00:00"},{"$f":"'Edycja spisu'!L42","v":"00:00:00"},{"$f":"'Edycja spisu'!M42","v":0},{"$f":"'Edycja spisu'!N42","v":"BE60-E"},null,{"$f":"'Edycja spisu'!O42","v":0}]
[{"$f":"'Edycja spisu'!A43","v":20},{"$f":"'Edycja spisu'!B43","v":"1200"},{"$f":"'Edycja spisu'!D43","v":0},{"$f":"'Edycja spisu'!V43","v":" , i.o. - , ur."},{"$f":"'Edycja spisu'!K43","v":"00:00:00"},{"$f":"'Edycja spisu'!L43","v":"00:00:00"},{"$f":"'Edycja spisu'!M43","v":0},{"$f":"'Edycja spisu'!N43","v":"BE60-E"},null,{"$f":"'Edycja spisu'!O43","v":0}]
[{"$f":"'Edycja spisu'!A44","v":21},{"$f":"'Edycja spisu'!B44","v":"1200"},{"$f":"'Edycja spisu'!D44","v":0},{"$f":"'Edycja spisu'!V44","v":" , i.o. - , ur."},{"$f":"'Edycja spisu'!K44","v":"00:00:00"},{"$f":"'Edycja spisu'!L44","v":"00:00:00"},{"$f":"'Edycja spisu'!M44","v":0},{"$f":"'Edycja spisu'!N44","v":"BE60-E"},null,{"$f":"'Edycja spisu'!O44","v":0}]
[{"$f":"'Edycja spisu'!A45","v":22},{"$f":"'Edycja spisu'!B45","v":"1200"},{"$f":"'Edycja spisu'!D45","v":0},{"$f":"'Edycja spisu'!V45","v":" , i.o. - , ur."},{"$f":"'Edycja spisu'!K45","v":"00:00:00"},{"$f":"'Edycja spisu'!L45","v":"00:00:00"},{"$f":"'Edycja spisu'!M45","v":0},{"$f":"'Edycja spisu'!N45","v":"BE60-E"},null,{"$f":"'Edycja spisu'!O45","v":0}]
[{"$f":"'Edycja spisu'!A46","v":23},{"$f":"'Edycja spisu'!B46","v":"1200"},{"$f":"'Edycja spisu'!D46","v":0},{"$f":"'Edycja spisu'!V46","v":" , i.o. - , ur."},{"$f":"'Edycja spisu'!K46","v":"00:00:00"},{"$f":"'Edycja spisu'!L46","v":"00:00:00"},{"$f":"'Edycja spisu'!M46","v":0},{"$f":"'Edycja spisu'!N46","v":"BE60-E"},null,{"$f":"'Edycja spisu'!O46","v":0}]
[{"$f":"'Edycja spisu'!A47","v":24},{"$f":"'Edycja spisu'!B47","v":"1200"},{"$f":"'Edycja spisu'!D47","v":0},{"$f":"'Edycja spisu'!V47","v":" , i.o. - , ur."},{"$f":"'Edycja spisu'!K47","v":"00:00:00"},{"$f":"'Edycja spisu'!L47","v":"00:00:00"},{"$f":"'Edycja spisu'!M47","v":0},{"$f":"'Edycja spisu'!N47","v":"BE60-E"},null,{"$f":"'Edycja spisu'!O47","v":0}]
[{"$f":"'Edycja spisu'!A48","v":25},{"$f":"'Edycja spisu'!B48","v":"1200"},{"$f":"'Edycja spisu'!D48","v":0},{"$f":"'Edycja spisu'!V48","v":" , i.o. - , ur."},{"$f":"'Edycja spisu'!K48","v":"00:00:00"},{"$f":"'Edycja spisu'!L48","v":"00:00:00"},{"$f":"'Edycja spisu'!M48","v":0},{"$f":"'Edycja spisu'!N48","v":"BE60-E"},null,{"$f":"'Edycja spisu'!O48","v":0}]
[{"$f":"'Edycja spisu'!A49","v":26},{"$f":"'Edycja spisu'!B49","v":"1200"},{"$f":"'Edycja spisu'!D49","v":0},{"$f":"'Edycja spisu'!V49","v":" , i.o. - , ur."},{"$f":"'Edycja spisu'!K49","v":"00:00:00"},{"$f":"'Edycja spisu'!L49","v":"00:00:00"},{"$f":"'Edycja spisu'!M49","v":0},{"$f":"'Edycja spisu'!N49","v":"BE60-E"},null,{"$f":"'Edycja spisu'!O49","v":0}]
[{"$f":"'Edycja spisu'!A50","v":27},{"$f":"'Edycja spisu'!B50","v":"1200"},{"$f":"'Edycja spisu'!D50","v":0},{"$f":"'Edycja spisu'!V50","v":" , i.o. - , ur."},{"$f":"'Edycja spisu'!K50","v":"00:00:00"},{"$f":"'Edycja spisu'!L50","v":"00:00:00"},{"$f":"'Edycja spisu'!M50","v":0},{"$f":"'Edycja spisu'!N50","v":"BE60-E"},null,{"$f":"'Edycja spisu'!O50","v":0}]
[{"$f":"'Edycja spisu'!A51","v":28},{"$f":"'Edycja spisu'!B51","v":"1200"},{"$f":"'Edycja spisu'!D51","v":0},{"$f":"'Edycja spisu'!V51","v":" , i.o. - , ur."},{"$f":"'Edycja spisu'!K51","v":"00:00:00"},{"$f":"'Edycja spisu'!L51","v":"00:00:00"},{"$f":"'Edycja spisu'!M51","v":0},{"$f":"'Edycja spisu'!N51","v":"BE60-E"},null,{"$f":"'Edycja spisu'!O51","v":0}]
[{"$f":"'Edycja spisu'!A52","v":29},{"$f":"'Edycja spisu'!B52","v":"1200"},{"$f":"'Edycja spisu'!D52","v":0},{"$f":"'Edycja spisu'!V52","v":" , i.o. - , ur."},{"$f":"'Edycja spisu'!K52","v":"00:00:00"},{"$f":"'Edycja spisu'!L52","v":"00:00:00"},{"$f":"'Edycja spisu'!M52","v":0},{"$f":"'Edycja spisu'!N52","v":"BE60-E"},null,{"$f":"'Edycja spisu'!O52","v":0}]
[{"$f":"'Edycja spisu'!A53","v":30},{"$f":"'Edycja spisu'!B53","v":"1200"},{"$f":"'Edycja spisu'!D53","v":0},{"$f":"'Edycja spisu'!V53","v":" , i.o. - , ur."},{"$f":"'Edycja spisu'!K53","v":"00:00:00"},{"$f":"'Edycja spisu'!L53","v":"00:00:00"},{"$f":"'Edycja spisu'!M53","v":0},{"$f":"'Edycja spisu'!N53","v":"BE60-E"},null,{"$f":"'Edycja spisu'!O53","v":0}]
[{"$f":"'Edycja spisu'!A54","v":31},{"$f":"'Edycja spisu'!B54","v":"1200"},{"$f":"'Edycja spisu'!D54","v":0},{"$f":"'Edycja spisu'!V54","v":" , i.o. - , ur."},{"$f":"'Edycja spisu'!K54","v":"00:00:00"},{"$f":"'Edycja spisu'!L54","v":"00:00:00"},{"$f":"'Edycja spisu'!M54","v":0},{"$f":"'Edycja spisu'!N54","v":"BE60-E"},null,{"$f":"'Edycja spisu'!O54","v":0}]
[{"$f":"'Edycja spisu'!A55","v":32},{"$f":"'Edycja spisu'!B55","v":"1200"},{"$f":"'Edycja spisu'!D55","v":0},{"$f":"'Edycja spisu'!V55","v":" , i.o. - , ur."},{"$f":"'Edycja spisu'!K55","v":"00:00:00"},{"$f":"'Edycja spisu'!L55","v":"00:00:00"},{"$f":"'Edycja spisu'!M55","v":0},{"$f":"'Edycja spisu'!N55","v":"BE60-E"},null,{"$f":"'Edycja spisu'!O55","v":0}]
[{"$f":"'Edycja spisu'!A56","v":33},{"$f":"'Edycja spisu'!B56","v":"1200"},{"$f":"'Edycja spisu'!D56","v":0},{"$f":"'Edycja spisu'!V56","v":" , i.o. - , ur."},{"$f":"'Edycja spisu'!K56","v":"00:00:00"},{"$f":"'Edycja spisu'!L56","v":"00:00:00"},{"$f":"'Edycja spisu'!M56","v":0},{"$f":"'Edycja spisu'!N56","v":"BE60-E"},null,{"$f":"'Edycja spisu'!O56","v":0}]
[{"$f":"'Edycja spisu'!A57","v":34},{"$f":"'Edycja spisu'!B57","v":"1200"},{"$f":"'Edycja spisu'!D57","v":0},{"$f":"'Edycja spisu'!V57","v":" , i.o. - , ur."},{"$f":"'Edycja spisu'!K57","v":"00:00:00"},{"$f":"'Edycja spisu'!L57","v":"00:00:00"},{"$f":"'Edycja spisu'!M57","v":0},{"$f":"'Edycja spisu'!N57","v":"BE60-E"},null,{"$f":"'Edycja spisu'!O57","v":0}]
[{"$f":"'Edycja spisu'!A58","v":35},{"$f":"'Edycja spisu'!B58","v":"1200"},{"$f":"'Edycja spisu'!D58","v":0},{"$f":"'Edycja spisu'!V58","v":" , i.o. - , ur."},{"$f":"'Edycja spisu'!K58","v":"00:00:00"},{"$f":"'Edycja spisu'!L58","v":"00:00:00"},{"$f":"'Edycja spisu'!M58","v":0},{"$f":"'Edycja spisu'!N58","v":"BE60-E"},null,{"$f":"'Edycja spisu'!O58","v":0}]
[{"$f":"'Edycja spisu'!A59","v":36},{"$f":"'Edycja spisu'!B59","v":"1200"},{"$f":"'Edycja spisu'!D59","v":0},{"$f":"'Edycja spisu'!V59","v":" , i.o. - , ur."},{"$f":"'Edycja spisu'!K59","v":"00:00:00"},{"$f":"'Edycja spisu'!L59","v":"00:00:00"},{"$f":"'Edycja spisu'!M59","v":0},{"$f":"'Edycja spisu'!N59","v":"BE60-E"},null,{"$f":"'Edycja spisu'!O59","v":0}]
[{"$f":"'Edycja spisu'!A60","v":37},{"$f":"'Edycja spisu'!B60","v":"1200"},{"$f":"'Edycja spisu'!D60","v":0},{"$f":"'Edycja spisu'!V60","v":" , i.o. - , ur."},{"$f":"'Edycja spisu'!K60","v":"00:00:00"},{"$f":"'Edycja spisu'!L60","v":"00:00:00"},{"$f":"'Edycja spisu'!M60","v":0},{"$f":"'Edycja spisu'!N60","v":"BE60-E"},null,{"$f":"'Edycja spisu'!O60","v":0}]
[{"$f":"'Edycja spisu'!A61","v":38},{"$f":"'Edycja spisu'!B61","v":"1200"},{"$f":"'Edycja spisu'!D61","v":0},{"$f":"'Edycja spisu'!V61","v":" , i.o. - , ur."},{"$f":"'Edycja spisu'!K61","v":"00:00:00"},{"$f":"'Edycja spisu'!L61","v":"00:00:00"},{"$f":"'Edycja spisu'!M61","v":0},{"$f":"'Edycja spisu'!N61","v":"BE60-E"},null,{"$f":"'Edycja spisu'!O61","v":0}]
[{"$f":"'Edycja spisu'!A62","v":39},{"$f":"'Edycja spisu'!B62","v":"1200"},{"$f":"'Edycja spisu'!D62","v":0},{"$f":"'Edycja spisu'!V62","v":" , i.o. - , ur."},{"$f":"'Edycja spisu'!K62","v":"00:00:00"},{"$f":"'Edycja spisu'!L62","v":"00:00:00"},{"$f":"'Edycja spisu'!M62","v":0},{"$f":"'Edycja spisu'!N62","v":"BE60-E"},null,{"$f":"'Edycja spisu'!O62","v":0}]
[{"$f":"'Edycja spisu'!A63","v":40},{"$f":"'Edycja spisu'!B63","v":"1200"},{"$f":"'Edycja spisu'!D63","v":0},{"$f":"'Edycja spisu'!V63","v":" , i.o. - , ur."},{"$f":"'Edycja spisu'!K63","v":"00:00:00"},{"$f":"'Edycja spisu'!L63","v":"00:00:00"},{"$f":"'Edycja spisu'!M63","v":0},{"$f":"'Edycja spisu'!N63","v":"BE60-E"},null,{"$f":"'Edycja spisu'!O63","v":0}]
[{"$f":"'Edycja spisu'!A64","v":41},{"$f":"'Edycja spisu'!B64","v":"1200"},{"$f":"'Edycja spisu'!D64","v":0},{"$f":"'Edycja spisu'!V64","v":" , i.o. - , ur."},{"$f":"'Edycja spisu'!K64","v":"00:00:00"},{"$f":"'Edycja spisu'!L64","v":"00:00:00"},{"$f":"'Edycja spisu'!M64","v":0},{"$f":"'Edycja spisu'!N64","v":"BE60-E"},null,{"$f":"'Edycja spisu'!O64","v":0}]
[{"$f":"'Edycja spisu'!A65","v":42},{"$f":"'Edycja spisu'!B65","v":"1200"},{"$f":"'Edycja spisu'!D65","v":0},{"$f":"'Edycja spisu'!V65","v":" , i.o. - , ur."},{"$f":"'Edycja spisu'!K65","v":"00:00:00"},{"$f":"'Edycja spisu'!L65","v":"00:00:00"},{"$f":"'Edycja spisu'!M65","v":0},{"$f":"'Edycja spisu'!N65","v":"BE60-E"},null,{"$f":"'Edycja spisu'!O65","v":0}]
[{"$f":"'Edycja spisu'!A66","v":43},{"$f":"'Edycja spisu'!B66","v":"1200"},{"$f":"'Edycja spisu'!D66","v":0},{"$f":"'Edycja spisu'!V66","v":" , i.o. - , ur."},{"$f":"'Edycja spisu'!K66","v":"00:00:00"},{"$f":"'Edycja spisu'!L66","v":"00:00:00"},{"$f":"'Edycja spisu'!M66","v":0},{"$f":"'Edycja spisu'!N66","v":"BE60-E"},null,{"$f":"'Edycja spisu'!O66","v":0}]
[{"$f":"'Edycja spisu'!A67","v":44},{"$f":"'Edycja spisu'!B67","v":"1200"},{"$f":"'Edycja spisu'!D67","v":0},{"$f":"'Edycja spisu'!V67","v":" , i.o. - , ur."},{"$f":"'Edycja spisu'!K67","v":"00:00:00"},{"$f":"'Edycja spisu'!L67","v":"00:00:00"},{"$f":"'Edycja spisu'!M67","v":0},{"$f":"'Edycja spisu'!N67","v":"BE60-E"},null,{"$f":"'Edycja spisu'!O67","v":0}]
[{"$f":"'Edycja spisu'!A68","v":45},{"$f":"'Edycja spisu'!B68","v":"1200"},{"$f":"'Edycja spisu'!D68","v":0},{"$f":"'Edycja spisu'!V68","v":" , i.o. - , ur."},{"$f":"'Edycja spisu'!K68","v":"00:00:00"},{"$f":"'Edycja spisu'!L68","v":"00:00:00"},{"$f":"'Edycja spisu'!M68","v":0},{"$f":"'Edycja spisu'!N68","v":"BE60-E"},null,{"$f":"'Edycja spisu'!O68","v":0}]
[{"$f":"'Edycja spisu'!A69","v":46},{"$f":"'Edycja spisu'!B69","v":"1200"},{"$f":"'Edycja spisu'!D69","v":0},{"$f":"'Edycja spisu'!V69","v":" , i.o. - , ur."},{"$f":"'Edycja spisu'!K69","v":"00:00:00"},{"$f":"'Edycja spisu'!L69","v":"00:00:00"},{"$f":"'Edycja spisu'!M69","v":0},{"$f":"'Edycja spisu'!N69","v":"BE60-E"},null,{"$f":"'Edycja spisu'!O69","v":0}]
[{"$f":"'Edycja spisu'!A70","v":47},{"$f":"'Edycja spisu'!B70","v":"1200"},{"$f":"'Edycja spisu'!D70","v":0},{"$f":"'Edycja spisu'!V70","v":" , i.o. - , ur."},{"$f":"'Edycja spisu'!K70","v":"00:00:00"},{"$f":"'Edycja spisu'!L70","v":"00:00:00"},{"$f":"'Edycja spisu'!M70","v":0},{"$f":"'Edycja spisu'!N70","v":"BE60-E"},null,{"$f":"'Edycja spisu'!O70","v":0}]
[{"$f":"'Edycja spisu'!A71","v":48},{"$f":"'Edycja spisu'!B71","v":"1200"},{"$f":"'Edycja spisu'!D71","v":0},{"$f":"'Edycja spisu'!V71","v":" , i.o. - , ur."},{"$f":"'Edycja spisu'!K71","v":"00:00:00"},{"$f":"'Edycja spisu'!L71","v":"00:00:00"},{"$f":"'Edycja spisu'!M71","v":0},{"$f":"'Edycja spisu'!N71","v":"BE60-E"},null,{"$f":"'Edycja spisu'!O71","v":0}]
[{"$f":"'Edycja spisu'!A72","v":49},{"$f":"'Edycja spisu'!B72","v":"1200"},{"$f":"'Edycja spisu'!D72","v":0},{"$f":"'Edycja spisu'!V72","v":" , i.o. - , ur."},{"$f":"'Edycja spisu'!K72","v":"00:00:00"},{"$f":"'Edycja spisu'!L72","v":"00:00:00"},{"$f":"'Edycja spisu'!M72","v":0},{"$f":"'Edycja spisu'!N72","v":"BE60-E"},null,{"$f":"'Edycja spisu'!O72","v":0}]
[{"$f":"'Edycja spisu'!A73","v":50},{"$f":"'Edycja spisu'!B73","v":"1200"},{"$f":"'Edycja spisu'!D73","v":0},{"$f":"'Edycja spisu'!V73","v":" , i.o. - , ur."},{"$f":"'Edycja spisu'!K73","v":"00:00:00"},{"$f":"'Edycja spisu'!L73","v":"00:00:00"},{"$f":"'Edycja spisu'!M73","v":0},{"$f":"'Edycja spisu'!N73","v":"BE60-E"},null,{"$f":"'Edycja spisu'!O73","v":0}]
[{"$f":"'Edycja spisu'!A74","v":51},{"$f":"'Edycja spisu'!B74","v":"1200"},{"$f":"'Edycja spisu'!D74","v":0},{"$f":"'Edycja spisu'!V74","v":" , i.o. - , ur."},{"$f":"'Edycja spisu'!K74","v":"00:00:00"},{"$f":"'Edycja spisu'!L74","v":"00:00:00"},{"$f":"'Edycja spisu'!M74","v":0},{"$f":"'Edycja spisu'!N74","v":"BE60-E"},null,{"$f":"'Edycja spisu'!O74","v":0}]
[{"$f":"'Edycja spisu'!A75","v":52},{"$f":"'Edycja spisu'!B75","v":"1200"},{"$f":"'Edycja spisu'!D75","v":0},{"$f":"'Edycja spisu'!V75","v":" , i.o. - , ur."},{"$f":"'Edycja spisu'!K75","v":"00:00:00"},{"$f":"'Edycja spisu'!L75","v":"00:00:00"},{"$f":"'Edycja spisu'!M75","v":0},{"$f":"'Edycja spisu'!N75","v":"BE60-E"},null,{"$f":"'Edycja spisu'!O75","v":0}]
[{"$f":"'Edycja spisu'!A76","v":53},{"$f":"'Edycja spisu'!B76","v":"1200"},{"$f":"'Edycja spisu'!D76","v":0},{"$f":"'Edycja spisu'!V76","v":" , i.o. - , ur."},{"$f":"'Edycja spisu'!K76","v":"00:00:00"},{"$f":"'Edycja spisu'!L76","v":"00:00:00"},{"$f":"'Edycja spisu'!M76","v":0},{"$f":"'Edycja spisu'!N76","v":"BE60-E"},null,{"$f":"'Edycja spisu'!O76","v":0}]
[{"$f":"'Edycja spisu'!A77","v":54},{"$f":"'Edycja spisu'!B77","v":"1200"},{"$f":"'Edycja spisu'!D77","v":0},{"$f":"'Edycja spisu'!V77","v":" , i.o. - , ur."},{"$f":"'Edycja spisu'!K77","v":"00:00:00"},{"$f":"'Edycja spisu'!L77","v":"00:00:00"},{"$f":"'Edycja spisu'!M77","v":0},{"$f":"'Edycja spisu'!N77","v":"BE60-E"},null,{"$f":"'Edycja spisu'!O77","v":0}]
[{"$f":"'Edycja spisu'!A78","v":55},{"$f":"'Edycja spisu'!B78","v":"1200"},{"$f":"'Edycja spisu'!D78","v":0},{"$f":"'Edycja spisu'!V78","v":" , i.o. - , ur."},{"$f":"'Edycja spisu'!K78","v":"00:00:00"},{"$f":"'Edycja spisu'!L78","v":"00:00:00"},{"$f":"'Edycja spisu'!M78","v":0},{"$f":"'Edycja spisu'!N78","v":"BE60-E"},null,{"$f":"'Edycja spisu'!O78","v":0}]
[{"$f":"'Edycja spisu'!A79","v":56},{"$f":"'Edycja spisu'!B79","v":"1200"},{"$f":"'Edycja spisu'!D79","v":0},{"$f":"'Edycja spisu'!V79","v":" , i.o. - , ur."},{"$f":"'Edycja spisu'!K79","v":"00:00:00"},{"$f":"'Edycja spisu'!L79","v":"00:00:00"},{"$f":"'Edycja spisu'!M79","v":0},{"$f":"'Edycja spisu'!N79","v":"BE60-E"},null,{"$f":"'Edycja spisu'!O79","v":0}]
[{"$f":"'Edycja spisu'!A80","v":57},{"$f":"'Edycja spisu'!B80","v":"1200"},{"$f":"'Edycja spisu'!D80","v":0},{"$f":"'Edycja spisu'!V80","v":" , i.o. - , ur."},{"$f":"'Edycja spisu'!K80","v":"00:00:00"},{"$f":"'Edycja spisu'!L80","v":"00:00:00"},{"$f":"'Edycja spisu'!M80","v":0},{"$f":"'Edycja spisu'!N80","v":"BE60-E"},null,{"$f":"'Edycja spisu'!O80","v":0}]
[{"$f":"'Edycja spisu'!A81","v":58},{"$f":"'Edycja spisu'!B81","v":"1200"},{"$f":"'Edycja spisu'!D81","v":0},{"$f":"'Edycja spisu'!V81","v":" , i.o. - , ur."},{"$f":"'Edycja spisu'!K81","v":"00:00:00"},{"$f":"'Edycja spisu'!L81","v":"00:00:00"},{"$f":"'Edycja spisu'!M81","v":0},{"$f":"'Edycja spisu'!N81","v":"BE60-E"},null,{"$f":"'Edycja spisu'!O81","v":0}]
[{"$f":"'Edycja spisu'!A82","v":59},{"$f":"'Edycja spisu'!B82","v":"1200"},{"$f":"'Edycja spisu'!D82","v":0},{"$f":"'Edycja spisu'!V82","v":" , i.o. - , ur."},{"$f":"'Edycja spisu'!K82","v":"00:00:00"},{"$f":"'Edycja spisu'!L82","v":"00:00:00"},{"$f":"'Edycja spisu'!M82","v":0},{"$f":"'Edycja spisu'!N82","v":"BE60-E"},null,{"$f":"'Edycja spisu'!O82","v":0}]
[{"$f":"'Edycja spisu'!A83","v":60},{"$f":"'Edycja spisu'!B83","v":"1200"},{"$f":"'Edycja spisu'!D83","v":0},{"$f":"'Edycja spisu'!V83","v":" , i.o. - , ur."},{"$f":"'Edycja spisu'!K83","v":"00:00:00"},{"$f":"'Edycja spisu'!L83","v":"00:00:00"},{"$f":"'Edycja spisu'!M83","v":0},{"$f":"'Edycja spisu'!N83","v":"BE60-E"},null,{"$f":"'Edycja spisu'!O83","v":0}]
[{"$f":"'Edycja spisu'!A84","v":61},{"$f":"'Edycja spisu'!B84","v":"1200"},{"$f":"'Edycja spisu'!D84","v":0},{"$f":"'Edycja spisu'!V84","v":" , i.o. - , ur."},{"$f":"'Edycja spisu'!K84","v":"00:00:00"},{"$f":"'Edycja spisu'!L84","v":"00:00:00"},{"$f":"'Edycja spisu'!M84","v":0},{"$f":"'Edycja spisu'!N84","v":"BE60-E"},null,{"$f":"'Edycja spisu'!O84","v":0}]
[{"$f":"'Edycja spisu'!A85","v":62},{"$f":"'Edycja spisu'!B85","v":"1200"},{"$f":"'Edycja spisu'!D85","v":0},{"$f":"'Edycja spisu'!V85","v":" , i.o. - , ur."},{"$f":"'Edycja spisu'!K85","v":"00:00:00"},{"$f":"'Edycja spisu'!L85","v":"00:00:00"},{"$f":"'Edycja spisu'!M85","v":0},{"$f":"'Edycja spisu'!N85","v":"BE60-E"},null,{"$f":"'Edycja spisu'!O85","v":0}]
[{"$f":"'Edycja spisu'!A86","v":63},{"$f":"'Edycja spisu'!B86","v":"1200"},{"$f":"'Edycja spisu'!D86","v":0},{"$f":"'Edycja spisu'!V86","v":" , i.o. - , ur."},{"$f":"'Edycja spisu'!K86","v":"00:00:00"},{"$f":"'Edycja spisu'!L86","v":"00:00:00"},{"$f":"'Edycja spisu'!M86","v":0},{"$f":"'Edycja spisu'!N86","v":"BE60-E"},null,{"$f":"'Edycja spisu'!O86","v":0}]
[{"$f":"'Edycja spisu'!A87","v":64},{"$f":"'Edycja spisu'!B87","v":"1200"},{"$f":"'Edycja spisu'!D87","v":0},{"$f":"'Edycja spisu'!V87","v":" , i.o. - , ur."},{"$f":"'Edycja spisu'!K87","v":"00:00:00"},{"$f":"'Edycja spisu'!L87","v":"00:00:00"},{"$f":"'Edycja spisu'!M87","v":0},{"$f":"'Edycja spisu'!N87","v":"BE60-E"},null,{"$f":"'Edycja spisu'!O87","v":0}]
[{"$f":"'Edycja spisu'!A88","v":65},{"$f":"'Edycja spisu'!B88","v":"1200"},{"$f":"'Edycja spisu'!D88","v":0},{"$f":"'Edycja spisu'!V88","v":" , i.o. - , ur."},{"$f":"'Edycja spisu'!K88","v":"00:00:00"},{"$f":"'Edycja spisu'!L88","v":"00:00:00"},{"$f":"'Edycja spisu'!M88","v":0},{"$f":"'Edycja spisu'!N88","v":"BE60-E"},null,{"$f":"'Edycja spisu'!O88","v":0}]
[{"$f":"'Edycja spisu'!A89","v":66},{"$f":"'Edycja spisu'!B89","v":"1200"},{"$f":"'Edycja spisu'!D89","v":0},{"$f":"'Edycja spisu'!V89","v":" , i.o. - , ur."},{"$f":"'Edycja spisu'!K89","v":"00:00:00"},{"$f":"'Edycja spisu'!L89","v":"00:00:00"},{"$f":"'Edycja spisu'!M89","v":0},{"$f":"'Edycja spisu'!N89","v":"BE60-E"},null,{"$f":"'Edycja spisu'!O89","v":0}]
[{"$f":"'Edycja spisu'!A90","v":67},{"$f":"'Edycja spisu'!B90","v":"1200"},{"$f":"'Edycja spisu'!D90","v":0},{"$f":"'Edycja spisu'!V90","v":" , i.o. - , ur."},{"$f":"'Edycja spisu'!K90","v":"00:00:00"},{"$f":"'Edycja spisu'!L90","v":"00:00:00"},{"$f":"'Edycja spisu'!M90","v":0},{"$f":"'Edycja spisu'!N90","v":"BE60-E"},null,{"$f":"'Edycja spisu'!O90","v":0}]
[{"$f":"'Edycja spisu'!A91","v":68},{"$f":"'Edycja spisu'!B91","v":"1200"},{"$f":"'Edycja spisu'!D91","v":0},{"$f":"'Edycja spisu'!V91","v":" , i.o. - , ur."},{"$f":"'Edycja spisu'!K91","v":"00:00:00"},{"$f":"'Edycja spisu'!L91","v":"00:00:00"},{"$f":"'Edycja spisu'!M91","v":0},{"$f":"'Edycja spisu'!N91","v":"BE60-E"},null,{"$f":"'Edycja spisu'!O91","v":0}]
[{"$f":"'Edycja spisu'!A92","v":69},{"$f":"'Edycja spisu'!B92","v":"1200"},{"$f":"'Edycja spisu'!D92","v":0},{"$f":"'Edycja spisu'!V92","v":" , i.o. - , ur."},{"$f":"'Edycja spisu'!K92","v":"00:00:00"},{"$f":"'Edycja spisu'!L92","v":"00:00:00"},{"$f":"'Edycja spisu'!M92","v":0},{"$f":"'Edycja spisu'!N92","v":"BE60-E"},null,{"$f":"'Edycja spisu'!O92","v":0}]
[{"$f":"'Edycja spisu'!A93","v":70},{"$f":"'Edycja spisu'!B93","v":"1200"},{"$f":"'Edycja spisu'!D93","v":0},{"$f":"'Edycja spisu'!V93","v":" , i.o. - , ur."},{"$f":"'Edycja spisu'!K93","v":"00:00:00"},{"$f":"'Edycja spisu'!L93","v":"00:00:00"},{"$f":"'Edycja spisu'!M93","v":0},{"$f":"'Edycja spisu'!N93","v":"BE60-E"},null,{"$f":"'Edycja spisu'!O93","v":0}]
[{"$f":"'Edycja spisu'!A94","v":71},{"$f":"'Edycja spisu'!B94","v":"1200"},{"$f":"'Edycja spisu'!D94","v":0},{"$f":"'Edycja spisu'!V94","v":" , i.o. - , ur."},{"$f":"'Edycja spisu'!K94","v":"00:00:00"},{"$f":"'Edycja spisu'!L94","v":"00:00:00"},{"$f":"'Edycja spisu'!M94","v":0},{"$f":"'Edycja spisu'!N94","v":"BE60-E"},null,{"$f":"'Edycja spisu'!O94","v":0}]
[{"$f":"'Edycja spisu'!A95","v":72},{"$f":"'Edycja spisu'!B95","v":"1200"},{"$f":"'Edycja spisu'!D95","v":0},{"$f":"'Edycja spisu'!V95","v":" , i.o. - , ur."},{"$f":"'Edycja spisu'!K95","v":"00:00:00"},{"$f":"'Edycja spisu'!L95","v":"00:00:00"},{"$f":"'Edycja spisu'!M95","v":0},{"$f":"'Edycja spisu'!N95","v":"BE60-E"},null,{"$f":"'Edycja spisu'!O95","v":0}]
[{"$f":"'Edycja spisu'!A96","v":73},{"$f":"'Edycja spisu'!B96","v":"1200"},{"$f":"'Edycja spisu'!D96","v":0},{"$f":"'Edycja spisu'!V96","v":" , i.o. - , ur."},{"$f":"'Edycja spisu'!K96","v":"00:00:00"},{"$f":"'Edycja spisu'!L96","v":"00:00:00"},{"$f":"'Edycja spisu'!M96","v":0},{"$f":"'Edycja spisu'!N96","v":"BE60-E"},null,{"$f":"'Edycja spisu'!O96","v":0}]
[{"$f":"'Edycja spisu'!A97","v":74},{"$f":"'Edycja spisu'!B97","v":"1200"},{"$f":"'Edycja spisu'!D97","v":0},{"$f":"'Edycja spisu'!V97","v":" , i.o. - , ur."},{"$f":"'Edycja spisu'!K97","v":"00:00:00"},{"$f":"'Edycja spisu'!L97","v":"00:00:00"},{"$f":"'Edycja spisu'!M97","v":0},{"$f":"'Edycja spisu'!N97","v":"BE60-E"},null,{"$f":"'Edycja spisu'!O97","v":0}]
[{"$f":"'Edycja spisu'!A98","v":75},{"$f":"'Edycja spisu'!B98","v":"1200"},{"$f":"'Edycja spisu'!D98","v":0},{"$f":"'Edycja spisu'!V98","v":" , i.o. - , ur."},{"$f":"'Edycja spisu'!K98","v":"00:00:00"},{"$f":"'Edycja spisu'!L98","v":"00:00:00"},{"$f":"'Edycja spisu'!M98","v":0},{"$f":"'Edycja spisu'!N98","v":"BE60-E"},null,{"$f":"'Edycja spisu'!O98","v":0}]
[{"$f":"'Edycja spisu'!A99","v":76},{"$f":"'Edycja spisu'!B99","v":"1200"},{"$f":"'Edycja spisu'!D99","v":0},{"$f":"'Edycja spisu'!V99","v":" , i.o. - , ur."},{"$f":"'Edycja spisu'!K99","v":"00:00:00"},{"$f":"'Edycja spisu'!L99","v":"00:00:00"},{"$f":"'Edycja spisu'!M99","v":0},{"$f":"'Edycja spisu'!N99","v":"BE60-E"},null,{"$f":"'Edycja spisu'!O99","v":0}]
[{"$f":"'Edycja spisu'!A100","v":77},{"$f":"'Edycja spisu'!B100","v":"1200"},{"$f":"'Edycja spisu'!D100","v":0},{"$f":"'Edycja spisu'!V100","v":" , i.o. - , ur."},{"$f":"'Edycja spisu'!K100","v":"00:00:00"},{"$f":"'Edycja spisu'!L100","v":"00:00:00"},{"$f":"'Edycja spisu'!M100","v":0},{"$f":"'Edycja spisu'!N100","v":"BE60-E"},null,{"$f":"'Edycja spisu'!O100","v":0}]
[{"$f":"'Edycja spisu'!A101","v":78},{"$f":"'Edycja spisu'!B101","v":"1200"},{"$f":"'Edycja spisu'!D101","v":0},{"$f":"'Edycja spisu'!V101","v":" , i.o. - , ur."},{"$f":"'Edycja spisu'!K101","v":"00:00:00"},{"$f":"'Edycja spisu'!L101","v":"00:00:00"},{"$f":"'Edycja spisu'!M101","v":0},{"$f":"'Edycja spisu'!N101","v":"BE60-E"},null,{"$f":"'Edycja spisu'!O101","v":0}]
[{"$f":"'Edycja spisu'!A102","v":79},{"$f":"'Edycja spisu'!B102","v":"1200"},{"$f":"'Edycja spisu'!D102","v":0},{"$f":"'Edycja spisu'!V102","v":" , i.o. - , ur."},{"$f":"'Edycja spisu'!K102","v":"00:00:00"},{"$f":"'Edycja spisu'!L102","v":"00:00:00"},{"$f":"'Edycja spisu'!M102","v":0},{"$f":"'Edycja spisu'!N102","v":"BE60-E"},null,{"$f":"'Edycja spisu'!O102","v":0}]
[{"$f":"'Edycja spisu'!A103","v":80},{"$f":"'Edycja spisu'!B103","v":"1200"},{"$f":"'Edycja spisu'!D103","v":0},{"$f":"'Edycja spisu'!V103","v":" , i.o. - , ur."},{"$f":"'Edycja spisu'!K103","v":"00:00:00"},{"$f":"'Edycja spisu'!L103","v":"00:00:00"},{"$f":"'Edycja spisu'!M103","v":0},{"$f":"'Edycja spisu'!N103","v":"BE60-E"},null,{"$f":"'Edycja spisu'!O103","v":0}]
[{"$f":"'Edycja spisu'!A104","v":81},{"$f":"'Edycja spisu'!B104","v":"1200"},{"$f":"'Edycja spisu'!D104","v":0},{"$f":"'Edycja spisu'!V104","v":" , i.o. - , ur."},{"$f":"'Edycja spisu'!K104","v":"00:00:00"},{"$f":"'Edycja spisu'!L104","v":"00:00:00"},{"$f":"'Edycja spisu'!M104","v":0},{"$f":"'Edycja spisu'!N104","v":"BE60-E"},null,{"$f":"'Edycja spisu'!O104","v":0}]
[{"$f":"'Edycja spisu'!A105","v":82},{"$f":"'Edycja spisu'!B105","v":"1200"},{"$f":"'Edycja spisu'!D105","v":0},{"$f":"'Edycja spisu'!V105","v":" , i.o. - , ur."},{"$f":"'Edycja spisu'!K105","v":"00:00:00"},{"$f":"'Edycja spisu'!L105","v":"00:00:00"},{"$f":"'Edycja spisu'!M105","v":0},{"$f":"'Edycja spisu'!N105","v":"BE60-E"},null,{"$f":"'Edycja spisu'!O105","v":0}]
[{"$f":"'Edycja spisu'!A106","v":83},{"$f":"'Edycja spisu'!B106","v":"1200"},{"$f":"'Edycja spisu'!D106","v":0},{"$f":"'Edycja spisu'!V106","v":" , i.o. - , ur."},{"$f":"'Edycja spisu'!K106","v":"00:00:00"},{"$f":"'Edycja spisu'!L106","v":"00:00:00"},{"$f":"'Edycja spisu'!M106","v":0},{"$f":"'Edycja spisu'!N106","v":"BE60-E"},null,{"$f":"'Edycja spisu'!O106","v":0}]
[{"$f":"'Edycja spisu'!A107","v":84},{"$f":"'Edycja spisu'!B107","v":"1200"},{"$f":"'Edycja spisu'!D107","v":0},{"$f":"'Edycja spisu'!V107","v":" , i.o. - , ur."},{"$f":"'Edycja spisu'!K107","v":"00:00:00"},{"$f":"'Edycja spisu'!L107","v":"00:00:00"},{"$f":"'Edycja spisu'!M107","v":0},{"$f":"'Edycja spisu'!N107","v":"BE60-E"},null,{"$f":"'Edycja spisu'!O107","v":0}]
[{"$f":"'Edycja spisu'!A108","v":85},{"$f":"'Edycja spisu'!B108","v":"1200"},{"$f":"'Edycja spisu'!D108","v":0},{"$f":"'Edycja spisu'!V108","v":" , i.o. - , ur."},{"$f":"'Edycja spisu'!K108","v":"00:00:00"},{"$f":"'Edycja spisu'!L108","v":"00:00:00"},{"$f":"'Edycja spisu'!M108","v":0},{"$f":"'Edycja spisu'!N108","v":"BE60-E"},null,{"$f":"'Edycja spisu'!O108","v":0}]
[{"$f":"'Edycja spisu'!A109","v":86},{"$f":"'Edycja spisu'!B109","v":"1200"},{"$f":"'Edycja spisu'!D109","v":0},{"$f":"'Edycja spisu'!V109","v":" , i.o. - , ur."},{"$f":"'Edycja spisu'!K109","v":"00:00:00"},{"$f":"'Edycja spisu'!L109","v":"00:00:00"},{"$f":"'Edycja spisu'!M109","v":0},{"$f":"'Edycja spisu'!N109","v":"BE60-E"},null,{"$f":"'Edycja spisu'!O109","v":0}]
[{"$f":"'Edycja spisu'!A110","v":87},{"$f":"'Edycja spisu'!B110","v":"1200"},{"$f":"'Edycja spisu'!D110","v":0},{"$f":"'Edycja spisu'!V110","v":" , i.o. - , ur."},{"$f":"'Edycja spisu'!K110","v":"00:00:00"},{"$f":"'Edycja spisu'!L110","v":"00:00:00"},{"$f":"'Edycja spisu'!M110","v":0},{"$f":"'Edycja spisu'!N110","v":"BE60-E"},null,{"$f":"'Edycja spisu'!O110","v":0}]
[{"$f":"'Edycja spisu'!A111","v":88},{"$f":"'Edycja spisu'!B111","v":"1200"},{"$f":"'Edycja spisu'!D111","v":0},{"$f":"'Edycja spisu'!V111","v":" , i.o. - , ur."},{"$f":"'Edycja spisu'!K111","v":"00:00:00"},{"$f":"'Edycja spisu'!L111","v":"00:00:00"},{"$f":"'Edycja spisu'!M111","v":0},{"$f":"'Edycja spisu'!N111","v":"BE60-E"},null,{"$f":"'Edycja spisu'!O111","v":0}]
[{"$f":"'Edycja spisu'!A112","v":89},{"$f":"'Edycja spisu'!B112","v":"1200"},{"$f":"'Edycja spisu'!D112","v":0},{"$f":"'Edycja spisu'!V112","v":" , i.o. - , ur."},{"$f":"'Edycja spisu'!K112","v":"00:00:00"},{"$f":"'Edycja spisu'!L112","v":"00:00:00"},{"$f":"'Edycja spisu'!M112","v":0},{"$f":"'Edycja spisu'!N112","v":"BE60-E"},null,{"$f":"'Edycja spisu'!O112","v":0}]
[{"$f":"'Edycja spisu'!A113","v":90},{"$f":"'Edycja spisu'!B113","v":"1200"},{"$f":"'Edycja spisu'!D113","v":0},{"$f":"'Edycja spisu'!V113","v":" , i.o. - , ur."},{"$f":"'Edycja spisu'!K113","v":"00:00:00"},{"$f":"'Edycja spisu'!L113","v":"00:00:00"},{"$f":"'Edycja spisu'!M113","v":0},{"$f":"'Edycja spisu'!N113","v":"BE60-E"},null,{"$f":"'Edycja spisu'!O113","v":0}]
[{"$f":"'Edycja spisu'!A114","v":91},{"$f":"'Edycja spisu'!B114","v":"1200"},{"$f":"'Edycja spisu'!D114","v":0},{"$f":"'Edycja spisu'!V114","v":" , i.o. - , ur."},{"$f":"'Edycja spisu'!K114","v":"00:00:00"},{"$f":"'Edycja spisu'!L114","v":"00:00:00"},{"$f":"'Edycja spisu'!M114","v":0},{"$f":"'Edycja spisu'!N114","v":"BE60-E"},null,{"$f":"'Edycja spisu'!O114","v":0}]
[{"$f":"'Edycja spisu'!A115","v":92},{"$f":"'Edycja spisu'!B115","v":"1200"},{"$f":"'Edycja spisu'!D115","v":0},{"$f":"'Edycja spisu'!V115","v":" , i.o. - , ur."},{"$f":"'Edycja spisu'!K115","v":"00:00:00"},{"$f":"'Edycja spisu'!L115","v":"00:00:00"},{"$f":"'Edycja spisu'!M115","v":0},{"$f":"'Edycja spisu'!N115","v":"BE60-E"},null,{"$f":"'Edycja spisu'!O115","v":0}]
[{"$f":"'Edycja spisu'!A116","v":93},{"$f":"'Edycja spisu'!B116","v":"1200"},{"$f":"'Edycja spisu'!D116","v":0},{"$f":"'Edycja spisu'!V116","v":" , i.o. - , ur."},{"$f":"'Edycja spisu'!K116","v":"00:00:00"},{"$f":"'Edycja spisu'!L116","v":"00:00:00"},{"$f":"'Edycja spisu'!M116","v":0},{"$f":"'Edycja spisu'!N116","v":"BE60-E"},null,{"$f":"'Edycja spisu'!O116","v":0}]
[{"$f":"'Edycja spisu'!A117","v":94},{"$f":"'Edycja spisu'!B117","v":"1200"},{"$f":"'Edycja spisu'!D117","v":0},{"$f":"'Edycja spisu'!V117","v":" , i.o. - , ur."},{"$f":"'Edycja spisu'!K117","v":"00:00:00"},{"$f":"'Edycja spisu'!L117","v":"00:00:00"},{"$f":"'Edycja spisu'!M117","v":0},{"$f":"'Edycja spisu'!N117","v":"BE60-E"},null,{"$f":"'Edycja spisu'!O117","v":0}]
[{"$f":"'Edycja spisu'!A118","v":95},{"$f":"'Edycja spisu'!B118","v":"1200"},{"$f":"'Edycja spisu'!D118","v":0},{"$f":"'Edycja spisu'!V118","v":" , i.o. - , ur."},{"$f":"'Edycja spisu'!K118","v":"00:00:00"},{"$f":"'Edycja spisu'!L118","v":"00:00:00"},{"$f":"'Edycja spisu'!M118","v":0},{"$f":"'Edycja spisu'!N118","v":"BE60-E"},null,{"$f":"'Edycja spisu'!O118","v":0}]
[{"$f":"'Edycja spisu'!A119","v":96},{"$f":"'Edycja spisu'!B119","v":"1200"},{"$f":"'Edycja spisu'!D119","v":0},{"$f":"'Edycja spisu'!V119","v":" , i.o. - , ur."},{"$f":"'Edycja spisu'!K119","v":"00:00:00"},{"$f":"'Edycja spisu'!L119","v":"00:00:00"},{"$f":"'Edycja spisu'!M119","v":0},{"$f":"'Edycja spisu'!N119","v":"BE60-E"},null,{"$f":"'Edycja spisu'!O119","v":0}]
[{"$f":"'Edycja spisu'!A120","v":97},{"$f":"'Edycja spisu'!B120","v":"1200"},{"$f":"'Edycja spisu'!D120","v":0},{"$f":"'Edycja spisu'!V120","v":" , i.o. - , ur."},{"$f":"'Edycja spisu'!K120","v":"00:00:00"},{"$f":"'Edycja spisu'!L120","v":"00:00:00"},{"$f":"'Edycja spisu'!M120","v":0},{"$f":"'Edycja spisu'!N120","v":"BE60-E"},null,{"$f":"'Edycja spisu'!O120","v":0}]
[{"$f":"'Edycja spisu'!A121","v":98},{"$f":"'Edycja spisu'!B121","v":"1200"},{"$f":"'Edycja spisu'!D121","v":0},{"$f":"'Edycja spisu'!V121","v":" , i.o. - , ur."},{"$f":"'Edycja spisu'!K121","v":"00:00:00"},{"$f":"'Edycja spisu'!L121","v":"00:00:00"},{"$f":"'Edycja spisu'!M121","v":0},{"$f":"'Edycja spisu'!N121","v":"BE60-E"},null,{"$f":"'Edycja spisu'!O121","v":0}]
[{"$f":"'Edycja spisu'!A122","v":99},{"$f":"'Edycja spisu'!B122","v":"1200"},{"$f":"'Edycja spisu'!D122","v":0},{"$f":"'Edycja spisu'!V122","v":" , i.o. - , ur."},{"$f":"'Edycja spisu'!K122","v":"00:00:00"},{"$f":"'Edycja spisu'!L122","v":"00:00:00"},{"$f":"'Edycja spisu'!M122","v":0},{"$f":"'Edycja spisu'!N122","v":"BE60-E"},null,{"$f":"'Edycja spisu'!O122","v":0}]
[{"$f":"'Edycja spisu'!A123","v":100},{"$f":"'Edycja spisu'!B123","v":"1200"},{"$f":"'Edycja spisu'!D123","v":0},{"$f":"'Edycja spisu'!V123","v":" , i.o. - , ur."},{"$f":"'Edycja spisu'!K123","v":"00:00:00"},{"$f":"'Edycja spisu'!L123","v":"00:00:00"},{"$f":"'Edycja spisu'!M123","v":0},{"$f":"'Edycja spisu'!N123","v":"BE60-E"},null,{"$f":"'Edycja spisu'!O123","v":0}]
[]
[{"$f":"CONCATENATE(\"Spis zawiera \",DCOUNT(A19:D122,1,A19:A122),\" j.a., co stanowi \",SUM(G23:G122),\" teczek (teczki) oraz \",SUM(G23:G122),\" kart ewidencyjnych\")","v":"Spis zawiera 100 j.a., co stanowi 0 teczek (teczki) oraz 0 kart ewidencyjnych"}]
[]
[]
[]
[]
[null,"……………………………………………………….",null,null,null,null,".............................................................."]
[null,"(podpis osoby sporządzającej spis akt przekazanych)",null,null,null,null,"(pieczęć imienna i podpis kierownika jednostki/komórki organizacyjnej przekazującej akta)"]
[]
[]
[]
[null,"     ................................................................",null,null,null,null,".............................................................."]
[null,"(podpis archiwisty)",null,null,null,null,"(pieczęć imienna i podpis osoby kierującej archiwum)"]
[]
["Wykonano w 3 egz.:"]
["Egz. nr 1-2 - Archiwum KWP w Łodzi"]
[{"$f":"CONCATENATE(\"Egz. nr 3 - \",A1,)","v":"Egz. nr 3 - Wydział Kadr i Szkolenia KWP w Łodzi"}]
[]
["opracował:"]
["nr tel. sł."]
[]
["Przyjęto ____ pozycji"]
["co stanowi _____ teczek, ____ j.a."]

{"sheet":"EwidAktOsob","index":2,"n_rows":110,"n_cols":17,"rows_kept":110,"cut":false,"hidden":true,"merged":[]}
[null,null,null,"Jak wkleić dane z poniższego arkusza do bazy \"Akta osobowe\""]
[]
["Wypełnij dane tylko w kolumnach oznaczonych na kolorowo (pozostałe komórki wypełniane są automatycznie)."]
["Otwórz bazę \"Akta osobowe\" i w oknie bazy danych skopiuj i wklej tabelę Rejestracje, wybierając w opcji wklejania tylko struktura."]
["Nową pustą tabelę nazwij  np. SpisNr2331. W arkuszu Excella Ewidencja zaznacz wszystkie wiersze z danymi dot. osób i akt,"]
["skopiuj i wklej do otwartej (wcześniej utworzonej) pustej tabeli w bazie \"Akta osobowe\".  "]
["Jeżeli operacja wklejenia danych przebiegła bezbłędnie - zaznacz i skopiuj wszystkie rekordy do tabeli Rejestracje (najpierw otwórz tę tabelę"]
["nie zamykając tabeli, z której kopiowane są rekordy i wybierz nowy rekord jako miejsce wklejania)."]
["Po pomyślnym wklejeniu danych zamknij tabele i usuń z bazy tabelę SpisNr..."]
["L.p.","Rodzaj służby","Nazwisko","Imię1","Imię2","ImięOjca","ImięMatki","Data urodzenia","NrSpisu","PozSpisu","Archiwum","Data1","Data2","OznTwórcy","Liczba tomów","Uwagi","Związek"]
[{"$f":"'Edycja spisu'!A24","v":1},{"$f":"'Edycja spisu'!C24","v":0},{"$f":"'Edycja spisu'!E24","v":0},{"$f":"'Edycja spisu'!F24","v":0},{"$f":"'Edycja spisu'!G24","v":0},{"$f":"'Edycja spisu'!H24","v":0},{"$f":"'Edycja spisu'!I24","v":0},{"$f":"'Edycja spisu'!J24","v":0},{"$f":"'Wydruk spisu'!G10","v":0},{"$f":"'Wydruk spisu'!A23","v":1},17,{"$f":"'Edycja spisu'!K24","v":"00:00:00"},{"$f":"'Edycja spisu'!L24","v":"00:00:00"},{"$f":"'Edycja spisu'!D24","v":0},{"$f":"'Edycja spisu'!M24","v":0},{"$f":"'Edycja spisu'!O24","v":0}]
[{"$f":"'Edycja spisu'!A25","v":2},{"$f":"'Edycja spisu'!C25","v":0},{"$f":"'Edycja spisu'!E25","v":0},{"$f":"'Edycja spisu'!F25","v":0},{"$f":"'Edycja spisu'!G25","v":0},{"$f":"'Edycja spisu'!H25","v":0},{"$f":"'Edycja spisu'!I25","v":0},{"$f":"'Edycja spisu'!J25","v":0},{"$f":"I11","v":0},{"$f":"'Wydruk spisu'!A24","v":2},{"$f":"K11","v":17},{"$f":"'Edycja spisu'!K25","v":"00:00:00"},{"$f":"'Edycja spisu'!L25","v":"00:00:00"},{"$f":"'Edycja spisu'!D25","v":0},{"$f":"'Edycja spisu'!M25","v":0},{"$f":"'Edycja spisu'!O25","v":0}]
[{"$f":"'Edycja spisu'!A26","v":3},{"$f":"'Edycja spisu'!C26","v":0},{"$f":"'Edycja spisu'!E26","v":0},{"$f":"'Edycja spisu'!F26","v":0},{"$f":"'Edycja spisu'!G26","v":0},{"$f":"'Edycja spisu'!H26","v":0},{"$f":"'Edycja spisu'!I26","v":0},{"$f":"'Edycja spisu'!J26","v":0},{"$f":"I12","v":0},{"$f":"'Wydruk spisu'!A25","v":3},{"$f":"K12","v":17},{"$f":"'Edycja spisu'!K26","v":"00:00:00"},{"$f":"'Edycja spisu'!L26","v":"00:00:00"},{"$f":"'Edycja spisu'!D26","v":0},{"$f":"'Edycja spisu'!M26","v":0},{"$f":"'Edycja spisu'!O26","v":0}]
[{"$f":"'Edycja spisu'!A27","v":4},{"$f":"'Edycja spisu'!C27","v":0},{"$f":"'Edycja spisu'!E27","v":0},{"$f":"'Edycja spisu'!F27","v":0},{"$f":"'Edycja spisu'!G27","v":0},{"$f":"'Edycja spisu'!H27","v":0},{"$f":"'Edycja spisu'!I27","v":0},{"$f":"'Edycja spisu'!J27","v":0},0,{"$f":"'Wydruk spisu'!A26","v":4},17,{"$f":"'Edycja spisu'!K27","v":"00:00:00"},{"$f":"'Edycja spisu'!L27","v":"00:00:00"},{"$f":"'Edycja spisu'!D27","v":0},{"$f":"'Edycja spisu'!M27","v":0},{"$f":"'Edycja spisu'!O27","v":0}]
[{"$f":"'Edycja spisu'!A28","v":5},{"$f":"'Edycja spisu'!C28","v":0},{"$f":"'Edycja spisu'!E28","v":0},{"$f":"'Edycja spisu'!F28","v":0},{"$f":"'Edycja spisu'!G28","v":0},{"$f":"'Edycja spisu'!H28","v":0},{"$f":"'Edycja spisu'!I28","v":0},{"$f":"'Edycja spisu'!J28","v":0},0,{"$f":"'Wydruk spisu'!A27","v":5},17,{"$f":"'Edycja spisu'!K28","v":"00:00:00"},{"$f":"'Edycja spisu'!L28","v":"00:00:00"},{"$f":"'Edycja spisu'!D28","v":0},{"$f":"'Edycja spisu'!M28","v":0},{"$f":"'Edycja spisu'!O28","v":0}]
[{"$f":"'Edycja spisu'!A29","v":6},{"$f":"'Edycja spisu'!C29","v":0},{"$f":"'Edycja spisu'!E29","v":0},{"$f":"'Edycja spisu'!F29","v":0},{"$f":"'Edycja spisu'!G29","v":0},{"$f":"'Edycja spisu'!H29","v":0},{"$f":"'Edycja spisu'!I29","v":0},{"$f":"'Edycja spisu'!J29","v":0},0,{"$f":"'Wydruk spisu'!A28","v":6},17,{"$f":"'Edycja spisu'!K29","v":"00:00:00"},{"$f":"'Edycja spisu'!L29","v":"00:00:00"},{"$f":"'Edycja spisu'!D29","v":0},{"$f":"'Edycja spisu'!M29","v":0},{"$f":"'Edycja spisu'!O29","v":0}]
[{"$f":"'Edycja spisu'!A30","v":7},{"$f":"'Edycja spisu'!C30","v":0},{"$f":"'Edycja spisu'!E30","v":0},{"$f":"'Edycja spisu'!F30","v":0},{"$f":"'Edycja spisu'!G30","v":0},{"$f":"'Edycja spisu'!H30","v":0},{"$f":"'Edycja spisu'!I30","v":0},{"$f":"'Edycja spisu'!J30","v":0},0,{"$f":"'Wydruk spisu'!A29","v":7},17,{"$f":"'Edycja spisu'!K30","v":"00:00:00"},{"$f":"'Edycja spisu'!L30","v":"00:00:00"},{"$f":"'Edycja spisu'!D30","v":0},{"$f":"'Edycja spisu'!M30","v":0},{"$f":"'Edycja spisu'!O30","v":0}]
[{"$f":"'Edycja spisu'!A31","v":8},{"$f":"'Edycja spisu'!C31","v":0},{"$f":"'Edycja spisu'!E31","v":0},{"$f":"'Edycja spisu'!F31","v":0},{"$f":"'Edycja spisu'!G31","v":0},{"$f":"'Edycja spisu'!H31","v":0},{"$f":"'Edycja spisu'!I31","v":0},{"$f":"'Edycja spisu'!J31","v":0},0,{"$f":"'Wydruk spisu'!A30","v":8},17,{"$f":"'Edycja spisu'!K31","v":"00:00:00"},{"$f":"'Edycja spisu'!L31","v":"00:00:00"},{"$f":"'Edycja spisu'!D31","v":0},{"$f":"'Edycja spisu'!M31","v":0},{"$f":"'Edycja spisu'!O31","v":0}]
[{"$f":"'Edycja spisu'!A32","v":9},{"$f":"'Edycja spisu'!C32","v":0},{"$f":"'Edycja spisu'!E32","v":0},{"$f":"'Edycja spisu'!F32","v":0},{"$f":"'Edycja spisu'!G32","v":0},{"$f":"'Edycja spisu'!H32","v":0},{"$f":"'Edycja spisu'!I32","v":0},{"$f":"'Edycja spisu'!J32","v":0},0,{"$f":"'Wydruk spisu'!A31","v":9},17,{"$f":"'Edycja spisu'!K32","v":"00:00:00"},{"$f":"'Edycja spisu'!L32","v":"00:00:00"},{"$f":"'Edycja spisu'!D32","v":0},{"$f":"'Edycja spisu'!M32","v":0},{"$f":"'Edycja spisu'!O32","v":0}]
[{"$f":"'Edycja spisu'!A33","v":10},{"$f":"'Edycja spisu'!C33","v":0},{"$f":"'Edycja spisu'!E33","v":0},{"$f":"'Edycja spisu'!F33","v":0},{"$f":"'Edycja spisu'!G33","v":0},{"$f":"'Edycja spisu'!H33","v":0},{"$f":"'Edycja spisu'!I33","v":0},{"$f":"'Edycja spisu'!J33","v":0},0,{"$f":"'Wydruk spisu'!A32","v":10},17,{"$f":"'Edycja spisu'!K33","v":"00:00:00"},{"$f":"'Edycja spisu'!L33","v":"00:00:00"},{"$f":"'Edycja spisu'!D33","v":0},{"$f":"'Edycja spisu'!M33","v":0},{"$f":"'Edycja spisu'!O33","v":0}]
[{"$f":"'Edycja spisu'!A34","v":11},{"$f":"'Edycja spisu'!C34","v":0},{"$f":"'Edycja spisu'!E34","v":0},{"$f":"'Edycja spisu'!F34","v":0},{"$f":"'Edycja spisu'!G34","v":0},{"$f":"'Edycja spisu'!H34","v":0},{"$f":"'Edycja spisu'!I34","v":0},{"$f":"'Edycja spisu'!J34","v":0},0,{"$f":"'Wydruk spisu'!A33","v":11},17,{"$f":"'Edycja spisu'!K34","v":"00:00:00"},{"$f":"'Edycja spisu'!L34","v":"00:00:00"},{"$f":"'Edycja spisu'!D34","v":0},{"$f":"'Edycja spisu'!M34","v":0},{"$f":"'Edycja spisu'!O34","v":0}]
[{"$f":"'Edycja spisu'!A35","v":12},{"$f":"'Edycja spisu'!C35","v":0},{"$f":"'Edycja spisu'!E35","v":0},{"$f":"'Edycja spisu'!F35","v":0},{"$f":"'Edycja spisu'!G35","v":0},{"$f":"'Edycja spisu'!H35","v":0},{"$f":"'Edycja spisu'!I35","v":0},{"$f":"'Edycja spisu'!J35","v":0},0,{"$f":"'Wydruk spisu'!A34","v":12},17,{"$f":"'Edycja spisu'!K35","v":"00:00:00"},{"$f":"'Edycja spisu'!L35","v":"00:00:00"},{"$f":"'Edycja spisu'!D35","v":0},{"$f":"'Edycja spisu'!M35","v":0},{"$f":"'Edycja spisu'!O35","v":0}]
[{"$f":"'Edycja spisu'!A36","v":13},{"$f":"'Edycja spisu'!C36","v":0},{"$f":"'Edycja spisu'!E36","v":0},{"$f":"'Edycja spisu'!F36","v":0},{"$f":"'Edycja spisu'!G36","v":0},{"$f":"'Edycja spisu'!H36","v":0},{"$f":"'Edycja spisu'!I36","v":0},{"$f":"'Edycja spisu'!J36","v":0},0,{"$f":"'Wydruk spisu'!A35","v":13},17,{"$f":"'Edycja spisu'!K36","v":"00:00:00"},{"$f":"'Edycja spisu'!L36","v":"00:00:00"},{"$f":"'Edycja spisu'!D36","v":0},{"$f":"'Edycja spisu'!M36","v":0},{"$f":"'Edycja spisu'!O36","v":0}]
[{"$f":"'Edycja spisu'!A37","v":14},{"$f":"'Edycja spisu'!C37","v":0},{"$f":"'Edycja spisu'!E37","v":0},{"$f":"'Edycja spisu'!F37","v":0},{"$f":"'Edycja spisu'!G37","v":0},{"$f":"'Edycja spisu'!H37","v":0},{"$f":"'Edycja spisu'!I37","v":0},{"$f":"'Edycja spisu'!J37","v":0},0,{"$f":"'Wydruk spisu'!A36","v":14},17,{"$f":"'Edycja spisu'!K37","v":"00:00:00"},{"$f":"'Edycja spisu'!L37","v":"00:00:00"},{"$f":"'Edycja spisu'!D37","v":0},{"$f":"'Edycja spisu'!M37","v":0},{"$f":"'Edycja spisu'!O37","v":0}]
[{"$f":"'Edycja spisu'!A38","v":15},{"$f":"'Edycja spisu'!C38","v":0},{"$f":"'Edycja spisu'!E38","v":0},{"$f":"'Edycja spisu'!F38","v":0},{"$f":"'Edycja spisu'!G38","v":0},{"$f":"'Edycja spisu'!H38","v":0},{"$f":"'Edycja spisu'!I38","v":0},{"$f":"'Edycja spisu'!J38","v":0},0,{"$f":"'Wydruk spisu'!A37","v":15},17,{"$f":"'Edycja spisu'!K38","v":"00:00:00"},{"$f":"'Edycja spisu'!L38","v":"00:00:00"},{"$f":"'Edycja spisu'!D38","v":0},{"$f":"'Edycja spisu'!M38","v":0},{"$f":"'Edycja spisu'!O38","v":0}]
[{"$f":"'Edycja spisu'!A39","v":16},{"$f":"'Edycja spisu'!C39","v":0},{"$f":"'Edycja spisu'!E39","v":0},{"$f":"'Edycja spisu'!F39","v":0},{"$f":"'Edycja spisu'!G39","v":0},{"$f":"'Edycja spisu'!H39","v":0},{"$f":"'Edycja spisu'!I39","v":0},{"$f":"'Edycja spisu'!J39","v":0},0,{"$f":"'Wydruk spisu'!A38","v":16},17,{"$f":"'Edycja spisu'!K39","v":"00:00:00"},{"$f":"'Edycja spisu'!L39","v":"00:00:00"},{"$f":"'Edycja spisu'!D39","v":0},{"$f":"'Edycja spisu'!M39","v":0},{"$f":"'Edycja spisu'!O39","v":0}]
[{"$f":"'Edycja spisu'!A40","v":17},{"$f":"'Edycja spisu'!C40","v":0},{"$f":"'Edycja spisu'!E40","v":0},{"$f":"'Edycja spisu'!F40","v":0},{"$f":"'Edycja spisu'!G40","v":0},{"$f":"'Edycja spisu'!H40","v":0},{"$f":"'Edycja spisu'!I40","v":0},{"$f":"'Edycja spisu'!J40","v":0},0,{"$f":"'Wydruk spisu'!A39","v":17},17,{"$f":"'Edycja spisu'!K40","v":"00:00:00"},{"$f":"'Edycja spisu'!L40","v":"00:00:00"},{"$f":"'Edycja spisu'!D40","v":0},{"$f":"'Edycja spisu'!M40","v":0},{"$f":"'Edycja spisu'!O40","v":0}]
[{"$f":"'Edycja spisu'!A41","v":18},{"$f":"'Edycja spisu'!C41","v":0},{"$f":"'Edycja spisu'!E41","v":0},{"$f":"'Edycja spisu'!F41","v":0},{"$f":"'Edycja spisu'!G41","v":0},{"$f":"'Edycja spisu'!H41","v":0},{"$f":"'Edycja spisu'!I41","v":0},{"$f":"'Edycja spisu'!J41","v":0},0,{"$f":"'Wydruk spisu'!A40","v":18},17,{"$f":"'Edycja spisu'!K41","v":"00:00:00"},{"$f":"'Edycja spisu'!L41","v":"00:00:00"},{"$f":"'Edycja spisu'!D41","v":0},{"$f":"'Edycja spisu'!M41","v":0},{"$f":"'Edycja spisu'!O41","v":0}]
[{"$f":"'Edycja spisu'!A42","v":19},{"$f":"'Edycja spisu'!C42","v":0},{"$f":"'Edycja spisu'!E42","v":0},{"$f":"'Edycja spisu'!F42","v":0},{"$f":"'Edycja spisu'!G42","v":0},{"$f":"'Edycja spisu'!H42","v":0},{"$f":"'Edycja spisu'!I42","v":0},{"$f":"'Edycja spisu'!J42","v":0},0,{"$f":"'Wydruk spisu'!A41","v":19},17,{"$f":"'Edycja spisu'!K42","v":"00:00:00"},{"$f":"'Edycja spisu'!L42","v":"00:00:00"},{"$f":"'Edycja spisu'!D42","v":0},{"$f":"'Edycja spisu'!M42","v":0},{"$f":"'Edycja spisu'!O42","v":0}]
[{"$f":"'Edycja spisu'!A43","v":20},{"$f":"'Edycja spisu'!C43","v":0},{"$f":"'Edycja spisu'!E43","v":0},{"$f":"'Edycja spisu'!F43","v":0},{"$f":"'Edycja spisu'!G43","v":0},{"$f":"'Edycja spisu'!H43","v":0},{"$f":"'Edycja spisu'!I43","v":0},{"$f":"'Edycja spisu'!J43","v":0},0,{"$f":"'Wydruk spisu'!A42","v":20},17,{"$f":"'Edycja spisu'!K43","v":"00:00:00"},{"$f":"'Edycja spisu'!L43","v":"00:00:00"},{"$f":"'Edycja spisu'!D43","v":0},{"$f":"'Edycja spisu'!M43","v":0},{"$f":"'Edycja spisu'!O43","v":0}]
[{"$f":"'Edycja spisu'!A44","v":21},{"$f":"'Edycja spisu'!C44","v":0},{"$f":"'Edycja spisu'!E44","v":0},{"$f":"'Edycja spisu'!F44","v":0},{"$f":"'Edycja spisu'!G44","v":0},{"$f":"'Edycja spisu'!H44","v":0},{"$f":"'Edycja spisu'!I44","v":0},{"$f":"'Edycja spisu'!J44","v":0},0,{"$f":"'Wydruk spisu'!A43","v":21},17,{"$f":"'Edycja spisu'!K44","v":"00:00:00"},{"$f":"'Edycja spisu'!L44","v":"00:00:00"},{"$f":"'Edycja spisu'!D44","v":0},{"$f":"'Edycja spisu'!M44","v":0},{"$f":"'Edycja spisu'!O44","v":0}]
[{"$f":"'Edycja spisu'!A45","v":22},{"$f":"'Edycja spisu'!C45","v":0},{"$f":"'Edycja spisu'!E45","v":0},{"$f":"'Edycja spisu'!F45","v":0},{"$f":"'Edycja spisu'!G45","v":0},{"$f":"'Edycja spisu'!H45","v":0},{"$f":"'Edycja spisu'!I45","v":0},{"$f":"'Edycja spisu'!J45","v":0},0,{"$f":"'Wydruk spisu'!A44","v":22},17,{"$f":"'Edycja spisu'!K45","v":"00:00:00"},{"$f":"'Edycja spisu'!L45","v":"00:00:00"},{"$f":"'Edycja spisu'!D45","v":0},{"$f":"'Edycja spisu'!M45","v":0},{"$f":"'Edycja spisu'!O45","v":0}]
[{"$f":"'Edycja spisu'!A46","v":23},{"$f":"'Edycja spisu'!C46","v":0},{"$f":"'Edycja spisu'!E46","v":0},{"$f":"'Edycja spisu'!F46","v":0},{"$f":"'Edycja spisu'!G46","v":0},{"$f":"'Edycja spisu'!H46","v":0},{"$f":"'Edycja spisu'!I46","v":0},{"$f":"'Edycja spisu'!J46","v":0},0,{"$f":"'Wydruk spisu'!A45","v":23},17,{"$f":"'Edycja spisu'!K46","v":"00:00:00"},{"$f":"'Edycja spisu'!L46","v":"00:00:00"},{"$f":"'Edycja spisu'!D46","v":0},{"$f":"'Edycja spisu'!M46","v":0},{"$f":"'Edycja spisu'!O46","v":0}]
[{"$f":"'Edycja spisu'!A47","v":24},{"$f":"'Edycja spisu'!C47","v":0},{"$f":"'Edycja spisu'!E47","v":0},{"$f":"'Edycja spisu'!F47","v":0},{"$f":"'Edycja spisu'!G47","v":0},{"$f":"'Edycja spisu'!H47","v":0},{"$f":"'Edycja spisu'!I47","v":0},{"$f":"'Edycja spisu'!J47","v":0},0,{"$f":"'Wydruk spisu'!A46","v":24},17,{"$f":"'Edycja spisu'!K47","v":"00:00:00"},{"$f":"'Edycja spisu'!L47","v":"00:00:00"},{"$f":"'Edycja spisu'!D47","v":0},{"$f":"'Edycja spisu'!M47","v":0},{"$f":"'Edycja spisu'!O47","v":0}]
[{"$f":"'Edycja spisu'!A48","v":25},{"$f":"'Edycja spisu'!C48","v":0},{"$f":"'Edycja spisu'!E48","v":0},{"$f":"'Edycja spisu'!F48","v":0},{"$f":"'Edycja spisu'!G48","v":0},{"$f":"'Edycja spisu'!H48","v":0},{"$f":"'Edycja spisu'!I48","v":0},{"$f":"'Edycja spisu'!J48","v":0},0,{"$f":"'Wydruk spisu'!A47","v":25},17,{"$f":"'Edycja spisu'!K48","v":"00:00:00"},{"$f":"'Edycja spisu'!L48","v":"00:00:00"},{"$f":"'Edycja spisu'!D48","v":0},{"$f":"'Edycja spisu'!M48","v":0},{"$f":"'Edycja spisu'!O48","v":0}]
[{"$f":"'Edycja spisu'!A49","v":26},{"$f":"'Edycja spisu'!C49","v":0},{"$f":"'Edycja spisu'!E49","v":0},{"$f":"'Edycja spisu'!F49","v":0},{"$f":"'Edycja spisu'!G49","v":0},{"$f":"'Edycja spisu'!H49","v":0},{"$f":"'Edycja spisu'!I49","v":0},{"$f":"'Edycja spisu'!J49","v":0},0,{"$f":"'Wydruk spisu'!A48","v":26},17,{"$f":"'Edycja spisu'!K49","v":"00:00:00"},{"$f":"'Edycja spisu'!L49","v":"00:00:00"},{"$f":"'Edycja spisu'!D49","v":0},{"$f":"'Edycja spisu'!M49","v":0},{"$f":"'Edycja spisu'!O49","v":0}]
[{"$f":"'Edycja spisu'!A50","v":27},{"$f":"'Edycja spisu'!C50","v":0},{"$f":"'Edycja spisu'!E50","v":0},{"$f":"'Edycja spisu'!F50","v":0},{"$f":"'Edycja spisu'!G50","v":0},{"$f":"'Edycja spisu'!H50","v":0},{"$f":"'Edycja spisu'!I50","v":0},{"$f":"'Edycja spisu'!J50","v":0},0,{"$f":"'Wydruk spisu'!A49","v":27},17,{"$f":"'Edycja spisu'!K50","v":"00:00:00"},{"$f":"'Edycja spisu'!L50","v":"00:00:00"},{"$f":"'Edycja spisu'!D50","v":0},{"$f":"'Edycja spisu'!M50","v":0},{"$f":"'Edycja spisu'!O50","v":0}]
[{"$f":"'Edycja spisu'!A51","v":28},{"$f":"'Edycja spisu'!C51","v":0},{"$f":"'Edycja spisu'!E51","v":0},{"$f":"'Edycja spisu'!F51","v":0},{"$f":"'Edycja spisu'!G51","v":0},{"$f":"'Edycja spisu'!H51","v":0},{"$f":"'Edycja spisu'!I51","v":0},{"$f":"'Edycja spisu'!J51","v":0},0,{"$f":"'Wydruk spisu'!A50","v":28},17,{"$f":"'Edycja spisu'!K51","v":"00:00:00"},{"$f":"'Edycja spisu'!L51","v":"00:00:00"},{"$f":"'Edycja spisu'!D51","v":0},{"$f":"'Edycja spisu'!M51","v":0},{"$f":"'Edycja spisu'!O51","v":0}]
[{"$f":"'Edycja spisu'!A52","v":29},{"$f":"'Edycja spisu'!C52","v":0},{"$f":"'Edycja spisu'!E52","v":0},{"$f":"'Edycja spisu'!F52","v":0},{"$f":"'Edycja spisu'!G52","v":0},{"$f":"'Edycja spisu'!H52","v":0},{"$f":"'Edycja spisu'!I52","v":0},{"$f":"'Edycja spisu'!J52","v":0},0,{"$f":"'Wydruk spisu'!A51","v":29},17,{"$f":"'Edycja spisu'!K52","v":"00:00:00"},{"$f":"'Edycja spisu'!L52","v":"00:00:00"},{"$f":"'Edycja spisu'!D52","v":0},{"$f":"'Edycja spisu'!M52","v":0},{"$f":"'Edycja spisu'!O52","v":0}]
[{"$f":"'Edycja spisu'!A53","v":30},{"$f":"'Edycja spisu'!C53","v":0},{"$f":"'Edycja spisu'!E53","v":0},{"$f":"'Edycja spisu'!F53","v":0},{"$f":"'Edycja spisu'!G53","v":0},{"$f":"'Edycja spisu'!H53","v":0},{"$f":"'Edycja spisu'!I53","v":0},{"$f":"'Edycja spisu'!J53","v":0},0,{"$f":"'Wydruk spisu'!A52","v":30},17,{"$f":"'Edycja spisu'!K53","v":"00:00:00"},{"$f":"'Edycja spisu'!L53","v":"00:00:00"},{"$f":"'Edycja spisu'!D53","v":0},{"$f":"'Edycja spisu'!M53","v":0},{"$f":"'Edycja spisu'!O53","v":0}]
[{"$f":"'Edycja spisu'!A54","v":31},{"$f":"'Edycja spisu'!C54","v":0},{"$f":"'Edycja spisu'!E54","v":0},{"$f":"'Edycja spisu'!F54","v":0},{"$f":"'Edycja spisu'!G54","v":0},{"$f":"'Edycja spisu'!H54","v":0},{"$f":"'Edycja spisu'!I54","v":0},{"$f":"'Edycja spisu'!J54","v":0},0,{"$f":"'Wydruk spisu'!A53","v":31},17,{"$f":"'Edycja spisu'!K54","v":"00:00:00"},{"$f":"'Edycja spisu'!L54","v":"00:00:00"},{"$f":"'Edycja spisu'!D54","v":0},{"$f":"'Edycja spisu'!M54","v":0},{"$f":"'Edycja spisu'!O54","v":0}]
[{"$f":"'Edycja spisu'!A55","v":32},{"$f":"'Edycja spisu'!C55","v":0},{"$f":"'Edycja spisu'!E55","v":0},{"$f":"'Edycja spisu'!F55","v":0},{"$f":"'Edycja spisu'!G55","v":0},{"$f":"'Edycja spisu'!H55","v":0},{"$f":"'Edycja spisu'!I55","v":0},{"$f":"'Edycja spisu'!J55","v":0},0,{"$f":"'Wydruk spisu'!A54","v":32},17,{"$f":"'Edycja spisu'!K55","v":"00:00:00"},{"$f":"'Edycja spisu'!L55","v":"00:00:00"},{"$f":"'Edycja spisu'!D55","v":0},{"$f":"'Edycja spisu'!M55","v":0},{"$f":"'Edycja spisu'!O55","v":0}]
[{"$f":"'Edycja spisu'!A56","v":33},{"$f":"'Edycja spisu'!C56","v":0},{"$f":"'Edycja spisu'!E56","v":0},{"$f":"'Edycja spisu'!F56","v":0},{"$f":"'Edycja spisu'!G56","v":0},{"$f":"'Edycja spisu'!H56","v":0},{"$f":"'Edycja spisu'!I56","v":0},{"$f":"'Edycja spisu'!J56","v":0},0,{"$f":"'Wydruk spisu'!A55","v":33},17,{"$f":"'Edycja spisu'!K56","v":"00:00:00"},{"$f":"'Edycja spisu'!L56","v":"00:00:00"},{"$f":"'Edycja spisu'!D56","v":0},{"$f":"'Edycja spisu'!M56","v":0},{"$f":"'Edycja spisu'!O56","v":0}]
[{"$f":"'Edycja spisu'!A57","v":34},{"$f":"'Edycja spisu'!C57","v":0},{"$f":"'Edycja spisu'!E57","v":0},{"$f":"'Edycja spisu'!F57","v":0},{"$f":"'Edycja spisu'!G57","v":0},{"$f":"'Edycja spisu'!H57","v":0},{"$f":"'Edycja spisu'!I57","v":0},{"$f":"'Edycja spisu'!J57","v":0},0,{"$f":"'Wydruk spisu'!A56","v":34},17,{"$f":"'Edycja spisu'!K57","v":"00:00:00"},{"$f":"'Edycja spisu'!L57","v":"00:00:00"},{"$f":"'Edycja spisu'!D57","v":0},{"$f":"'Edycja spisu'!M57","v":0},{"$f":"'Edycja spisu'!O57","v":0}]
[{"$f":"'Edycja spisu'!A58","v":35},{"$f":"'Edycja spisu'!C58","v":0},{"$f":"'Edycja spisu'!E58","v":0},{"$f":"'Edycja spisu'!F58","v":0},{"$f":"'Edycja spisu'!G58","v":0},{"$f":"'Edycja spisu'!H58","v":0},{"$f":"'Edycja spisu'!I58","v":0},{"$f":"'Edycja spisu'!J58","v":0},0,{"$f":"'Wydruk spisu'!A57","v":35},17,{"$f":"'Edycja spisu'!K58","v":"00:00:00"},{"$f":"'Edycja spisu'!L58","v":"00:00:00"},{"$f":"'Edycja spisu'!D58","v":0},{"$f":"'Edycja spisu'!M58","v":0},{"$f":"'Edycja spisu'!O58","v":0}]
[{"$f":"'Edycja spisu'!A59","v":36},{"$f":"'Edycja spisu'!C59","v":0},{"$f":"'Edycja spisu'!E59","v":0},{"$f":"'Edycja spisu'!F59","v":0},{"$f":"'Edycja spisu'!G59","v":0},{"$f":"'Edycja spisu'!H59","v":0},{"$f":"'Edycja spisu'!I59","v":0},{"$f":"'Edycja spisu'!J59","v":0},0,{"$f":"'Wydruk spisu'!A58","v":36},17,{"$f":"'Edycja spisu'!K59","v":"00:00:00"},{"$f":"'Edycja spisu'!L59","v":"00:00:00"},{"$f":"'Edycja spisu'!D59","v":0},{"$f":"'Edycja spisu'!M59","v":0},{"$f":"'Edycja spisu'!O59","v":0}]
[{"$f":"'Edycja spisu'!A60","v":37},{"$f":"'Edycja spisu'!C60","v":0},{"$f":"'Edycja spisu'!E60","v":0},{"$f":"'Edycja spisu'!F60","v":0},{"$f":"'Edycja spisu'!G60","v":0},{"$f":"'Edycja spisu'!H60","v":0},{"$f":"'Edycja spisu'!I60","v":0},{"$f":"'Edycja spisu'!J60","v":0},0,{"$f":"'Wydruk spisu'!A59","v":37},17,{"$f":"'Edycja spisu'!K60","v":"00:00:00"},{"$f":"'Edycja spisu'!L60","v":"00:00:00"},{"$f":"'Edycja spisu'!D60","v":0},{"$f":"'Edycja spisu'!M60","v":0},{"$f":"'Edycja spisu'!O60","v":0}]
[{"$f":"'Edycja spisu'!A61","v":38},{"$f":"'Edycja spisu'!C61","v":0},{"$f":"'Edycja spisu'!E61","v":0},{"$f":"'Edycja spisu'!F61","v":0},{"$f":"'Edycja spisu'!G61","v":0},{"$f":"'Edycja spisu'!H61","v":0},{"$f":"'Edycja spisu'!I61","v":0},{"$f":"'Edycja spisu'!J61","v":0},0,{"$f":"'Wydruk spisu'!A60","v":38},17,{"$f":"'Edycja spisu'!K61","v":"00:00:00"},{"$f":"'Edycja spisu'!L61","v":"00:00:00"},{"$f":"'Edycja spisu'!D61","v":0},{"$f":"'Edycja spisu'!M61","v":0},{"$f":"'Edycja spisu'!O61","v":0}]
[{"$f":"'Edycja spisu'!A62","v":39},{"$f":"'Edycja spisu'!C62","v":0},{"$f":"'Edycja spisu'!E62","v":0},{"$f":"'Edycja spisu'!F62","v":0},{"$f":"'Edycja spisu'!G62","v":0},{"$f":"'Edycja spisu'!H62","v":0},{"$f":"'Edycja spisu'!I62","v":0},{"$f":"'Edycja spisu'!J62","v":0},0,{"$f":"'Wydruk spisu'!A61","v":39},17,{"$f":"'Edycja spisu'!K62","v":"00:00:00"},{"$f":"'Edycja spisu'!L62","v":"00:00:00"},{"$f":"'Edycja spisu'!D62","v":0},{"$f":"'Edycja spisu'!M62","v":0},{"$f":"'Edycja spisu'!O62","v":0}]
[{"$f":"'Edycja spisu'!A63","v":40},{"$f":"'Edycja spisu'!C63","v":0},{"$f":"'Edycja spisu'!E63","v":0},{"$f":"'Edycja spisu'!F63","v":0},{"$f":"'Edycja spisu'!G63","v":0},{"$f":"'Edycja spisu'!H63","v":0},{"$f":"'Edycja spisu'!I63","v":0},{"$f":"'Edycja spisu'!J63","v":0},0,{"$f":"'Wydruk spisu'!A62","v":40},17,{"$f":"'Edycja spisu'!K63","v":"00:00:00"},{"$f":"'Edycja spisu'!L63","v":"00:00:00"},{"$f":"'Edycja spisu'!D63","v":0},{"$f":"'Edycja spisu'!M63","v":0},{"$f":"'Edycja spisu'!O63","v":0}]
[{"$f":"'Edycja spisu'!A64","v":41},{"$f":"'Edycja spisu'!C64","v":0},{"$f":"'Edycja spisu'!E64","v":0},{"$f":"'Edycja spisu'!F64","v":0},{"$f":"'Edycja spisu'!G64","v":0},{"$f":"'Edycja spisu'!H64","v":0},{"$f":"'Edycja spisu'!I64","v":0},{"$f":"'Edycja spisu'!J64","v":0},0,{"$f":"'Wydruk spisu'!A63","v":41},17,{"$f":"'Edycja spisu'!K64","v":"00:00:00"},{"$f":"'Edycja spisu'!L64","v":"00:00:00"},{"$f":"'Edycja spisu'!D64","v":0},{"$f":"'Edycja spisu'!M64","v":0},{"$f":"'Edycja spisu'!O64","v":0}]
[{"$f":"'Edycja spisu'!A65","v":42},{"$f":"'Edycja spisu'!C65","v":0},{"$f":"'Edycja spisu'!E65","v":0},{"$f":"'Edycja spisu'!F65","v":0},{"$f":"'Edycja spisu'!G65","v":0},{"$f":"'Edycja spisu'!H65","v":0},{"$f":"'Edycja spisu'!I65","v":0},{"$f":"'Edycja spisu'!J65","v":0},0,{"$f":"'Wydruk spisu'!A64","v":42},17,{"$f":"'Edycja spisu'!K65","v":"00:00:00"},{"$f":"'Edycja spisu'!L65","v":"00:00:00"},{"$f":"'Edycja spisu'!D65","v":0},{"$f":"'Edycja spisu'!M65","v":0},{"$f":"'Edycja spisu'!O65","v":0}]
[{"$f":"'Edycja spisu'!A66","v":43},{"$f":"'Edycja spisu'!C66","v":0},{"$f":"'Edycja spisu'!E66","v":0},{"$f":"'Edycja spisu'!F66","v":0},{"$f":"'Edycja spisu'!G66","v":0},{"$f":"'Edycja spisu'!H66","v":0},{"$f":"'Edycja spisu'!I66","v":0},{"$f":"'Edycja spisu'!J66","v":0},0,{"$f":"'Wydruk spisu'!A65","v":43},17,{"$f":"'Edycja spisu'!K66","v":"00:00:00"},{"$f":"'Edycja spisu'!L66","v":"00:00:00"},{"$f":"'Edycja spisu'!D66","v":0},{"$f":"'Edycja spisu'!M66","v":0},{"$f":"'Edycja spisu'!O66","v":0}]
[{"$f":"'Edycja spisu'!A67","v":44},{"$f":"'Edycja spisu'!C67","v":0},{"$f":"'Edycja spisu'!E67","v":0},{"$f":"'Edycja spisu'!F67","v":0},{"$f":"'Edycja spisu'!G67","v":0},{"$f":"'Edycja spisu'!H67","v":0},{"$f":"'Edycja spisu'!I67","v":0},{"$f":"'Edycja spisu'!J67","v":0},0,{"$f":"'Wydruk spisu'!A66","v":44},17,{"$f":"'Edycja spisu'!K67","v":"00:00:00"},{"$f":"'Edycja spisu'!L67","v":"00:00:00"},{"$f":"'Edycja spisu'!D67","v":0},{"$f":"'Edycja spisu'!M67","v":0},{"$f":"'Edycja spisu'!O67","v":0}]
[{"$f":"'Edycja spisu'!A68","v":45},{"$f":"'Edycja spisu'!C68","v":0},{"$f":"'Edycja spisu'!E68","v":0},{"$f":"'Edycja spisu'!F68","v":0},{"$f":"'Edycja spisu'!G68","v":0},{"$f":"'Edycja spisu'!H68","v":0},{"$f":"'Edycja spisu'!I68","v":0},{"$f":"'Edycja spisu'!J68","v":0},0,{"$f":"'Wydruk spisu'!A67","v":45},17,{"$f":"'Edycja spisu'!K68","v":"00:00:00"},{"$f":"'Edycja spisu'!L68","v":"00:00:00"},{"$f":"'Edycja spisu'!D68","v":0},{"$f":"'Edycja spisu'!M68","v":0},{"$f":"'Edycja spisu'!O68","v":0}]
[{"$f":"'Edycja spisu'!A69","v":46},{"$f":"'Edycja spisu'!C69","v":0},{"$f":"'Edycja spisu'!E69","v":0},{"$f":"'Edycja spisu'!F69","v":0},{"$f":"'Edycja spisu'!G69","v":0},{"$f":"'Edycja spisu'!H69","v":0},{"$f":"'Edycja spisu'!I69","v":0},{"$f":"'Edycja spisu'!J69","v":0},0,{"$f":"'Wydruk spisu'!A68","v":46},17,{"$f":"'Edycja spisu'!K69","v":"00:00:00"},{"$f":"'Edycja spisu'!L69","v":"00:00:00"},{"$f":"'Edycja spisu'!D69","v":0},{"$f":"'Edycja spisu'!M69","v":0},{"$f":"'Edycja spisu'!O69","v":0}]
[{"$f":"'Edycja spisu'!A70","v":47},{"$f":"'Edycja spisu'!C70","v":0},{"$f":"'Edycja spisu'!E70","v":0},{"$f":"'Edycja spisu'!F70","v":0},{"$f":"'Edycja spisu'!G70","v":0},{"$f":"'Edycja spisu'!H70","v":0},{"$f":"'Edycja spisu'!I70","v":0},{"$f":"'Edycja spisu'!J70","v":0},0,{"$f":"'Wydruk spisu'!A69","v":47},17,{"$f":"'Edycja spisu'!K70","v":"00:00:00"},{"$f":"'Edycja spisu'!L70","v":"00:00:00"},{"$f":"'Edycja spisu'!D70","v":0},{"$f":"'Edycja spisu'!M70","v":0},{"$f":"'Edycja spisu'!O70","v":0}]
[{"$f":"'Edycja spisu'!A71","v":48},{"$f":"'Edycja spisu'!C71","v":0},{"$f":"'Edycja spisu'!E71","v":0},{"$f":"'Edycja spisu'!F71","v":0},{"$f":"'Edycja spisu'!G71","v":0},{"$f":"'Edycja spisu'!H71","v":0},{"$f":"'Edycja spisu'!I71","v":0},{"$f":"'Edycja spisu'!J71","v":0},0,{"$f":"'Wydruk spisu'!A70","v":48},17,{"$f":"'Edycja spisu'!K71","v":"00:00:00"},{"$f":"'Edycja spisu'!L71","v":"00:00:00"},{"$f":"'Edycja spisu'!D71","v":0},{"$f":"'Edycja spisu'!M71","v":0},{"$f":"'Edycja spisu'!O71","v":0}]
[{"$f":"'Edycja spisu'!A72","v":49},{"$f":"'Edycja spisu'!C72","v":0},{"$f":"'Edycja spisu'!E72","v":0},{"$f":"'Edycja spisu'!F72","v":0},{"$f":"'Edycja spisu'!G72","v":0},{"$f":"'Edycja spisu'!H72","v":0},{"$f":"'Edycja spisu'!I72","v":0},{"$f":"'Edycja spisu'!J72","v":0},0,{"$f":"'Wydruk spisu'!A71","v":49},17,{"$f":"'Edycja spisu'!K72","v":"00:00:00"},{"$f":"'Edycja spisu'!L72","v":"00:00:00"},{"$f":"'Edycja spisu'!D72","v":0},{"$f":"'Edycja spisu'!M72","v":0},{"$f":"'Edycja spisu'!O72","v":0}]
[{"$f":"'Edycja spisu'!A73","v":50},{"$f":"'Edycja spisu'!C73","v":0},{"$f":"'Edycja spisu'!E73","v":0},{"$f":"'Edycja spisu'!F73","v":0},{"$f":"'Edycja spisu'!G73","v":0},{"$f":"'Edycja spisu'!H73","v":0},{"$f":"'Edycja spisu'!I73","v":0},{"$f":"'Edycja spisu'!J73","v":0},0,{"$f":"'Wydruk spisu'!A72","v":50},17,{"$f":"'Edycja spisu'!K73","v":"00:00:00"},{"$f":"'Edycja spisu'!L73","v":"00:00:00"},{"$f":"'Edycja spisu'!D73","v":0},{"$f":"'Edycja spisu'!M73","v":0},{"$f":"'Edycja spisu'!O73","v":0}]
[{"$f":"'Edycja spisu'!A74","v":51},{"$f":"'Edycja spisu'!C74","v":0},{"$f":"'Edycja spisu'!E74","v":0},{"$f":"'Edycja spisu'!F74","v":0},{"$f":"'Edycja spisu'!G74","v":0},{"$f":"'Edycja spisu'!H74","v":0},{"$f":"'Edycja spisu'!I74","v":0},{"$f":"'Edycja spisu'!J74","v":0},0,{"$f":"'Wydruk spisu'!A73","v":51},17,{"$f":"'Edycja spisu'!K74","v":"00:00:00"},{"$f":"'Edycja spisu'!L74","v":"00:00:00"},{"$f":"'Edycja spisu'!D74","v":0},{"$f":"'Edycja spisu'!M74","v":0},{"$f":"'Edycja spisu'!O74","v":0}]
[{"$f":"'Edycja spisu'!A75","v":52},{"$f":"'Edycja spisu'!C75","v":0},{"$f":"'Edycja spisu'!E75","v":0},{"$f":"'Edycja spisu'!F75","v":0},{"$f":"'Edycja spisu'!G75","v":0},{"$f":"'Edycja spisu'!H75","v":0},{"$f":"'Edycja spisu'!I75","v":0},{"$f":"'Edycja spisu'!J75","v":0},0,{"$f":"'Wydruk spisu'!A74","v":52},17,{"$f":"'Edycja spisu'!K75","v":"00:00:00"},{"$f":"'Edycja spisu'!L75","v":"00:00:00"},{"$f":"'Edycja spisu'!D75","v":0},{"$f":"'Edycja spisu'!M75","v":0},{"$f":"'Edycja spisu'!O75","v":0}]
[{"$f":"'Edycja spisu'!A76","v":53},{"$f":"'Edycja spisu'!C76","v":0},{"$f":"'Edycja spisu'!E76","v":0},{"$f":"'Edycja spisu'!F76","v":0},{"$f":"'Edycja spisu'!G76","v":0},{"$f":"'Edycja spisu'!H76","v":0},{"$f":"'Edycja spisu'!I76","v":0},{"$f":"'Edycja spisu'!J76","v":0},0,{"$f":"'Wydruk spisu'!A75","v":53},17,{"$f":"'Edycja spisu'!K76","v":"00:00:00"},{"$f":"'Edycja spisu'!L76","v":"00:00:00"},{"$f":"'Edycja spisu'!D76","v":0},{"$f":"'Edycja spisu'!M76","v":0},{"$f":"'Edycja spisu'!O76","v":0}]
[{"$f":"'Edycja spisu'!A77","v":54},{"$f":"'Edycja spisu'!C77","v":0},{"$f":"'Edycja spisu'!E77","v":0},{"$f":"'Edycja spisu'!F77","v":0},{"$f":"'Edycja spisu'!G77","v":0},{"$f":"'Edycja spisu'!H77","v":0},{"$f":"'Edycja spisu'!I77","v":0},{"$f":"'Edycja spisu'!J77","v":0},0,{"$f":"'Wydruk spisu'!A76","v":54},17,{"$f":"'Edycja spisu'!K77","v":"00:00:00"},{"$f":"'Edycja spisu'!L77","v":"00:00:00"},{"$f":"'Edycja spisu'!D77","v":0},{"$f":"'Edycja spisu'!M77","v":0},{"$f":"'Edycja spisu'!O77","v":0}]
[{"$f":"'Edycja spisu'!A78","v":55},{"$f":"'Edycja spisu'!C78","v":0},{"$f":"'Edycja spisu'!E78","v":0},{"$f":"'Edycja spisu'!F78","v":0},{"$f":"'Edycja spisu'!G78","v":0},{"$f":"'Edycja spisu'!H78","v":0},{"$f":"'Edycja spisu'!I78","v":0},{"$f":"'Edycja spisu'!J78","v":0},0,{"$f":"'Wydruk spisu'!A77","v":55},17,{"$f":"'Edycja spisu'!K78","v":"00:00:00"},{"$f":"'Edycja spisu'!L78","v":"00:00:00"},{"$f":"'Edycja spisu'!D78","v":0},{"$f":"'Edycja spisu'!M78","v":0},{"$f":"'Edycja spisu'!O78","v":0}]
[{"$f":"'Edycja spisu'!A79","v":56},{"$f":"'Edycja spisu'!C79","v":0},{"$f":"'Edycja spisu'!E79","v":0},{"$f":"'Edycja spisu'!F79","v":0},{"$f":"'Edycja spisu'!G79","v":0},{"$f":"'Edycja spisu'!H79","v":0},{"$f":"'Edycja spisu'!I79","v":0},{"$f":"'Edycja spisu'!J79","v":0},0,{"$f":"'Wydruk spisu'!A78","v":56},17,{"$f":"'Edycja spisu'!K79","v":"00:00:00"},{"$f":"'Edycja spisu'!L79","v":"00:00:00"},{"$f":"'Edycja spisu'!D79","v":0},{"$f":"'Edycja spisu'!M79","v":0},{"$f":"'Edycja spisu'!O79","v":0}]
[{"$f":"'Edycja spisu'!A80","v":57},{"$f":"'Edycja spisu'!C80","v":0},{"$f":"'Edycja spisu'!E80","v":0},{"$f":"'Edycja spisu'!F80","v":0},{"$f":"'Edycja spisu'!G80","v":0},{"$f":"'Edycja spisu'!H80","v":0},{"$f":"'Edycja spisu'!I80","v":0},{"$f":"'Edycja spisu'!J80","v":0},0,{"$f":"'Wydruk spisu'!A79","v":57},17,{"$f":"'Edycja spisu'!K80","v":"00:00:00"},{"$f":"'Edycja spisu'!L80","v":"00:00:00"},{"$f":"'Edycja spisu'!D80","v":0},{"$f":"'Edycja spisu'!M80","v":0},{"$f":"'Edycja spisu'!O80","v":0}]
[{"$f":"'Edycja spisu'!A81","v":58},{"$f":"'Edycja spisu'!C81","v":0},{"$f":"'Edycja spisu'!E81","v":0},{"$f":"'Edycja spisu'!F81","v":0},{"$f":"'Edycja spisu'!G81","v":0},{"$f":"'Edycja spisu'!H81","v":0},{"$f":"'Edycja spisu'!I81","v":0},{"$f":"'Edycja spisu'!J81","v":0},0,{"$f":"'Wydruk spisu'!A80","v":58},17,{"$f":"'Edycja spisu'!K81","v":"00:00:00"},{"$f":"'Edycja spisu'!L81","v":"00:00:00"},{"$f":"'Edycja spisu'!D81","v":0},{"$f":"'Edycja spisu'!M81","v":0},{"$f":"'Edycja spisu'!O81","v":0}]
[{"$f":"'Edycja spisu'!A82","v":59},{"$f":"'Edycja spisu'!C82","v":0},{"$f":"'Edycja spisu'!E82","v":0},{"$f":"'Edycja spisu'!F82","v":0},{"$f":"'Edycja spisu'!G82","v":0},{"$f":"'Edycja spisu'!H82","v":0},{"$f":"'Edycja spisu'!I82","v":0},{"$f":"'Edycja spisu'!J82","v":0},0,{"$f":"'Wydruk spisu'!A81","v":59},17,{"$f":"'Edycja spisu'!K82","v":"00:00:00"},{"$f":"'Edycja spisu'!L82","v":"00:00:00"},{"$f":"'Edycja spisu'!D82","v":0},{"$f":"'Edycja spisu'!M82","v":0},{"$f":"'Edycja spisu'!O82","v":0}]
[{"$f":"'Edycja spisu'!A83","v":60},{"$f":"'Edycja spisu'!C83","v":0},{"$f":"'Edycja spisu'!E83","v":0},{"$f":"'Edycja spisu'!F83","v":0},{"$f":"'Edycja spisu'!G83","v":0},{"$f":"'Edycja spisu'!H83","v":0},{"$f":"'Edycja spisu'!I83","v":0},{"$f":"'Edycja spisu'!J83","v":0},0,{"$f":"'Wydruk spisu'!A82","v":60},17,{"$f":"'Edycja spisu'!K83","v":"00:00:00"},{"$f":"'Edycja spisu'!L83","v":"00:00:00"},{"$f":"'Edycja spisu'!D83","v":0},{"$f":"'Edycja spisu'!M83","v":0},{"$f":"'Edycja spisu'!O83","v":0}]
[{"$f":"'Edycja spisu'!A84","v":61},{"$f":"'Edycja spisu'!C84","v":0},{"$f":"'Edycja spisu'!E84","v":0},{"$f":"'Edycja spisu'!F84","v":0},{"$f":"'Edycja spisu'!G84","v":0},{"$f":"'Edycja spisu'!H84","v":0},{"$f":"'Edycja spisu'!I84","v":0},{"$f":"'Edycja spisu'!J84","v":0},0,{"$f":"'Wydruk spisu'!A83","v":61},17,{"$f":"'Edycja spisu'!K84","v":"00:00:00"},{"$f":"'Edycja spisu'!L84","v":"00:00:00"},{"$f":"'Edycja spisu'!D84","v":0},{"$f":"'Edycja spisu'!M84","v":0},{"$f":"'Edycja spisu'!O84","v":0}]
[{"$f":"'Edycja spisu'!A85","v":62},{"$f":"'Edycja spisu'!C85","v":0},{"$f":"'Edycja spisu'!E85","v":0},{"$f":"'Edycja spisu'!F85","v":0},{"$f":"'Edycja spisu'!G85","v":0},{"$f":"'Edycja spisu'!H85","v":0},{"$f":"'Edycja spisu'!I85","v":0},{"$f":"'Edycja spisu'!J85","v":0},0,{"$f":"'Wydruk spisu'!A84","v":62},17,{"$f":"'Edycja spisu'!K85","v":"00:00:00"},{"$f":"'Edycja spisu'!L85","v":"00:00:00"},{"$f":"'Edycja spisu'!D85","v":0},{"$f":"'Edycja spisu'!M85","v":0},{"$f":"'Edycja spisu'!O85","v":0}]
[{"$f":"'Edycja spisu'!A86","v":63},{"$f":"'Edycja spisu'!C86","v":0},{"$f":"'Edycja spisu'!E86","v":0},{"$f":"'Edycja spisu'!F86","v":0},{"$f":"'Edycja spisu'!G86","v":0},{"$f":"'Edycja spisu'!H86","v":0},{"$f":"'Edycja spisu'!I86","v":0},{"$f":"'Edycja spisu'!J86","v":0},0,{"$f":"'Wydruk spisu'!A85","v":63},17,{"$f":"'Edycja spisu'!K86","v":"00:00:00"},{"$f":"'Edycja spisu'!L86","v":"00:00:00"},{"$f":"'Edycja spisu'!D86","v":0},{"$f":"'Edycja spisu'!M86","v":0},{"$f":"'Edycja spisu'!O86","v":0}]
[{"$f":"'Edycja spisu'!A87","v":64},{"$f":"'Edycja spisu'!C87","v":0},{"$f":"'Edycja spisu'!E87","v":0},{"$f":"'Edycja spisu'!F87","v":0},{"$f":"'Edycja spisu'!G87","v":0},{"$f":"'Edycja spisu'!H87","v":0},{"$f":"'Edycja spisu'!I87","v":0},{"$f":"'Edycja spisu'!J87","v":0},0,{"$f":"'Wydruk spisu'!A86","v":64},17,{"$f":"'Edycja spisu'!K87","v":"00:00:00"},{"$f":"'Edycja spisu'!L87","v":"00:00:00"},{"$f":"'Edycja spisu'!D87","v":0},{"$f":"'Edycja spisu'!M87","v":0},{"$f":"'Edycja spisu'!O87","v":0}]
[{"$f":"'Edycja spisu'!A88","v":65},{"$f":"'Edycja spisu'!C88","v":0},{"$f":"'Edycja spisu'!E88","v":0},{"$f":"'Edycja spisu'!F88","v":0},{"$f":"'Edycja spisu'!G88","v":0},{"$f":"'Edycja spisu'!H88","v":0},{"$f":"'Edycja spisu'!I88","v":0},{"$f":"'Edycja spisu'!J88","v":0},0,{"$f":"'Wydruk spisu'!A87","v":65},17,{"$f":"'Edycja spisu'!K88","v":"00:00:00"},{"$f":"'Edycja spisu'!L88","v":"00:00:00"},{"$f":"'Edycja spisu'!D88","v":0},{"$f":"'Edycja spisu'!M88","v":0},{"$f":"'Edycja spisu'!O88","v":0}]
[{"$f":"'Edycja spisu'!A89","v":66},{"$f":"'Edycja spisu'!C89","v":0},{"$f":"'Edycja spisu'!E89","v":0},{"$f":"'Edycja spisu'!F89","v":0},{"$f":"'Edycja spisu'!G89","v":0},{"$f":"'Edycja spisu'!H89","v":0},{"$f":"'Edycja spisu'!I89","v":0},{"$f":"'Edycja spisu'!J89","v":0},0,{"$f":"'Wydruk spisu'!A88","v":66},17,{"$f":"'Edycja spisu'!K89","v":"00:00:00"},{"$f":"'Edycja spisu'!L89","v":"00:00:00"},{"$f":"'Edycja spisu'!D89","v":0},{"$f":"'Edycja spisu'!M89","v":0},{"$f":"'Edycja spisu'!O89","v":0}]
[{"$f":"'Edycja spisu'!A90","v":67},{"$f":"'Edycja spisu'!C90","v":0},{"$f":"'Edycja spisu'!E90","v":0},{"$f":"'Edycja spisu'!F90","v":0},{"$f":"'Edycja spisu'!G90","v":0},{"$f":"'Edycja spisu'!H90","v":0},{"$f":"'Edycja spisu'!I90","v":0},{"$f":"'Edycja spisu'!J90","v":0},{"$f":"I76","v":0},{"$f":"'Wydruk spisu'!A89","v":67},{"$f":"K76","v":17},{"$f":"'Edycja spisu'!K90","v":"00:00:00"},{"$f":"'Edycja spisu'!L90","v":"00:00:00"},{"$f":"'Edycja spisu'!D90","v":0},{"$f":"'Edycja spisu'!M90","v":0},{"$f":"'Edycja spisu'!O90","v":0}]
[{"$f":"'Edycja spisu'!A91","v":68},{"$f":"'Edycja spisu'!C91","v":0},{"$f":"'Edycja spisu'!E91","v":0},{"$f":"'Edycja spisu'!F91","v":0},{"$f":"'Edycja spisu'!G91","v":0},{"$f":"'Edycja spisu'!H91","v":0},{"$f":"'Edycja spisu'!I91","v":0},{"$f":"'Edycja spisu'!J91","v":0},0,{"$f":"'Wydruk spisu'!A90","v":68},17,{"$f":"'Edycja spisu'!K91","v":"00:00:00"},{"$f":"'Edycja spisu'!L91","v":"00:00:00"},{"$f":"'Edycja spisu'!D91","v":0},{"$f":"'Edycja spisu'!M91","v":0},{"$f":"'Edycja spisu'!O91","v":0}]
[{"$f":"'Edycja spisu'!A92","v":69},{"$f":"'Edycja spisu'!C92","v":0},{"$f":"'Edycja spisu'!E92","v":0},{"$f":"'Edycja spisu'!F92","v":0},{"$f":"'Edycja spisu'!G92","v":0},{"$f":"'Edycja spisu'!H92","v":0},{"$f":"'Edycja spisu'!I92","v":0},{"$f":"'Edycja spisu'!J92","v":0},0,{"$f":"'Wydruk spisu'!A91","v":69},17,{"$f":"'Edycja spisu'!K92","v":"00:00:00"},{"$f":"'Edycja spisu'!L92","v":"00:00:00"},{"$f":"'Edycja spisu'!D92","v":0},{"$f":"'Edycja spisu'!M92","v":0},{"$f":"'Edycja spisu'!O92","v":0}]
[{"$f":"'Edycja spisu'!A93","v":70},{"$f":"'Edycja spisu'!C93","v":0},{"$f":"'Edycja spisu'!E93","v":0},{"$f":"'Edycja spisu'!F93","v":0},{"$f":"'Edycja spisu'!G93","v":0},{"$f":"'Edycja spisu'!H93","v":0},{"$f":"'Edycja spisu'!I93","v":0},{"$f":"'Edycja spisu'!J93","v":0},0,{"$f":"'Wydruk spisu'!A92","v":70},17,{"$f":"'Edycja spisu'!K93","v":"00:00:00"},{"$f":"'Edycja spisu'!L93","v":"00:00:00"},{"$f":"'Edycja spisu'!D93","v":0},{"$f":"'Edycja spisu'!M93","v":0},{"$f":"'Edycja spisu'!O93","v":0}]
[{"$f":"'Edycja spisu'!A94","v":71},{"$f":"'Edycja spisu'!C94","v":0},{"$f":"'Edycja spisu'!E94","v":0},{"$f":"'Edycja spisu'!F94","v":0},{"$f":"'Edycja spisu'!G94","v":0},{"$f":"'Edycja spisu'!H94","v":0},{"$f":"'Edycja spisu'!I94","v":0},{"$f":"'Edycja spisu'!J94","v":0},0,{"$f":"'Wydruk spisu'!A93","v":71},17,{"$f":"'Edycja spisu'!K94","v":"00:00:00"},{"$f":"'Edycja spisu'!L94","v":"00:00:00"},{"$f":"'Edycja spisu'!D94","v":0},{"$f":"'Edycja spisu'!M94","v":0},{"$f":"'Edycja spisu'!O94","v":0}]
[{"$f":"'Edycja spisu'!A95","v":72},{"$f":"'Edycja spisu'!C95","v":0},{"$f":"'Edycja spisu'!E95","v":0},{"$f":"'Edycja spisu'!F95","v":0},{"$f":"'Edycja spisu'!G95","v":0},{"$f":"'Edycja spisu'!H95","v":0},{"$f":"'Edycja spisu'!I95","v":0},{"$f":"'Edycja spisu'!J95","v":0},0,{"$f":"'Wydruk spisu'!A94","v":72},17,{"$f":"'Edycja spisu'!K95","v":"00:00:00"},{"$f":"'Edycja spisu'!L95","v":"00:00:00"},{"$f":"'Edycja spisu'!D95","v":0},{"$f":"'Edycja spisu'!M95","v":0},{"$f":"'Edycja spisu'!O95","v":0}]
[{"$f":"'Edycja spisu'!A96","v":73},{"$f":"'Edycja spisu'!C96","v":0},{"$f":"'Edycja spisu'!E96","v":0},{"$f":"'Edycja spisu'!F96","v":0},{"$f":"'Edycja spisu'!G96","v":0},{"$f":"'Edycja spisu'!H96","v":0},{"$f":"'Edycja spisu'!I96","v":0},{"$f":"'Edycja spisu'!J96","v":0},0,{"$f":"'Wydruk spisu'!A95","v":73},17,{"$f":"'Edycja spisu'!K96","v":"00:00:00"},{"$f":"'Edycja spisu'!L96","v":"00:00:00"},{"$f":"'Edycja spisu'!D96","v":0},{"$f":"'Edycja spisu'!M96","v":0},{"$f":"'Edycja spisu'!O96","v":0}]
[{"$f":"'Edycja spisu'!A97","v":74},{"$f":"'Edycja spisu'!C97","v":0},{"$f":"'Edycja spisu'!E97","v":0},{"$f":"'Edycja spisu'!F97","v":0},{"$f":"'Edycja spisu'!G97","v":0},{"$f":"'Edycja spisu'!H97","v":0},{"$f":"'Edycja spisu'!I97","v":0},{"$f":"'Edycja spisu'!J97","v":0},0,{"$f":"'Wydruk spisu'!A96","v":74},17,{"$f":"'Edycja spisu'!K97","v":"00:00:00"},{"$f":"'Edycja spisu'!L97","v":"00:00:00"},{"$f":"'Edycja spisu'!D97","v":0},{"$f":"'Edycja spisu'!M97","v":0},{"$f":"'Edycja spisu'!O97","v":0}]
[{"$f":"'Edycja spisu'!A98","v":75},{"$f":"'Edycja spisu'!C98","v":0},{"$f":"'Edycja spisu'!E98","v":0},{"$f":"'Edycja spisu'!F98","v":0},{"$f":"'Edycja spisu'!G98","v":0},{"$f":"'Edycja spisu'!H98","v":0},{"$f":"'Edycja spisu'!I98","v":0},{"$f":"'Edycja spisu'!J98","v":0},0,{"$f":"'Wydruk spisu'!A97","v":75},17,{"$f":"'Edycja spisu'!K98","v":"00:00:00"},{"$f":"'Edycja spisu'!L98","v":"00:00:00"},{"$f":"'Edycja spisu'!D98","v":0},{"$f":"'Edycja spisu'!M98","v":0},{"$f":"'Edycja spisu'!O98","v":0}]
[{"$f":"'Edycja spisu'!A99","v":76},{"$f":"'Edycja spisu'!C99","v":0},{"$f":"'Edycja spisu'!E99","v":0},{"$f":"'Edycja spisu'!F99","v":0},{"$f":"'Edycja spisu'!G99","v":0},{"$f":"'Edycja spisu'!H99","v":0},{"$f":"'Edycja spisu'!I99","v":0},{"$f":"'Edycja spisu'!J99","v":0},0,{"$f":"'Wydruk spisu'!A98","v":76},17,{"$f":"'Edycja spisu'!K99","v":"00:00:00"},{"$f":"'Edycja spisu'!L99","v":"00:00:00"},{"$f":"'Edycja spisu'!D99","v":0},{"$f":"'Edycja spisu'!M99","v":0},{"$f":"'Edycja spisu'!O99","v":0}]
[{"$f":"'Edycja spisu'!A100","v":77},{"$f":"'Edycja spisu'!C100","v":0},{"$f":"'Edycja spisu'!E100","v":0},{"$f":"'Edycja spisu'!F100","v":0},{"$f":"'Edycja spisu'!G100","v":0},{"$f":"'Edycja spisu'!H100","v":0},{"$f":"'Edycja spisu'!I100","v":0},{"$f":"'Edycja spisu'!J100","v":0},0,{"$f":"'Wydruk spisu'!A99","v":77},17,{"$f":"'Edycja spisu'!K100","v":"00:00:00"},{"$f":"'Edycja spisu'!L100","v":"00:00:00"},{"$f":"'Edycja spisu'!D100","v":0},{"$f":"'Edycja spisu'!M100","v":0},{"$f":"'Edycja spisu'!O100","v":0}]
[{"$f":"'Edycja spisu'!A101","v":78},{"$f":"'Edycja spisu'!C101","v":0},{"$f":"'Edycja spisu'!E101","v":0},{"$f":"'Edycja spisu'!F101","v":0},{"$f":"'Edycja spisu'!G101","v":0},{"$f":"'Edycja spisu'!H101","v":0},{"$f":"'Edycja spisu'!I101","v":0},{"$f":"'Edycja spisu'!J101","v":0},0,{"$f":"'Wydruk spisu'!A100","v":78},17,{"$f":"'Edycja spisu'!K101","v":"00:00:00"},{"$f":"'Edycja spisu'!L101","v":"00:00:00"},{"$f":"'Edycja spisu'!D101","v":0},{"$f":"'Edycja spisu'!M101","v":0},{"$f":"'Edycja spisu'!O101","v":0}]
[{"$f":"'Edycja spisu'!A102","v":79},{"$f":"'Edycja spisu'!C102","v":0},{"$f":"'Edycja spisu'!E102","v":0},{"$f":"'Edycja spisu'!F102","v":0},{"$f":"'Edycja spisu'!G102","v":0},{"$f":"'Edycja spisu'!H102","v":0},{"$f":"'Edycja spisu'!I102","v":0},{"$f":"'Edycja spisu'!J102","v":0},0,{"$f":"'Wydruk spisu'!A101","v":79},17,{"$f":"'Edycja spisu'!K102","v":"00:00:00"},{"$f":"'Edycja spisu'!L102","v":"00:00:00"},{"$f":"'Edycja spisu'!D102","v":0},{"$f":"'Edycja spisu'!M102","v":0},{"$f":"'Edycja spisu'!O102","v":0}]
[{"$f":"'Edycja spisu'!A103","v":80},{"$f":"'Edycja spisu'!C103","v":0},{"$f":"'Edycja spisu'!E103","v":0},{"$f":"'Edycja spisu'!F103","v":0},{"$f":"'Edycja spisu'!G103","v":0},{"$f":"'Edycja spisu'!H103","v":0},{"$f":"'Edycja spisu'!I103","v":0},{"$f":"'Edycja spisu'!J103","v":0},0,{"$f":"'Wydruk spisu'!A102","v":80},17,{"$f":"'Edycja spisu'!K103","v":"00:00:00"},{"$f":"'Edycja spisu'!L103","v":"00:00:00"},{"$f":"'Edycja spisu'!D103","v":0},{"$f":"'Edycja spisu'!M103","v":0},{"$f":"'Edycja spisu'!O103","v":0}]
[{"$f":"'Edycja spisu'!A104","v":81},{"$f":"'Edycja spisu'!C104","v":0},{"$f":"'Edycja spisu'!E104","v":0},{"$f":"'Edycja spisu'!F104","v":0},{"$f":"'Edycja spisu'!G104","v":0},{"$f":"'Edycja spisu'!H104","v":0},{"$f":"'Edycja spisu'!I104","v":0},{"$f":"'Edycja spisu'!J104","v":0},0,{"$f":"'Wydruk spisu'!A103","v":81},17,{"$f":"'Edycja spisu'!K104","v":"00:00:00"},{"$f":"'Edycja spisu'!L104","v":"00:00:00"},{"$f":"'Edycja spisu'!D104","v":0},{"$f":"'Edycja spisu'!M104","v":0},{"$f":"'Edycja spisu'!O104","v":0}]
[{"$f":"'Edycja spisu'!A105","v":82},{"$f":"'Edycja spisu'!C105","v":0},{"$f":"'Edycja spisu'!E105","v":0},{"$f":"'Edycja spisu'!F105","v":0},{"$f":"'Edycja spisu'!G105","v":0},{"$f":"'Edycja spisu'!H105","v":0},{"$f":"'Edycja spisu'!I105","v":0},{"$f":"'Edycja spisu'!J105","v":0},0,{"$f":"'Wydruk spisu'!A104","v":82},17,{"$f":"'Edycja spisu'!K105","v":"00:00:00"},{"$f":"'Edycja spisu'!L105","v":"00:00:00"},{"$f":"'Edycja spisu'!D105","v":0},{"$f":"'Edycja spisu'!M105","v":0},{"$f":"'Edycja spisu'!O105","v":0}]
[{"$f":"'Edycja spisu'!A106","v":83},{"$f":"'Edycja spisu'!C106","v":0},{"$f":"'Edycja spisu'!E106","v":0},{"$f":"'Edycja spisu'!F106","v":0},{"$f":"'Edycja spisu'!G106","v":0},{"$f":"'Edycja spisu'!H106","v":0},{"$f":"'Edycja spisu'!I106","v":0},{"$f":"'Edycja spisu'!J106","v":0},0,{"$f":"'Wydruk spisu'!A105","v":83},17,{"$f":"'Edycja spisu'!K106","v":"00:00:00"},{"$f":"'Edycja spisu'!L106","v":"00:00:00"},{"$f":"'Edycja spisu'!D106","v":0},{"$f":"'Edycja spisu'!M106","v":0},{"$f":"'Edycja spisu'!O106","v":0}]
[{"$f":"'Edycja spisu'!A107","v":84},{"$f":"'Edycja spisu'!C107","v":0},{"$f":"'Edycja spisu'!E107","v":0},{"$f":"'Edycja spisu'!F107","v":0},{"$f":"'Edycja spisu'!G107","v":0},{"$f":"'Edycja spisu'!H107","v":0},{"$f":"'Edycja spisu'!I107","v":0},{"$f":"'Edycja spisu'!J107","v":0},0,{"$f":"'Wydruk spisu'!A106","v":84},17,{"$f":"'Edycja spisu'!K107","v":"00:00:00"},{"$f":"'Edycja spisu'!L107","v":"00:00:00"},{"$f":"'Edycja spisu'!D107","v":0},{"$f":"'Edycja spisu'!M107","v":0},{"$f":"'Edycja spisu'!O107","v":0}]
[{"$f":"'Edycja spisu'!A108","v":85},{"$f":"'Edycja spisu'!C108","v":0},{"$f":"'Edycja spisu'!E108","v":0},{"$f":"'Edycja spisu'!F108","v":0},{"$f":"'Edycja spisu'!G108","v":0},{"$f":"'Edycja spisu'!H108","v":0},{"$f":"'Edycja spisu'!I108","v":0},{"$f":"'Edycja spisu'!J108","v":0},0,{"$f":"'Wydruk spisu'!A107","v":85},17,{"$f":"'Edycja spisu'!K108","v":"00:00:00"},{"$f":"'Edycja spisu'!L108","v":"00:00:00"},{"$f":"'Edycja spisu'!D108","v":0},{"$f":"'Edycja spisu'!M108","v":0},{"$f":"'Edycja spisu'!O108","v":0}]
[{"$f":"'Edycja spisu'!A109","v":86},{"$f":"'Edycja spisu'!C109","v":0},{"$f":"'Edycja spisu'!E109","v":0},{"$f":"'Edycja spisu'!F109","v":0},{"$f":"'Edycja spisu'!G109","v":0},{"$f":"'Edycja spisu'!H109","v":0},{"$f":"'Edycja spisu'!I109","v":0},{"$f":"'Edycja spisu'!J109","v":0},0,{"$f":"'Wydruk spisu'!A108","v":86},17,{"$f":"'Edycja spisu'!K109","v":"00:00:00"},{"$f":"'Edycja spisu'!L109","v":"00:00:00"},{"$f":"'Edycja spisu'!D109","v":0},{"$f":"'Edycja spisu'!M109","v":0},{"$f":"'Edycja spisu'!O109","v":0}]
[{"$f":"'Edycja spisu'!A110","v":87},{"$f":"'Edycja spisu'!C110","v":0},{"$f":"'Edycja spisu'!E110","v":0},{"$f":"'Edycja spisu'!F110","v":0},{"$f":"'Edycja spisu'!G110","v":0},{"$f":"'Edycja spisu'!H110","v":0},{"$f":"'Edycja spisu'!I110","v":0},{"$f":"'Edycja spisu'!J110","v":0},0,{"$f":"'Wydruk spisu'!A109","v":87},17,{"$f":"'Edycja spisu'!K110","v":"00:00:00"},{"$f":"'Edycja spisu'!L110","v":"00:00:00"},{"$f":"'Edycja spisu'!D110","v":0},{"$f":"'Edycja spisu'!M110","v":0},{"$f":"'Edycja spisu'!O110","v":0}]
[{"$f":"'Edycja spisu'!A111","v":88},{"$f":"'Edycja spisu'!C111","v":0},{"$f":"'Edycja spisu'!E111","v":0},{"$f":"'Edycja spisu'!F111","v":0},{"$f":"'Edycja spisu'!G111","v":0},{"$f":"'Edycja spisu'!H111","v":0},{"$f":"'Edycja spisu'!I111","v":0},{"$f":"'Edycja spisu'!J111","v":0},0,{"$f":"'Wydruk spisu'!A110","v":88},17,{"$f":"'Edycja spisu'!K111","v":"00:00:00"},{"$f":"'Edycja spisu'!L111","v":"00:00:00"},{"$f":"'Edycja spisu'!D111","v":0},{"$f":"'Edycja spisu'!M111","v":0},{"$f":"'Edycja spisu'!O111","v":0}]
[{"$f":"'Edycja spisu'!A112","v":89},{"$f":"'Edycja spisu'!C112","v":0},{"$f":"'Edycja spisu'!E112","v":0},{"$f":"'Edycja spisu'!F112","v":0},{"$f":"'Edycja spisu'!G112","v":0},{"$f":"'Edycja spisu'!H112","v":0},{"$f":"'Edycja spisu'!I112","v":0},{"$f":"'Edycja spisu'!J112","v":0},0,{"$f":"'Wydruk spisu'!A111","v":89},17,{"$f":"'Edycja spisu'!K112","v":"00:00:00"},{"$f":"'Edycja spisu'!L112","v":"00:00:00"},{"$f":"'Edycja spisu'!D112","v":0},{"$f":"'Edycja spisu'!M112","v":0},{"$f":"'Edycja spisu'!O112","v":0}]
[{"$f":"'Edycja spisu'!A113","v":90},{"$f":"'Edycja spisu'!C113","v":0},{"$f":"'Edycja spisu'!E113","v":0},{"$f":"'Edycja spisu'!F113","v":0},{"$f":"'Edycja spisu'!G113","v":0},{"$f":"'Edycja spisu'!H113","v":0},{"$f":"'Edycja spisu'!I113","v":0},{"$f":"'Edycja spisu'!J113","v":0},0,{"$f":"'Wydruk spisu'!A112","v":90},17,{"$f":"'Edycja spisu'!K113","v":"00:00:00"},{"$f":"'Edycja spisu'!L113","v":"00:00:00"},{"$f":"'Edycja spisu'!D113","v":0},{"$f":"'Edycja spisu'!M113","v":0},{"$f":"'Edycja spisu'!O113","v":0}]
[{"$f":"'Edycja spisu'!A114","v":91},{"$f":"'Edycja spisu'!C114","v":0},{"$f":"'Edycja spisu'!E114","v":0},{"$f":"'Edycja spisu'!F114","v":0},{"$f":"'Edycja spisu'!G114","v":0},{"$f":"'Edycja spisu'!H114","v":0},{"$f":"'Edycja spisu'!I114","v":0},{"$f":"'Edycja spisu'!J114","v":0},0,{"$f":"'Wydruk spisu'!A113","v":91},17,{"$f":"'Edycja spisu'!K114","v":"00:00:00"},{"$f":"'Edycja spisu'!L114","v":"00:00:00"},{"$f":"'Edycja spisu'!D114","v":0},{"$f":"'Edycja spisu'!M114","v":0},{"$f":"'Edycja spisu'!O114","v":0}]
[{"$f":"'Edycja spisu'!A115","v":92},{"$f":"'Edycja spisu'!C115","v":0},{"$f":"'Edycja spisu'!E115","v":0},{"$f":"'Edycja spisu'!F115","v":0},{"$f":"'Edycja spisu'!G115","v":0},{"$f":"'Edycja spisu'!H115","v":0},{"$f":"'Edycja spisu'!I115","v":0},{"$f":"'Edycja spisu'!J115","v":0},0,{"$f":"'Wydruk spisu'!A114","v":92},17,{"$f":"'Edycja spisu'!K115","v":"00:00:00"},{"$f":"'Edycja spisu'!L115","v":"00:00:00"},{"$f":"'Edycja spisu'!D115","v":0},{"$f":"'Edycja spisu'!M115","v":0},{"$f":"'Edycja spisu'!O115","v":0}]
[{"$f":"'Edycja spisu'!A116","v":93},{"$f":"'Edycja spisu'!C116","v":0},{"$f":"'Edycja spisu'!E116","v":0},{"$f":"'Edycja spisu'!F116","v":0},{"$f":"'Edycja spisu'!G116","v":0},{"$f":"'Edycja spisu'!H116","v":0},{"$f":"'Edycja spisu'!I116","v":0},{"$f":"'Edycja spisu'!J116","v":0},0,{"$f":"'Wydruk spisu'!A115","v":93},17,{"$f":"'Edycja spisu'!K116","v":"00:00:00"},{"$f":"'Edycja spisu'!L116","v":"00:00:00"},{"$f":"'Edycja spisu'!D116","v":0},{"$f":"'Edycja spisu'!M116","v":0},{"$f":"'Edycja spisu'!O116","v":0}]
[{"$f":"'Edycja spisu'!A117","v":94},{"$f":"'Edycja spisu'!C117","v":0},{"$f":"'Edycja spisu'!E117","v":0},{"$f":"'Edycja spisu'!F117","v":0},{"$f":"'Edycja spisu'!G117","v":0},{"$f":"'Edycja spisu'!H117","v":0},{"$f":"'Edycja spisu'!I117","v":0},{"$f":"'Edycja spisu'!J117","v":0},0,{"$f":"'Wydruk spisu'!A116","v":94},17,{"$f":"'Edycja spisu'!K117","v":"00:00:00"},{"$f":"'Edycja spisu'!L117","v":"00:00:00"},{"$f":"'Edycja spisu'!D117","v":0},{"$f":"'Edycja spisu'!M117","v":0},{"$f":"'Edycja spisu'!O117","v":0}]
[{"$f":"'Edycja spisu'!A118","v":95},{"$f":"'Edycja spisu'!C118","v":0},{"$f":"'Edycja spisu'!E118","v":0},{"$f":"'Edycja spisu'!F118","v":0},{"$f":"'Edycja spisu'!G118","v":0},{"$f":"'Edycja spisu'!H118","v":0},{"$f":"'Edycja spisu'!I118","v":0},{"$f":"'Edycja spisu'!J118","v":0},0,{"$f":"'Wydruk spisu'!A117","v":95},17,{"$f":"'Edycja spisu'!K118","v":"00:00:00"},{"$f":"'Edycja spisu'!L118","v":"00:00:00"},{"$f":"'Edycja spisu'!D118","v":0},{"$f":"'Edycja spisu'!M118","v":0},{"$f":"'Edycja spisu'!O118","v":0}]
[{"$f":"'Edycja spisu'!A119","v":96},{"$f":"'Edycja spisu'!C119","v":0},{"$f":"'Edycja spisu'!E119","v":0},{"$f":"'Edycja spisu'!F119","v":0},{"$f":"'Edycja spisu'!G119","v":0},{"$f":"'Edycja spisu'!H119","v":0},{"$f":"'Edycja spisu'!I119","v":0},{"$f":"'Edycja spisu'!J119","v":0},0,{"$f":"'Wydruk spisu'!A118","v":96},17,{"$f":"'Edycja spisu'!K119","v":"00:00:00"},{"$f":"'Edycja spisu'!L119","v":"00:00:00"},{"$f":"'Edycja spisu'!D119","v":0},{"$f":"'Edycja spisu'!M119","v":0},{"$f":"'Edycja spisu'!O119","v":0}]
[{"$f":"'Edycja spisu'!A120","v":97},{"$f":"'Edycja spisu'!C120","v":0},{"$f":"'Edycja spisu'!E120","v":0},{"$f":"'Edycja spisu'!F120","v":0},{"$f":"'Edycja spisu'!G120","v":0},{"$f":"'Edycja spisu'!H120","v":0},{"$f":"'Edycja spisu'!I120","v":0},{"$f":"'Edycja spisu'!J120","v":0},0,{"$f":"'Wydruk spisu'!A119","v":97},17,{"$f":"'Edycja spisu'!K120","v":"00:00:00"},{"$f":"'Edycja spisu'!L120","v":"00:00:00"},{"$f":"'Edycja spisu'!D120","v":0},{"$f":"'Edycja spisu'!M120","v":0},{"$f":"'Edycja spisu'!O120","v":0}]
[{"$f":"'Edycja spisu'!A121","v":98},{"$f":"'Edycja spisu'!C121","v":0},{"$f":"'Edycja spisu'!E121","v":0},{"$f":"'Edycja spisu'!F121","v":0},{"$f":"'Edycja spisu'!G121","v":0},{"$f":"'Edycja spisu'!H121","v":0},{"$f":"'Edycja spisu'!I121","v":0},{"$f":"'Edycja spisu'!J121","v":0},0,{"$f":"'Wydruk spisu'!A120","v":98},17,{"$f":"'Edycja spisu'!K121","v":"00:00:00"},{"$f":"'Edycja spisu'!L121","v":"00:00:00"},{"$f":"'Edycja spisu'!D121","v":0},{"$f":"'Edycja spisu'!M121","v":0},{"$f":"'Edycja spisu'!O121","v":0}]
[{"$f":"'Edycja spisu'!A122","v":99},{"$f":"'Edycja spisu'!C122","v":0},{"$f":"'Edycja spisu'!E122","v":0},{"$f":"'Edycja spisu'!F122","v":0},{"$f":"'Edycja spisu'!G122","v":0},{"$f":"'Edycja spisu'!H122","v":0},{"$f":"'Edycja spisu'!I122","v":0},{"$f":"'Edycja spisu'!J122","v":0},0,{"$f":"'Wydruk spisu'!A121","v":99},17,{"$f":"'Edycja spisu'!K122","v":"00:00:00"},{"$f":"'Edycja spisu'!L122","v":"00:00:00"},{"$f":"'Edycja spisu'!D122","v":0},{"$f":"'Edycja spisu'!M122","v":0},{"$f":"'Edycja spisu'!O122","v":0}]
[{"$f":"'Edycja spisu'!A123","v":100},{"$f":"'Edycja spisu'!C123","v":0},{"$f":"'Edycja spisu'!E123","v":0},{"$f":"'Edycja spisu'!F123","v":0},{"$f":"'Edycja spisu'!G123","v":0},{"$f":"'Edycja spisu'!H123","v":0},{"$f":"'Edycja spisu'!I123","v":0},{"$f":"'Edycja spisu'!J123","v":0},0,{"$f":"'Wydruk spisu'!A122","v":100},17,{"$f":"'Edycja spisu'!K123","v":"00:00:00"},{"$f":"'Edycja spisu'!L123","v":"00:00:00"},{"$f":"'Edycja spisu'!D123","v":0},{"$f":"'Edycja spisu'!M123","v":0},{"$f":"'Edycja spisu'!O123","v":0}]

{"sheet":"EwidencjaArchiwalna","index":3,"n_rows":143,"n_cols":16,"rows_kept":143,"cut":false,"hidden":true,"merged":[[2,0,2,7]]}
[null,"Arkusz wypełniany automatycznie poza polami oznaczonymi kolorem zielonym i żółtym (zawierającymi komentarze)"]
["Jak wkleić dane z poniższego arkusza do ogólnej ewidencji archiwalnej (obejmującej wszystkie spisy akt przekazanych)"]
["Otwórz arkusz Wydruk spisu, wpisz nadane w archiwum: Nr spisu i Data spisu. Przejdź ponownie do arkusza EwidencjaArchiwalna.  Wypełnij lub sprawdź czy zostały wpisane automatycznie wartości do poszczególnych komórek w 5 wierszu - pomocne są komentarze wyjaśniające wypełnianie pól. Po zakończeniu edycji spisu zaznacz cały wiersz 5, skopiuj i wklej zawartość do bazy danych (w programie Access)."]
["IDSpisu","NrSpisu","OznLit","Archiwum","DataSpisu","L.dz.","Jednostka","Wydz.;L.dz","Klauzula","Miejscowość","Data","Rok1","Rok2","IlośćPozycji","IlośćTeczek","Uwagi"]
[null,{"$f":"'Wydruk spisu'!G10","v":0},null,17,{"$f":"'Wydruk spisu'!F16","v":"00:00:00"},"OIN-Dp-",{"$f":"VLOOKUP(G6,D121:E143,2)","v":"KWP1209"},{"$f":"'Wydruk spisu'!C6","v":0},1,{"$f":"'Edycja spisu'!F17","v":"Łódź"},{"$f":"'Edycja spisu'!F19","v":"00:00:00"},{"$f":"MIN('Edycja spisu'!K24:K123)","v":"00:00:00"},{"$f":"MAX('Edycja spisu'!L24:L123)","v":"00:00:00"},{"$f":"DCOUNT('Wydruk spisu'!A19:D122,1,A19:A122)","v":100},{"$f":"SUM('Wydruk spisu'!G23:G122)","v":0}]
[null,null,null,null,null,null,{"$f":"'Edycja spisu'!F15","v":"Wydział Kadr i Szkolenia KWP w Łodzi"}]
["Skopiuj i wklej do ewidencji wszystkie jednostki jednostki archiwalne ze spisu do bazy danych."]
["IDSpisu","Jednostka","NrSpisu","PozSpisu","Symbol","NrTeczki","TytułTeczki","Data1","Data2","IlośćTeczek","KatArch","Klauzula","POP","Uwagi"]
[{"$f":"A5","v":0},{"$f":"G5","v":"KWP1209"},{"$f":"B5","v":0},{"$f":"'Wydruk spisu'!A23","v":1},{"$f":"IF('Wydruk spisu'!$B$22=2020,'Wydruk spisu'!B23&\" \"&\"Q\",'Wydruk spisu'!B23&\" \"&\"N\")","v":"1200 Q"},{"$f":"'Wydruk spisu'!C23","v":0},{"$f":"'Wydruk spisu'!D23","v":" , imię ojca - , ur."},{"$f":"'Edycja spisu'!K24","v":"00:00:00"},{"$f":"'Edycja spisu'!L24","v":"00:00:00"},{"$f":"'Edycja spisu'!M24","v":0},{"$f":"'Edycja spisu'!N24","v":"BE60-E"},1,"0",{"$f":"'Wydruk spisu'!J23","v":0}]
[{"$f":"A9","v":0},{"$f":"B9","v":"KWP1209"},{"$f":"C9","v":0},{"$f":"'Wydruk spisu'!A24","v":2},{"$f":"IF('Wydruk spisu'!$B$22=2020,'Wydruk spisu'!B24&\" \"&\"Q\",'Wydruk spisu'!B24&\" \"&\"N\")","v":"1200 Q"},{"$f":"'Wydruk spisu'!C24","v":0},{"$f":"'Wydruk spisu'!D24","v":" , i.o. - , ur."},{"$f":"'Edycja spisu'!K25","v":"00:00:00"},{"$f":"'Edycja spisu'!L25","v":"00:00:00"},{"$f":"'Edycja spisu'!M25","v":0},{"$f":"'Edycja spisu'!N25","v":"BE60-E"},1,"0",{"$f":"'Wydruk spisu'!J24","v":0}]
[{"$f":"A10","v":0},{"$f":"B10","v":"KWP1209"},{"$f":"C10","v":0},{"$f":"'Wydruk spisu'!A25","v":3},{"$f":"IF('Wydruk spisu'!$B$22=2020,'Wydruk spisu'!B25&\" \"&\"Q\",'Wydruk spisu'!B25&\" \"&\"N\")","v":"1200 Q"},{"$f":"'Wydruk spisu'!C25","v":0},{"$f":"'Wydruk spisu'!D25","v":" , i.o. - , ur."},{"$f":"'Edycja spisu'!K26","v":"00:00:00"},{"$f":"'Edycja spisu'!L26","v":"00:00:00"},{"$f":"'Edycja spisu'!M26","v":0},{"$f":"'Edycja spisu'!N26","v":"BE60-E"},1,"0",{"$f":"'Wydruk spisu'!J25","v":0}]
[0,"KWP1209",0,{"$f":"'Wydruk spisu'!A26","v":4},{"$f":"IF('Wydruk spisu'!$B$22=2020,'Wydruk spisu'!B26&\" \"&\"Q\",'Wydruk spisu'!B26&\" \"&\"N\")","v":"1200 Q"},{"$f":"'Wydruk spisu'!C26","v":0},{"$f":"'Wydruk spisu'!D26","v":" , i.o. - , ur."},{"$f":"'Edycja spisu'!K27","v":"00:00:00"},{"$f":"'Edycja spisu'!L27","v":"00:00:00"},{"$f":"'Edycja spisu'!M27","v":0},{"$f":"'Edycja spisu'!N27","v":"BE60-E"},1,"0",{"$f":"'Wydruk spisu'!J26","v":0}]
[0,"KWP1209",0,{"$f":"'Wydruk spisu'!A27","v":5},{"$f":"IF('Wydruk spisu'!$B$22=2020,'Wydruk spisu'!B27&\" \"&\"Q\",'Wydruk spisu'!B27&\" \"&\"N\")","v":"1200 Q"},{"$f":"'Wydruk spisu'!C27","v":0},{"$f":"'Wydruk spisu'!D27","v":" , i.o. - , ur."},{"$f":"'Edycja spisu'!K28","v":"00:00:00"},{"$f":"'Edycja spisu'!L28","v":"00:00:00"},{"$f":"'Edycja spisu'!M28","v":0},{"$f":"'Edycja spisu'!N28","v":"BE60-E"},1,"0",{"$f":"'Wydruk spisu'!J27","v":0}]
[0,"KWP1209",0,{"$f":"'Wydruk spisu'!A28","v":6},{"$f":"IF('Wydruk spisu'!$B$22=2020,'Wydruk spisu'!B28&\" \"&\"Q\",'Wydruk spisu'!B28&\" \"&\"N\")","v":"1200 Q"},{"$f":"'Wydruk spisu'!C28","v":0},{"$f":"'Wydruk spisu'!D28","v":" , i.o. - , ur."},{"$f":"'Edycja spisu'!K29","v":"00:00:00"},{"$f":"'Edycja spisu'!L29","v":"00:00:00"},{"$f":"'Edycja spisu'!M29","v":0},{"$f":"'Edycja spisu'!N29","v":"BE60-E"},1,"0",{"$f":"'Wydruk spisu'!J28","v":0}]
[0,"KWP1209",0,{"$f":"'Wydruk spisu'!A29","v":7},{"$f":"IF('Wydruk spisu'!$B$22=2020,'Wydruk spisu'!B29&\" \"&\"Q\",'Wydruk spisu'!B29&\" \"&\"N\")","v":"1200 Q"},{"$f":"'Wydruk spisu'!C29","v":0},{"$f":"'Wydruk spisu'!D29","v":" , i.o. - , ur."},{"$f":"'Edycja spisu'!K30","v":"00:00:00"},{"$f":"'Edycja spisu'!L30","v":"00:00:00"},{"$f":"'Edycja spisu'!M30","v":0},{"$f":"'Edycja spisu'!N30","v":"BE60-E"},1,"0",{"$f":"'Wydruk spisu'!J29","v":0}]
[0,"KWP1209",0,{"$f":"'Wydruk spisu'!A30","v":8},{"$f":"IF('Wydruk spisu'!$B$22=2020,'Wydruk spisu'!B30&\" \"&\"Q\",'Wydruk spisu'!B30&\" \"&\"N\")","v":"1200 Q"},{"$f":"'Wydruk spisu'!C30","v":0},{"$f":"'Wydruk spisu'!D30","v":" , i.o. - , ur."},{"$f":"'Edycja spisu'!K31","v":"00:00:00"},{"$f":"'Edycja spisu'!L31","v":"00:00:00"},{"$f":"'Edycja spisu'!M31","v":0},{"$f":"'Edycja spisu'!N31","v":"BE60-E"},1,"0",{"$f":"'Wydruk spisu'!J30","v":0}]
[0,"KWP1209",0,{"$f":"'Wydruk spisu'!A31","v":9},{"$f":"IF('Wydruk spisu'!$B$22=2020,'Wydruk spisu'!B31&\" \"&\"Q\",'Wydruk spisu'!B31&\" \"&\"N\")","v":"1200 Q"},{"$f":"'Wydruk spisu'!C31","v":0},{"$f":"'Wydruk spisu'!D31","v":" , i.o. - , ur."},{"$f":"'Edycja spisu'!K32","v":"00:00:00"},{"$f":"'Edycja spisu'!L32","v":"00:00:00"},{"$f":"'Edycja spisu'!M32","v":0},{"$f":"'Edycja spisu'!N32","v":"BE60-E"},1,"0",{"$f":"'Wydruk spisu'!J31","v":0}]
[0,"KWP1209",0,{"$f":"'Wydruk spisu'!A32","v":10},{"$f":"IF('Wydruk spisu'!$B$22=2020,'Wydruk spisu'!B32&\" \"&\"Q\",'Wydruk spisu'!B32&\" \"&\"N\")","v":"1200 Q"},{"$f":"'Wydruk spisu'!C32","v":0},{"$f":"'Wydruk spisu'!D32","v":" , i.o. - , ur."},{"$f":"'Edycja spisu'!K33","v":"00:00:00"},{"$f":"'Edycja spisu'!L33","v":"00:00:00"},{"$f":"'Edycja spisu'!M33","v":0},{"$f":"'Edycja spisu'!N33","v":"BE60-E"},1,"0",{"$f":"'Wydruk spisu'!J32","v":0}]
[0,"KWP1209",0,{"$f":"'Wydruk spisu'!A33","v":11},{"$f":"IF('Wydruk spisu'!$B$22=2020,'Wydruk spisu'!B33&\" \"&\"Q\",'Wydruk spisu'!B33&\" \"&\"N\")","v":"1200 Q"},{"$f":"'Wydruk spisu'!C33","v":0},{"$f":"'Wydruk spisu'!D33","v":" , i.o. - , ur."},{"$f":"'Edycja spisu'!K34","v":"00:00:00"},{"$f":"'Edycja spisu'!L34","v":"00:00:00"},{"$f":"'Edycja spisu'!M34","v":0},{"$f":"'Edycja spisu'!N34","v":"BE60-E"},1,"0",{"$f":"'Wydruk spisu'!J33","v":0}]
[{"$f":"A19","v":0},"KWP1209",0,{"$f":"'Wydruk spisu'!A34","v":12},{"$f":"IF('Wydruk spisu'!$B$22=2020,'Wydruk spisu'!B34&\" \"&\"Q\",'Wydruk spisu'!B34&\" \"&\"N\")","v":"1200 Q"},{"$f":"'Wydruk spisu'!C34","v":0},{"$f":"'Wydruk spisu'!D34","v":" , i.o. - , ur."},{"$f":"'Edycja spisu'!K35","v":"00:00:00"},{"$f":"'Edycja spisu'!L35","v":"00:00:00"},{"$f":"'Edycja spisu'!M35","v":0},{"$f":"'Edycja spisu'!N35","v":"BE60-E"},1,"0",{"$f":"'Wydruk spisu'!J34","v":0}]
[{"$f":"A20","v":0},"KWP1209",0,{"$f":"'Wydruk spisu'!A35","v":13},{"$f":"IF('Wydruk spisu'!$B$22=2020,'Wydruk spisu'!B35&\" \"&\"Q\",'Wydruk spisu'!B35&\" \"&\"N\")","v":"1200 Q"},{"$f":"'Wydruk spisu'!C35","v":0},{"$f":"'Wydruk spisu'!D35","v":" , i.o. - , ur."},{"$f":"'Edycja spisu'!K36","v":"00:00:00"},{"$f":"'Edycja spisu'!L36","v":"00:00:00"},{"$f":"'Edycja spisu'!M36","v":0},{"$f":"'Edycja spisu'!N36","v":"BE60-E"},1,"0",{"$f":"'Wydruk spisu'!J35","v":0}]
[{"$f":"A21","v":0},"KWP1209",0,{"$f":"'Wydruk spisu'!A36","v":14},{"$f":"IF('Wydruk spisu'!$B$22=2020,'Wydruk spisu'!B36&\" \"&\"Q\",'Wydruk spisu'!B36&\" \"&\"N\")","v":"1200 Q"},{"$f":"'Wydruk spisu'!C36","v":0},{"$f":"'Wydruk spisu'!D36","v":" , i.o. - , ur."},{"$f":"'Edycja spisu'!K37","v":"00:00:00"},{"$f":"'Edycja spisu'!L37","v":"00:00:00"},{"$f":"'Edycja spisu'!M37","v":0},{"$f":"'Edycja spisu'!N37","v":"BE60-E"},1,"0",{"$f":"'Wydruk spisu'!J36","v":0}]
[{"$f":"A22","v":0},"KWP1209",0,{"$f":"'Wydruk spisu'!A37","v":15},{"$f":"IF('Wydruk spisu'!$B$22=2020,'Wydruk spisu'!B37&\" \"&\"Q\",'Wydruk spisu'!B37&\" \"&\"N\")","v":"1200 Q"},{"$f":"'Wydruk spisu'!C37","v":0},{"$f":"'Wydruk spisu'!D37","v":" , i.o. - , ur."},{"$f":"'Edycja spisu'!K38","v":"00:00:00"},{"$f":"'Edycja spisu'!L38","v":"00:00:00"},{"$f":"'Edycja spisu'!M38","v":0},{"$f":"'Edycja spisu'!N38","v":"BE60-E"},1,"0",{"$f":"'Wydruk spisu'!J37","v":0}]
[{"$f":"A23","v":0},"KWP1209",0,{"$f":"'Wydruk spisu'!A38","v":16},{"$f":"IF('Wydruk spisu'!$B$22=2020,'Wydruk spisu'!B38&\" \"&\"Q\",'Wydruk spisu'!B38&\" \"&\"N\")","v":"1200 Q"},{"$f":"'Wydruk spisu'!C38","v":0},{"$f":"'Wydruk spisu'!D38","v":" , i.o. - , ur."},{"$f":"'Edycja spisu'!K39","v":"00:00:00"},{"$f":"'Edycja spisu'!L39","v":"00:00:00"},{"$f":"'Edycja spisu'!M39","v":0},{"$f":"'Edycja spisu'!N39","v":"BE60-E"},1,"0",{"$f":"'Wydruk spisu'!J38","v":0}]
[0,"KWP1209",0,{"$f":"'Wydruk spisu'!A39","v":17},{"$f":"IF('Wydruk spisu'!$B$22=2020,'Wydruk spisu'!B39&\" \"&\"Q\",'Wydruk spisu'!B39&\" \"&\"N\")","v":"1200 Q"},{"$f":"'Wydruk spisu'!C39","v":0},{"$f":"'Wydruk spisu'!D39","v":" , i.o. - , ur."},{"$f":"'Edycja spisu'!K40","v":"00:00:00"},{"$f":"'Edycja spisu'!L40","v":"00:00:00"},{"$f":"'Edycja spisu'!M40","v":0},{"$f":"'Edycja spisu'!N40","v":"BE60-E"},1,"0",{"$f":"'Wydruk spisu'!J39","v":0}]
[0,"KWP1209",0,{"$f":"'Wydruk spisu'!A40","v":18},{"$f":"IF('Wydruk spisu'!$B$22=2020,'Wydruk spisu'!B40&\" \"&\"Q\",'Wydruk spisu'!B40&\" \"&\"N\")","v":"1200 Q"},{"$f":"'Wydruk spisu'!C40","v":0},{"$f":"'Wydruk spisu'!D40","v":" , i.o. - , ur."},{"$f":"'Edycja spisu'!K41","v":"00:00:00"},{"$f":"'Edycja spisu'!L41","v":"00:00:00"},{"$f":"'Edycja spisu'!M41","v":0},{"$f":"'Edycja spisu'!N41","v":"BE60-E"},1,"0",{"$f":"'Wydruk spisu'!J40","v":0}]
[0,"KWP1209",0,{"$f":"'Wydruk spisu'!A41","v":19},{"$f":"IF('Wydruk spisu'!$B$22=2020,'Wydruk spisu'!B41&\" \"&\"Q\",'Wydruk spisu'!B41&\" \"&\"N\")","v":"1200 Q"},{"$f":"'Wydruk spisu'!C41","v":0},{"$f":"'Wydruk spisu'!D41","v":" , i.o. - , ur."},{"$f":"'Edycja spisu'!K42","v":"00:00:00"},{"$f":"'Edycja spisu'!L42","v":"00:00:00"},{"$f":"'Edycja spisu'!M42","v":0},{"$f":"'Edycja spisu'!N42","v":"BE60-E"},1,"0",{"$f":"'Wydruk spisu'!J41","v":0}]
[0,"KWP1209",0,{"$f":"'Wydruk spisu'!A42","v":20},{"$f":"IF('Wydruk spisu'!$B$22=2020,'Wydruk spisu'!B42&\" \"&\"Q\",'Wydruk spisu'!B42&\" \"&\"N\")","v":"1200 Q"},{"$f":"'Wydruk spisu'!C42","v":0},{"$f":"'Wydruk spisu'!D42","v":" , i.o. - , ur."},{"$f":"'Edycja spisu'!K43","v":"00:00:00"},{"$f":"'Edycja spisu'!L43","v":"00:00:00"},{"$f":"'Edycja spisu'!M43","v":0},{"$f":"'Edycja spisu'!N43","v":"BE60-E"},1,"0",{"$f":"'Wydruk spisu'!J42","v":0}]
[0,"KWP1209",0,{"$f":"'Wydruk spisu'!A43","v":21},{"$f":"IF('Wydruk spisu'!$B$22=2020,'Wydruk spisu'!B43&\" \"&\"Q\",'Wydruk spisu'!B43&\" \"&\"N\")","v":"1200 Q"},{"$f":"'Wydruk spisu'!C43","v":0},{"$f":"'Wydruk spisu'!D43","v":" , i.o. - , ur."},{"$f":"'Edycja spisu'!K44","v":"00:00:00"},{"$f":"'Edycja spisu'!L44","v":"00:00:00"},{"$f":"'Edycja spisu'!M44","v":0},{"$f":"'Edycja spisu'!N44","v":"BE60-E"},1,"0",{"$f":"'Wydruk spisu'!J43","v":0}]
[0,"KWP1209",0,{"$f":"'Wydruk spisu'!A44","v":22},{"$f":"IF('Wydruk spisu'!$B$22=2020,'Wydruk spisu'!B44&\" \"&\"Q\",'Wydruk spisu'!B44&\" \"&\"N\")","v":"1200 Q"},{"$f":"'Wydruk spisu'!C44","v":0},{"$f":"'Wydruk spisu'!D44","v":" , i.o. - , ur."},{"$f":"'Edycja spisu'!K45","v":"00:00:00"},{"$f":"'Edycja spisu'!L45","v":"00:00:00"},{"$f":"'Edycja spisu'!M45","v":0},{"$f":"'Edycja spisu'!N45","v":"BE60-E"},1,"0",{"$f":"'Wydruk spisu'!J44","v":0}]
[0,"KWP1209",0,{"$f":"'Wydruk spisu'!A45","v":23},{"$f":"IF('Wydruk spisu'!$B$22=2020,'Wydruk spisu'!B45&\" \"&\"Q\",'Wydruk spisu'!B45&\" \"&\"N\")","v":"1200 Q"},{"$f":"'Wydruk spisu'!C45","v":0},{"$f":"'Wydruk spisu'!D45","v":" , i.o. - , ur."},{"$f":"'Edycja spisu'!K46","v":"00:00:00"},{"$f":"'Edycja spisu'!L46","v":"00:00:00"},{"$f":"'Edycja spisu'!M46","v":0},{"$f":"'Edycja spisu'!N46","v":"BE60-E"},1,"0",{"$f":"'Wydruk spisu'!J45","v":0}]
[0,"KWP1209",0,{"$f":"'Wydruk spisu'!A46","v":24},{"$f":"IF('Wydruk spisu'!$B$22=2020,'Wydruk spisu'!B46&\" \"&\"Q\",'Wydruk spisu'!B46&\" \"&\"N\")","v":"1200 Q"},{"$f":"'Wydruk spisu'!C46","v":0},{"$f":"'Wydruk spisu'!D46","v":" , i.o. - , ur."},{"$f":"'Edycja spisu'!K47","v":"00:00:00"},{"$f":"'Edycja spisu'!L47","v":"00:00:00"},{"$f":"'Edycja spisu'!M47","v":0},{"$f":"'Edycja spisu'!N47","v":"BE60-E"},1,"0",{"$f":"'Wydruk spisu'!J46","v":0}]
[0,"KWP1209",0,{"$f":"'Wydruk spisu'!A47","v":25},{"$f":"IF('Wydruk spisu'!$B$22=2020,'Wydruk spisu'!B47&\" \"&\"Q\",'Wydruk spisu'!B47&\" \"&\"N\")","v":"1200 Q"},{"$f":"'Wydruk spisu'!C47","v":0},{"$f":"'Wydruk spisu'!D47","v":" , i.o. - , ur."},{"$f":"'Edycja spisu'!K48","v":"00:00:00"},{"$f":"'Edycja spisu'!L48","v":"00:00:00"},{"$f":"'Edycja spisu'!M48","v":0},{"$f":"'Edycja spisu'!N48","v":"BE60-E"},1,"0",{"$f":"'Wydruk spisu'!J47","v":0}]
[0,"KWP1209",0,{"$f":"'Wydruk spisu'!A48","v":26},{"$f":"IF('Wydruk spisu'!$B$22=2020,'Wydruk spisu'!B48&\" \"&\"Q\",'Wydruk spisu'!B48&\" \"&\"N\")","v":"1200 Q"},{"$f":"'Wydruk spisu'!C48","v":0},{"$f":"'Wydruk spisu'!D48","v":" , i.o. - , ur."},{"$f":"'Edycja spisu'!K49","v":"00:00:00"},{"$f":"'Edycja spisu'!L49","v":"00:00:00"},{"$f":"'Edycja spisu'!M49","v":0},{"$f":"'Edycja spisu'!N49","v":"BE60-E"},1,"0",{"$f":"'Wydruk spisu'!J48","v":0}]
[0,"KWP1209",0,{"$f":"'Wydruk spisu'!A49","v":27},{"$f":"IF('Wydruk spisu'!$B$22=2020,'Wydruk spisu'!B49&\" \"&\"Q\",'Wydruk spisu'!B49&\" \"&\"N\")","v":"1200 Q"},{"$f":"'Wydruk spisu'!C49","v":0},{"$f":"'Wydruk spisu'!D49","v":" , i.o. - , ur."},{"$f":"'Edycja spisu'!K50","v":"00:00:00"},{"$f":"'Edycja spisu'!L50","v":"00:00:00"},{"$f":"'Edycja spisu'!M50","v":0},{"$f":"'Edycja spisu'!N50","v":"BE60-E"},1,"0",{"$f":"'Wydruk spisu'!J49","v":0}]
[0,"KWP1209",0,{"$f":"'Wydruk spisu'!A50","v":28},{"$f":"IF('Wydruk spisu'!$B$22=2020,'Wydruk spisu'!B50&\" \"&\"Q\",'Wydruk spisu'!B50&\" \"&\"N\")","v":"1200 Q"},{"$f":"'Wydruk spisu'!C50","v":0},{"$f":"'Wydruk spisu'!D50","v":" , i.o. - , ur."},{"$f":"'Edycja spisu'!K51","v":"00:00:00"},{"$f":"'Edycja spisu'!L51","v":"00:00:00"},{"$f":"'Edycja spisu'!M51","v":0},{"$f":"'Edycja spisu'!N51","v":"BE60-E"},1,"0",{"$f":"'Wydruk spisu'!J50","v":0}]
[0,"KWP1209",0,{"$f":"'Wydruk spisu'!A51","v":29},{"$f":"IF('Wydruk spisu'!$B$22=2020,'Wydruk spisu'!B51&\" \"&\"Q\",'Wydruk spisu'!B51&\" \"&\"N\")","v":"1200 Q"},{"$f":"'Wydruk spisu'!C51","v":0},{"$f":"'Wydruk spisu'!D51","v":" , i.o. - , ur."},{"$f":"'Edycja spisu'!K52","v":"00:00:00"},{"$f":"'Edycja spisu'!L52","v":"00:00:00"},{"$f":"'Edycja spisu'!M52","v":0},{"$f":"'Edycja spisu'!N52","v":"BE60-E"},1,"0",{"$f":"'Wydruk spisu'!J51","v":0}]
[0,"KWP1209",0,{"$f":"'Wydruk spisu'!A52","v":30},{"$f":"IF('Wydruk spisu'!$B$22=2020,'Wydruk spisu'!B52&\" \"&\"Q\",'Wydruk spisu'!B52&\" \"&\"N\")","v":"1200 Q"},{"$f":"'Wydruk spisu'!C52","v":0},{"$f":"'Wydruk spisu'!D52","v":" , i.o. - , ur."},{"$f":"'Edycja spisu'!K53","v":"00:00:00"},{"$f":"'Edycja spisu'!L53","v":"00:00:00"},{"$f":"'Edycja spisu'!M53","v":0},{"$f":"'Edycja spisu'!N53","v":"BE60-E"},1,"0",{"$f":"'Wydruk spisu'!J52","v":0}]
[0,"KWP1209",0,{"$f":"'Wydruk spisu'!A53","v":31},{"$f":"IF('Wydruk spisu'!$B$22=2020,'Wydruk spisu'!B53&\" \"&\"Q\",'Wydruk spisu'!B53&\" \"&\"N\")","v":"1200 Q"},{"$f":"'Wydruk spisu'!C53","v":0},{"$f":"'Wydruk spisu'!D53","v":" , i.o. - , ur."},{"$f":"'Edycja spisu'!K54","v":"00:00:00"},{"$f":"'Edycja spisu'!L54","v":"00:00:00"},{"$f":"'Edycja spisu'!M54","v":0},{"$f":"'Edycja spisu'!N54","v":"BE60-E"},1,"0",{"$f":"'Wydruk spisu'!J53","v":0}]
[0,"KWP1209",0,{"$f":"'Wydruk spisu'!A54","v":32},{"$f":"IF('Wydruk spisu'!$B$22=2020,'Wydruk spisu'!B54&\" \"&\"Q\",'Wydruk spisu'!B54&\" \"&\"N\")","v":"1200 Q"},{"$f":"'Wydruk spisu'!C54","v":0},{"$f":"'Wydruk spisu'!D54","v":" , i.o. - , ur."},{"$f":"'Edycja spisu'!K55","v":"00:00:00"},{"$f":"'Edycja spisu'!L55","v":"00:00:00"},{"$f":"'Edycja spisu'!M55","v":0},{"$f":"'Edycja spisu'!N55","v":"BE60-E"},1,"0",{"$f":"'Wydruk spisu'!J54","v":0}]
[0,"KWP1209",0,{"$f":"'Wydruk spisu'!A55","v":33},{"$f":"IF('Wydruk spisu'!$B$22=2020,'Wydruk spisu'!B55&\" \"&\"Q\",'Wydruk spisu'!B55&\" \"&\"N\")","v":"1200 Q"},{"$f":"'Wydruk spisu'!C55","v":0},{"$f":"'Wydruk spisu'!D55","v":" , i.o. - , ur."},{"$f":"'Edycja spisu'!K56","v":"00:00:00"},{"$f":"'Edycja spisu'!L56","v":"00:00:00"},{"$f":"'Edycja spisu'!M56","v":0},{"$f":"'Edycja spisu'!N56","v":"BE60-E"},1,"0",{"$f":"'Wydruk spisu'!J55","v":0}]
[0,"KWP1209",0,{"$f":"'Wydruk spisu'!A56","v":34},{"$f":"IF('Wydruk spisu'!$B$22=2020,'Wydruk spisu'!B56&\" \"&\"Q\",'Wydruk spisu'!B56&\" \"&\"N\")","v":"1200 Q"},{"$f":"'Wydruk spisu'!C56","v":0},{"$f":"'Wydruk spisu'!D56","v":" , i.o. - , ur."},{"$f":"'Edycja spisu'!K57","v":"00:00:00"},{"$f":"'Edycja spisu'!L57","v":"00:00:00"},{"$f":"'Edycja spisu'!M57","v":0},{"$f":"'Edycja spisu'!N57","v":"BE60-E"},1,"0",{"$f":"'Wydruk spisu'!J56","v":0}]
[0,"KWP1209",0,{"$f":"'Wydruk spisu'!A57","v":35},{"$f":"IF('Wydruk spisu'!$B$22=2020,'Wydruk spisu'!B57&\" \"&\"Q\",'Wydruk spisu'!B57&\" \"&\"N\")","v":"1200 Q"},{"$f":"'Wydruk spisu'!C57","v":0},{"$f":"'Wydruk spisu'!D57","v":" , i.o. - , ur."},{"$f":"'Edycja spisu'!K58","v":"00:00:00"},{"$f":"'Edycja spisu'!L58","v":"00:00:00"},{"$f":"'Edycja spisu'!M58","v":0},{"$f":"'Edycja spisu'!N58","v":"BE60-E"},1,"0",{"$f":"'Wydruk spisu'!J57","v":0}]
[0,"KWP1209",0,{"$f":"'Wydruk spisu'!A58","v":36},{"$f":"IF('Wydruk spisu'!$B$22=2020,'Wydruk spisu'!B58&\" \"&\"Q\",'Wydruk spisu'!B58&\" \"&\"N\")","v":"1200 Q"},{"$f":"'Wydruk spisu'!C58","v":0},{"$f":"'Wydruk spisu'!D58","v":" , i.o. - , ur."},{"$f":"'Edycja spisu'!K59","v":"00:00:00"},{"$f":"'Edycja spisu'!L59","v":"00:00:00"},{"$f":"'Edycja spisu'!M59","v":0},{"$f":"'Edycja spisu'!N59","v":"BE60-E"},1,"0",{"$f":"'Wydruk spisu'!J58","v":0}]
[0,"KWP1209",0,{"$f":"'Wydruk spisu'!A59","v":37},{"$f":"IF('Wydruk spisu'!$B$22=2020,'Wydruk spisu'!B59&\" \"&\"Q\",'Wydruk spisu'!B59&\" \"&\"N\")","v":"1200 Q"},{"$f":"'Wydruk spisu'!C59","v":0},{"$f":"'Wydruk spisu'!D59","v":" , i.o. - , ur."},{"$f":"'Edycja spisu'!K60","v":"00:00:00"},{"$f":"'Edycja spisu'!L60","v":"00:00:00"},{"$f":"'Edycja spisu'!M60","v":0},{"$f":"'Edycja spisu'!N60","v":"BE60-E"},1,"0",{"$f":"'Wydruk spisu'!J59","v":0}]
[0,"KWP1209",0,{"$f":"'Wydruk spisu'!A60","v":38},{"$f":"IF('Wydruk spisu'!$B$22=2020,'Wydruk spisu'!B60&\" \"&\"Q\",'Wydruk spisu'!B60&\" \"&\"N\")","v":"1200 Q"},{"$f":"'Wydruk spisu'!C60","v":0},{"$f":"'Wydruk spisu'!D60","v":" , i.o. - , ur."},{"$f":"'Edycja spisu'!K61","v":"00:00:00"},{"$f":"'Edycja spisu'!L61","v":"00:00:00"},{"$f":"'Edycja spisu'!M61","v":0},{"$f":"'Edycja spisu'!N61","v":"BE60-E"},1,"0",{"$f":"'Wydruk spisu'!J60","v":0}]
[0,"KWP1209",0,{"$f":"'Wydruk spisu'!A61","v":39},{"$f":"IF('Wydruk spisu'!$B$22=2020,'Wydruk spisu'!B61&\" \"&\"Q\",'Wydruk spisu'!B61&\" \"&\"N\")","v":"1200 Q"},{"$f":"'Wydruk spisu'!C61","v":0},{"$f":"'Wydruk spisu'!D61","v":" , i.o. - , ur."},{"$f":"'Edycja spisu'!K62","v":"00:00:00"},{"$f":"'Edycja spisu'!L62","v":"00:00:00"},{"$f":"'Edycja spisu'!M62","v":0},{"$f":"'Edycja spisu'!N62","v":"BE60-E"},1,"0",{"$f":"'Wydruk spisu'!J61","v":0}]
[0,"KWP1209",0,{"$f":"'Wydruk spisu'!A62","v":40},{"$f":"IF('Wydruk spisu'!$B$22=2020,'Wydruk spisu'!B62&\" \"&\"Q\",'Wydruk spisu'!B62&\" \"&\"N\")","v":"1200 Q"},{"$f":"'Wydruk spisu'!C62","v":0},{"$f":"'Wydruk spisu'!D62","v":" , i.o. - , ur."},{"$f":"'Edycja spisu'!K63","v":"00:00:00"},{"$f":"'Edycja spisu'!L63","v":"00:00:00"},{"$f":"'Edycja spisu'!M63","v":0},{"$f":"'Edycja spisu'!N63","v":"BE60-E"},1,"0",{"$f":"'Wydruk spisu'!J62","v":0}]
[0,"KWP1209",0,{"$f":"'Wydruk spisu'!A63","v":41},{"$f":"IF('Wydruk spisu'!$B$22=2020,'Wydruk spisu'!B63&\" \"&\"Q\",'Wydruk spisu'!B63&\" \"&\"N\")","v":"1200 Q"},{"$f":"'Wydruk spisu'!C63","v":0},{"$f":"'Wydruk spisu'!D63","v":" , i.o. - , ur."},{"$f":"'Edycja spisu'!K64","v":"00:00:00"},{"$f":"'Edycja spisu'!L64","v":"00:00:00"},{"$f":"'Edycja spisu'!M64","v":0},{"$f":"'Edycja spisu'!N64","v":"BE60-E"},1,"0",{"$f":"'Wydruk spisu'!J63","v":0}]
[0,"KWP1209",0,{"$f":"'Wydruk spisu'!A64","v":42},{"$f":"IF('Wydruk spisu'!$B$22=2020,'Wydruk spisu'!B64&\" \"&\"Q\",'Wydruk spisu'!B64&\" \"&\"N\")","v":"1200 Q"},{"$f":"'Wydruk spisu'!C64","v":0},{"$f":"'Wydruk spisu'!D64","v":" , i.o. - , ur."},{"$f":"'Edycja spisu'!K65","v":"00:00:00"},{"$f":"'Edycja spisu'!L65","v":"00:00:00"},{"$f":"'Edycja spisu'!M65","v":0},{"$f":"'Edycja spisu'!N65","v":"BE60-E"},1,"0",{"$f":"'Wydruk spisu'!J64","v":0}]
[0,"KWP1209",0,{"$f":"'Wydruk spisu'!A65","v":43},{"$f":"IF('Wydruk spisu'!$B$22=2020,'Wydruk spisu'!B65&\" \"&\"Q\",'Wydruk spisu'!B65&\" \"&\"N\")","v":"1200 Q"},{"$f":"'Wydruk spisu'!C65","v":0},{"$f":"'Wydruk spisu'!D65","v":" , i.o. - , ur."},{"$f":"'Edycja spisu'!K66","v":"00:00:00"},{"$f":"'Edycja spisu'!L66","v":"00:00:00"},{"$f":"'Edycja spisu'!M66","v":0},{"$f":"'Edycja spisu'!N66","v":"BE60-E"},1,"0",{"$f":"'Wydruk spisu'!J65","v":0}]
[0,"KWP1209",0,{"$f":"'Wydruk spisu'!A66","v":44},{"$f":"IF('Wydruk spisu'!$B$22=2020,'Wydruk spisu'!B66&\" \"&\"Q\",'Wydruk spisu'!B66&\" \"&\"N\")","v":"1200 Q"},{"$f":"'Wydruk spisu'!C66","v":0},{"$f":"'Wydruk spisu'!D66","v":" , i.o. - , ur."},{"$f":"'Edycja spisu'!K67","v":"00:00:00"},{"$f":"'Edycja spisu'!L67","v":"00:00:00"},{"$f":"'Edycja spisu'!M67","v":0},{"$f":"'Edycja spisu'!N67","v":"BE60-E"},1,"0",{"$f":"'Wydruk spisu'!J66","v":0}]
[0,"KWP1209",0,{"$f":"'Wydruk spisu'!A67","v":45},{"$f":"IF('Wydruk spisu'!$B$22=2020,'Wydruk spisu'!B67&\" \"&\"Q\",'Wydruk spisu'!B67&\" \"&\"N\")","v":"1200 Q"},{"$f":"'Wydruk spisu'!C67","v":0},{"$f":"'Wydruk spisu'!D67","v":" , i.o. - , ur."},{"$f":"'Edycja spisu'!K68","v":"00:00:00"},{"$f":"'Edycja spisu'!L68","v":"00:00:00"},{"$f":"'Edycja spisu'!M68","v":0},{"$f":"'Edycja spisu'!N68","v":"BE60-E"},1,"0",{"$f":"'Wydruk spisu'!J67","v":0}]
[0,"KWP1209",0,{"$f":"'Wydruk spisu'!A68","v":46},{"$f":"IF('Wydruk spisu'!$B$22=2020,'Wydruk spisu'!B68&\" \"&\"Q\",'Wydruk spisu'!B68&\" \"&\"N\")","v":"1200 Q"},{"$f":"'Wydruk spisu'!C68","v":0},{"$f":"'Wydruk spisu'!D68","v":" , i.o. - , ur."},{"$f":"'Edycja spisu'!K69","v":"00:00:00"},{"$f":"'Edycja spisu'!L69","v":"00:00:00"},{"$f":"'Edycja spisu'!M69","v":0},{"$f":"'Edycja spisu'!N69","v":"BE60-E"},1,"0",{"$f":"'Wydruk spisu'!J68","v":0}]
[0,"KWP1209",0,{"$f":"'Wydruk spisu'!A69","v":47},{"$f":"IF('Wydruk spisu'!$B$22=2020,'Wydruk spisu'!B69&\" \"&\"Q\",'Wydruk spisu'!B69&\" \"&\"N\")","v":"1200 Q"},{"$f":"'Wydruk spisu'!C69","v":0},{"$f":"'Wydruk spisu'!D69","v":" , i.o. - , ur."},{"$f":"'Edycja spisu'!K70","v":"00:00:00"},{"$f":"'Edycja spisu'!L70","v":"00:00:00"},{"$f":"'Edycja spisu'!M70","v":0},{"$f":"'Edycja spisu'!N70","v":"BE60-E"},1,"0",{"$f":"'Wydruk spisu'!J69","v":0}]
[0,"KWP1209",0,{"$f":"'Wydruk spisu'!A70","v":48},{"$f":"IF('Wydruk spisu'!$B$22=2020,'Wydruk spisu'!B70&\" \"&\"Q\",'Wydruk spisu'!B70&\" \"&\"N\")","v":"1200 Q"},{"$f":"'Wydruk spisu'!C70","v":0},{"$f":"'Wydruk spisu'!D70","v":" , i.o. - , ur."},{"$f":"'Edycja spisu'!K71","v":"00:00:00"},{"$f":"'Edycja spisu'!L71","v":"00:00:00"},{"$f":"'Edycja spisu'!M71","v":0},{"$f":"'Edycja spisu'!N71","v":"BE60-E"},1,"0",{"$f":"'Wydruk spisu'!J70","v":0}]
[0,"KWP1209",0,{"$f":"'Wydruk spisu'!A71","v":49},{"$f":"IF('Wydruk spisu'!$B$22=2020,'Wydruk spisu'!B71&\" \"&\"Q\",'Wydruk spisu'!B71&\" \"&\"N\")","v":"1200 Q"},{"$f":"'Wydruk spisu'!C71","v":0},{"$f":"'Wydruk spisu'!D71","v":" , i.o. - , ur."},{"$f":"'Edycja spisu'!K72","v":"00:00:00"},{"$f":"'Edycja spisu'!L72","v":"00:00:00"},{"$f":"'Edycja spisu'!M72","v":0},{"$f":"'Edycja spisu'!N72","v":"BE60-E"},1,"0",{"$f":"'Wydruk spisu'!J71","v":0}]
[0,"KWP1209",0,{"$f":"'Wydruk spisu'!A72","v":50},{"$f":"IF('Wydruk spisu'!$B$22=2020,'Wydruk spisu'!B72&\" \"&\"Q\",'Wydruk spisu'!B72&\" \"&\"N\")","v":"1200 Q"},{"$f":"'Wydruk spisu'!C72","v":0},{"$f":"'Wydruk spisu'!D72","v":" , i.o. - , ur."},{"$f":"'Edycja spisu'!K73","v":"00:00:00"},{"$f":"'Edycja spisu'!L73","v":"00:00:00"},{"$f":"'Edycja spisu'!M73","v":0},{"$f":"'Edycja spisu'!N73","v":"BE60-E"},1,"0",{"$f":"'Wydruk spisu'!J72","v":0}]
[0,"KWP1209",0,{"$f":"'Wydruk spisu'!A73","v":51},{"$f":"IF('Wydruk spisu'!$B$22=2020,'Wydruk spisu'!B73&\" \"&\"Q\",'Wydruk spisu'!B73&\" \"&\"N\")","v":"1200 Q"},{"$f":"'Wydruk spisu'!C73","v":0},{"$f":"'Wydruk spisu'!D73","v":" , i.o. - , ur."},{"$f":"'Edycja spisu'!K74","v":"00:00:00"},{"$f":"'Edycja spisu'!L74","v":"00:00:00"},{"$f":"'Edycja spisu'!M74","v":0},{"$f":"'Edycja spisu'!N74","v":"BE60-E"},1,"0",{"$f":"'Wydruk spisu'!J73","v":0}]
[0,"KWP1209",0,{"$f":"'Wydruk spisu'!A74","v":52},{"$f":"IF('Wydruk spisu'!$B$22=2020,'Wydruk spisu'!B74&\" \"&\"Q\",'Wydruk spisu'!B74&\" \"&\"N\")","v":"1200 Q"},{"$f":"'Wydruk spisu'!C74","v":0},{"$f":"'Wydruk spisu'!D74","v":" , i.o. - , ur."},{"$f":"'Edycja spisu'!K75","v":"00:00:00"},{"$f":"'Edycja spisu'!L75","v":"00:00:00"},{"$f":"'Edycja spisu'!M75","v":0},{"$f":"'Edycja spisu'!N75","v":"BE60-E"},1,"0",{"$f":"'Wydruk spisu'!J74","v":0}]
[0,"KWP1209",0,{"$f":"'Wydruk spisu'!A75","v":53},{"$f":"IF('Wydruk spisu'!$B$22=2020,'Wydruk spisu'!B75&\" \"&\"Q\",'Wydruk spisu'!B75&\" \"&\"N\")","v":"1200 Q"},{"$f":"'Wydruk spisu'!C75","v":0},{"$f":"'Wydruk spisu'!D75","v":" , i.o. - , ur."},{"$f":"'Edycja spisu'!K76","v":"00:00:00"},{"$f":"'Edycja spisu'!L76","v":"00:00:00"},{"$f":"'Edycja spisu'!M76","v":0},{"$f":"'Edycja spisu'!N76","v":"BE60-E"},1,"0",{"$f":"'Wydruk spisu'!J75","v":0}]
[0,"KWP1209",0,{"$f":"'Wydruk spisu'!A76","v":54},{"$f":"IF('Wydruk spisu'!$B$22=2020,'Wydruk spisu'!B76&\" \"&\"Q\",'Wydruk spisu'!B76&\" \"&\"N\")","v":"1200 Q"},{"$f":"'Wydruk spisu'!C76","v":0},{"$f":"'Wydruk spisu'!D76","v":" , i.o. - , ur."},{"$f":"'Edycja spisu'!K77","v":"00:00:00"},{"$f":"'Edycja spisu'!L77","v":"00:00:00"},{"$f":"'Edycja spisu'!M77","v":0},{"$f":"'Edycja spisu'!N77","v":"BE60-E"},1,"0",{"$f":"'Wydruk spisu'!J76","v":0}]
[0,"KWP1209",0,{"$f":"'Wydruk spisu'!A77","v":55},{"$f":"IF('Wydruk spisu'!$B$22=2020,'Wydruk spisu'!B77&\" \"&\"Q\",'Wydruk spisu'!B77&\" \"&\"N\")","v":"1200 Q"},{"$f":"'Wydruk spisu'!C77","v":0},{"$f":"'Wydruk spisu'!D77","v":" , i.o. - , ur."},{"$f":"'Edycja spisu'!K78","v":"00:00:00"},{"$f":"'Edycja spisu'!L78","v":"00:00:00"},{"$f":"'Edycja spisu'!M78","v":0},{"$f":"'Edycja spisu'!N78","v":"BE60-E"},1,"0",{"$f":"'Wydruk spisu'!J77","v":0}]
[0,"KWP1209",0,{"$f":"'Wydruk spisu'!A78","v":56},{"$f":"IF('Wydruk spisu'!$B$22=2020,'Wydruk spisu'!B78&\" \"&\"Q\",'Wydruk spisu'!B78&\" \"&\"N\")","v":"1200 Q"},{"$f":"'Wydruk spisu'!C78","v":0},{"$f":"'Wydruk spisu'!D78","v":" , i.o. - , ur."},{"$f":"'Edycja spisu'!K79","v":"00:00:00"},{"$f":"'Edycja spisu'!L79","v":"00:00:00"},{"$f":"'Edycja spisu'!M79","v":0},{"$f":"'Edycja spisu'!N79","v":"BE60-E"},1,"0",{"$f":"'Wydruk spisu'!J78","v":0}]
[0,"KWP1209",0,{"$f":"'Wydruk spisu'!A79","v":57},{"$f":"IF('Wydruk spisu'!$B$22=2020,'Wydruk spisu'!B79&\" \"&\"Q\",'Wydruk spisu'!B79&\" \"&\"N\")","v":"1200 Q"},{"$f":"'Wydruk spisu'!C79","v":0},{"$f":"'Wydruk spisu'!D79","v":" , i.o. - , ur."},{"$f":"'Edycja spisu'!K80","v":"00:00:00"},{"$f":"'Edycja spisu'!L80","v":"00:00:00"},{"$f":"'Edycja spisu'!M80","v":0},{"$f":"'Edycja spisu'!N80","v":"BE60-E"},1,"0",{"$f":"'Wydruk spisu'!J79","v":0}]
[0,"KWP1209",0,{"$f":"'Wydruk spisu'!A80","v":58},{"$f":"IF('Wydruk spisu'!$B$22=2020,'Wydruk spisu'!B80&\" \"&\"Q\",'Wydruk spisu'!B80&\" \"&\"N\")","v":"1200 Q"},{"$f":"'Wydruk spisu'!C80","v":0},{"$f":"'Wydruk spisu'!D80","v":" , i.o. - , ur."},{"$f":"'Edycja spisu'!K81","v":"00:00:00"},{"$f":"'Edycja spisu'!L81","v":"00:00:00"},{"$f":"'Edycja spisu'!M81","v":0},{"$f":"'Edycja spisu'!N81","v":"BE60-E"},1,"0",{"$f":"'Wydruk spisu'!J80","v":0}]
[0,"KWP1209",0,{"$f":"'Wydruk spisu'!A81","v":59},{"$f":"IF('Wydruk spisu'!$B$22=2020,'Wydruk spisu'!B81&\" \"&\"Q\",'Wydruk spisu'!B81&\" \"&\"N\")","v":"1200 Q"},{"$f":"'Wydruk spisu'!C81","v":0},{"$f":"'Wydruk spisu'!D81","v":" , i.o. - , ur."},{"$f":"'Edycja spisu'!K82","v":"00:00:00"},{"$f":"'Edycja spisu'!L82","v":"00:00:00"},{"$f":"'Edycja spisu'!M82","v":0},{"$f":"'Edycja spisu'!N82","v":"BE60-E"},1,"0",{"$f":"'Wydruk spisu'!J81","v":0}]
[0,"KWP1209",0,{"$f":"'Wydruk spisu'!A82","v":60},{"$f":"IF('Wydruk spisu'!$B$22=2020,'Wydruk spisu'!B82&\" \"&\"Q\",'Wydruk spisu'!B82&\" \"&\"N\")","v":"1200 Q"},{"$f":"'Wydruk spisu'!C82","v":0},{"$f":"'Wydruk spisu'!D82","v":" , i.o. - , ur."},{"$f":"'Edycja spisu'!K83","v":"00:00:00"},{"$f":"'Edycja spisu'!L83","v":"00:00:00"},{"$f":"'Edycja spisu'!M83","v":0},{"$f":"'Edycja spisu'!N83","v":"BE60-E"},1,"0",{"$f":"'Wydruk spisu'!J82","v":0}]
[0,"KWP1209",0,{"$f":"'Wydruk spisu'!A83","v":61},{"$f":"IF('Wydruk spisu'!$B$22=2020,'Wydruk spisu'!B83&\" \"&\"Q\",'Wydruk spisu'!B83&\" \"&\"N\")","v":"1200 Q"},{"$f":"'Wydruk spisu'!C83","v":0},{"$f":"'Wydruk spisu'!D83","v":" , i.o. - , ur."},{"$f":"'Edycja spisu'!K84","v":"00:00:00"},{"$f":"'Edycja spisu'!L84","v":"00:00:00"},{"$f":"'Edycja spisu'!M84","v":0},{"$f":"'Edycja spisu'!N84","v":"BE60-E"},1,"0",{"$f":"'Wydruk spisu'!J83","v":0}]
[0,"KWP1209",0,{"$f":"'Wydruk spisu'!A84","v":62},{"$f":"IF('Wydruk spisu'!$B$22=2020,'Wydruk spisu'!B84&\" \"&\"Q\",'Wydruk spisu'!B84&\" \"&\"N\")","v":"1200 Q"},{"$f":"'Wydruk spisu'!C84","v":0},{"$f":"'Wydruk spisu'!D84","v":" , i.o. - , ur."},{"$f":"'Edycja spisu'!K85","v":"00:00:00"},{"$f":"'Edycja spisu'!L85","v":"00:00:00"},{"$f":"'Edycja spisu'!M85","v":0},{"$f":"'Edycja spisu'!N85","v":"BE60-E"},1,"0",{"$f":"'Wydruk spisu'!J84","v":0}]
[0,"KWP1209",0,{"$f":"'Wydruk spisu'!A85","v":63},{"$f":"IF('Wydruk spisu'!$B$22=2020,'Wydruk spisu'!B85&\" \"&\"Q\",'Wydruk spisu'!B85&\" \"&\"N\")","v":"1200 Q"},{"$f":"'Wydruk spisu'!C85","v":0},{"$f":"'Wydruk spisu'!D85","v":" , i.o. - , ur."},{"$f":"'Edycja spisu'!K86","v":"00:00:00"},{"$f":"'Edycja spisu'!L86","v":"00:00:00"},{"$f":"'Edycja spisu'!M86","v":0},{"$f":"'Edycja spisu'!N86","v":"BE60-E"},1,"0",{"$f":"'Wydruk spisu'!J85","v":0}]
[0,"KWP1209",0,{"$f":"'Wydruk spisu'!A86","v":64},{"$f":"IF('Wydruk spisu'!$B$22=2020,'Wydruk spisu'!B86&\" \"&\"Q\",'Wydruk spisu'!B86&\" \"&\"N\")","v":"1200 Q"},{"$f":"'Wydruk spisu'!C86","v":0},{"$f":"'Wydruk spisu'!D86","v":" , i.o. - , ur."},{"$f":"'Edycja spisu'!K87","v":"00:00:00"},{"$f":"'Edycja spisu'!L87","v":"00:00:00"},{"$f":"'Edycja spisu'!M87","v":0},{"$f":"'Edycja spisu'!N87","v":"BE60-E"},1,"0",{"$f":"'Wydruk spisu'!J86","v":0}]
[0,"KWP1209",0,{"$f":"'Wydruk spisu'!A87","v":65},{"$f":"IF('Wydruk spisu'!$B$22=2020,'Wydruk spisu'!B87&\" \"&\"Q\",'Wydruk spisu'!B87&\" \"&\"N\")","v":"1200 Q"},{"$f":"'Wydruk spisu'!C87","v":0},{"$f":"'Wydruk spisu'!D87","v":" , i.o. - , ur."},{"$f":"'Edycja spisu'!K88","v":"00:00:00"},{"$f":"'Edycja spisu'!L88","v":"00:00:00"},{"$f":"'Edycja spisu'!M88","v":0},{"$f":"'Edycja spisu'!N88","v":"BE60-E"},1,"0",{"$f":"'Wydruk spisu'!J87","v":0}]
[0,"KWP1209",0,{"$f":"'Wydruk spisu'!A88","v":66},{"$f":"IF('Wydruk spisu'!$B$22=2020,'Wydruk spisu'!B88&\" \"&\"Q\",'Wydruk spisu'!B88&\" \"&\"N\")","v":"1200 Q"},{"$f":"'Wydruk spisu'!C88","v":0},{"$f":"'Wydruk spisu'!D88","v":" , i.o. - , ur."},{"$f":"'Edycja spisu'!K89","v":"00:00:00"},{"$f":"'Edycja spisu'!L89","v":"00:00:00"},{"$f":"'Edycja spisu'!M89","v":0},{"$f":"'Edycja spisu'!N89","v":"BE60-E"},1,"0",{"$f":"'Wydruk spisu'!J88","v":0}]
[{"$f":"A74","v":0},{"$f":"B74","v":"KWP1209"},{"$f":"C74","v":0},{"$f":"'Wydruk spisu'!A89","v":67},{"$f":"IF('Wydruk spisu'!$B$22=2020,'Wydruk spisu'!B89&\" \"&\"Q\",'Wydruk spisu'!B89&\" \"&\"N\")","v":"1200 Q"},{"$f":"'Wydruk spisu'!C89","v":0},{"$f":"'Wydruk spisu'!D89","v":" , i.o. - , ur."},{"$f":"'Edycja spisu'!K90","v":"00:00:00"},{"$f":"'Edycja spisu'!L90","v":"00:00:00"},{"$f":"'Edycja spisu'!M90","v":0},{"$f":"'Edycja spisu'!N90","v":"BE60-E"},1,"0",{"$f":"'Wydruk spisu'!J89","v":0}]
[0,"KWP1209",0,{"$f":"'Wydruk spisu'!A90","v":68},{"$f":"IF('Wydruk spisu'!$B$22=2020,'Wydruk spisu'!B90&\" \"&\"Q\",'Wydruk spisu'!B90&\" \"&\"N\")","v":"1200 Q"},{"$f":"'Wydruk spisu'!C90","v":0},{"$f":"'Wydruk spisu'!D90","v":" , i.o. - , ur."},{"$f":"'Edycja spisu'!K91","v":"00:00:00"},{"$f":"'Edycja spisu'!L91","v":"00:00:00"},{"$f":"'Edycja spisu'!M91","v":0},{"$f":"'Edycja spisu'!N91","v":"BE60-E"},1,"0",{"$f":"'Wydruk spisu'!J90","v":0}]
[0,"KWP1209",0,{"$f":"'Wydruk spisu'!A91","v":69},{"$f":"IF('Wydruk spisu'!$B$22=2020,'Wydruk spisu'!B91&\" \"&\"Q\",'Wydruk spisu'!B91&\" \"&\"N\")","v":"1200 Q"},{"$f":"'Wydruk spisu'!C91","v":0},{"$f":"'Wydruk spisu'!D91","v":" , i.o. - , ur."},{"$f":"'Edycja spisu'!K92","v":"00:00:00"},{"$f":"'Edycja spisu'!L92","v":"00:00:00"},{"$f":"'Edycja spisu'!M92","v":0},{"$f":"'Edycja spisu'!N92","v":"BE60-E"},1,"0",{"$f":"'Wydruk spisu'!J91","v":0}]
[0,"KWP1209",0,{"$f":"'Wydruk spisu'!A92","v":70},{"$f":"IF('Wydruk spisu'!$B$22=2020,'Wydruk spisu'!B92&\" \"&\"Q\",'Wydruk spisu'!B92&\" \"&\"N\")","v":"1200 Q"},{"$f":"'Wydruk spisu'!C92","v":0},{"$f":"'Wydruk spisu'!D92","v":" , i.o. - , ur."},{"$f":"'Edycja spisu'!K93","v":"00:00:00"},{"$f":"'Edycja spisu'!L93","v":"00:00:00"},{"$f":"'Edycja spisu'!M93","v":0},{"$f":"'Edycja spisu'!N93","v":"BE60-E"},1,"0",{"$f":"'Wydruk spisu'!J92","v":0}]
[0,"KWP1209",0,{"$f":"'Wydruk spisu'!A93","v":71},{"$f":"IF('Wydruk spisu'!$B$22=2020,'Wydruk spisu'!B93&\" \"&\"Q\",'Wydruk spisu'!B93&\" \"&\"N\")","v":"1200 Q"},{"$f":"'Wydruk spisu'!C93","v":0},{"$f":"'Wydruk spisu'!D93","v":" , i.o. - , ur."},{"$f":"'Edycja spisu'!K94","v":"00:00:00"},{"$f":"'Edycja spisu'!L94","v":"00:00:00"},{"$f":"'Edycja spisu'!M94","v":0},{"$f":"'Edycja spisu'!N94","v":"BE60-E"},1,"0",{"$f":"'Wydruk spisu'!J93","v":0}]
[0,"KWP1209",0,{"$f":"'Wydruk spisu'!A94","v":72},{"$f":"IF('Wydruk spisu'!$B$22=2020,'Wydruk spisu'!B94&\" \"&\"Q\",'Wydruk spisu'!B94&\" \"&\"N\")","v":"1200 Q"},{"$f":"'Wydruk spisu'!C94","v":0},{"$f":"'Wydruk spisu'!D94","v":" , i.o. - , ur."},{"$f":"'Edycja spisu'!K95","v":"00:00:00"},{"$f":"'Edycja spisu'!L95","v":"00:00:00"},{"$f":"'Edycja spisu'!M95","v":0},{"$f":"'Edycja spisu'!N95","v":"BE60-E"},1,"0",{"$f":"'Wydruk spisu'!J94","v":0}]
[0,"KWP1209",0,{"$f":"'Wydruk spisu'!A95","v":73},{"$f":"IF('Wydruk spisu'!$B$22=2020,'Wydruk spisu'!B95&\" \"&\"Q\",'Wydruk spisu'!B95&\" \"&\"N\")","v":"1200 Q"},{"$f":"'Wydruk spisu'!C95","v":0},{"$f":"'Wydruk spisu'!D95","v":" , i.o. - , ur."},{"$f":"'Edycja spisu'!K96","v":"00:00:00"},{"$f":"'Edycja spisu'!L96","v":"00:00:00"},{"$f":"'Edycja spisu'!M96","v":0},{"$f":"'Edycja spisu'!N96","v":"BE60-E"},1,"0",{"$f":"'Wydruk spisu'!J95","v":0}]
[0,"KWP1209",0,{"$f":"'Wydruk spisu'!A96","v":74},{"$f":"IF('Wydruk spisu'!$B$22=2020,'Wydruk spisu'!B96&\" \"&\"Q\",'Wydruk spisu'!B96&\" \"&\"N\")","v":"1200 Q"},{"$f":"'Wydruk spisu'!C96","v":0},{"$f":"'Wydruk spisu'!D96","v":" , i.o. - , ur."},{"$f":"'Edycja spisu'!K97","v":"00:00:00"},{"$f":"'Edycja spisu'!L97","v":"00:00:00"},{"$f":"'Edycja spisu'!M97","v":0},{"$f":"'Edycja spisu'!N97","v":"BE60-E"},1,"0",{"$f":"'Wydruk spisu'!J96","v":0}]
[0,"KWP1209",0,{"$f":"'Wydruk spisu'!A97","v":75},{"$f":"IF('Wydruk spisu'!$B$22=2020,'Wydruk spisu'!B97&\" \"&\"Q\",'Wydruk spisu'!B97&\" \"&\"N\")","v":"1200 Q"},{"$f":"'Wydruk spisu'!C97","v":0},{"$f":"'Wydruk spisu'!D97","v":" , i.o. - , ur."},{"$f":"'Edycja spisu'!K98","v":"00:00:00"},{"$f":"'Edycja spisu'!L98","v":"00:00:00"},{"$f":"'Edycja spisu'!M98","v":0},{"$f":"'Edycja spisu'!N98","v":"BE60-E"},1,"0",{"$f":"'Wydruk spisu'!J97","v":0}]
[0,"KWP1209",0,{"$f":"'Wydruk spisu'!A98","v":76},{"$f":"IF('Wydruk spisu'!$B$22=2020,'Wydruk spisu'!B98&\" \"&\"Q\",'Wydruk spisu'!B98&\" \"&\"N\")","v":"1200 Q"},{"$f":"'Wydruk spisu'!C98","v":0},{"$f":"'Wydruk spisu'!D98","v":" , i.o. - , ur."},{"$f":"'Edycja spisu'!K99","v":"00:00:00"},{"$f":"'Edycja spisu'!L99","v":"00:00:00"},{"$f":"'Edycja spisu'!M99","v":0},{"$f":"'Edycja spisu'!N99","v":"BE60-E"},1,"0",{"$f":"'Wydruk spisu'!J98","v":0}]
[0,"KWP1209",0,{"$f":"'Wydruk spisu'!A99","v":77},{"$f":"IF('Wydruk spisu'!$B$22=2020,'Wydruk spisu'!B99&\" \"&\"Q\",'Wydruk spisu'!B99&\" \"&\"N\")","v":"1200 Q"},{"$f":"'Wydruk spisu'!C99","v":0},{"$f":"'Wydruk spisu'!D99","v":" , i.o. - , ur."},{"$f":"'Edycja spisu'!K100","v":"00:00:00"},{"$f":"'Edycja spisu'!L100","v":"00:00:00"},{"$f":"'Edycja spisu'!M100","v":0},{"$f":"'Edycja spisu'!N100","v":"BE60-E"},1,"0",{"$f":"'Wydruk spisu'!J99","v":0}]
[0,"KWP1209",0,{"$f":"'Wydruk spisu'!A100","v":78},{"$f":"IF('Wydruk spisu'!$B$22=2020,'Wydruk spisu'!B100&\" \"&\"Q\",'Wydruk spisu'!B100&\" \"&\"N\")","v":"1200 Q"},{"$f":"'Wydruk spisu'!C100","v":0},{"$f":"'Wydruk spisu'!D100","v":" , i.o. - , ur."},{"$f":"'Edycja spisu'!K101","v":"00:00:00"},{"$f":"'Edycja spisu'!L101","v":"00:00:00"},{"$f":"'Edycja spisu'!M101","v":0},{"$f":"'Edycja spisu'!N101","v":"BE60-E"},1,"0",{"$f":"'Wydruk spisu'!J100","v":0}]
[0,"KWP1209",0,{"$f":"'Wydruk spisu'!A101","v":79},{"$f":"IF('Wydruk spisu'!$B$22=2020,'Wydruk spisu'!B101&\" \"&\"Q\",'Wydruk spisu'!B101&\" \"&\"N\")","v":"1200 Q"},{"$f":"'Wydruk spisu'!C101","v":0},{"$f":"'Wydruk spisu'!D101","v":" , i.o. - , ur."},{"$f":"'Edycja spisu'!K102","v":"00:00:00"},{"$f":"'Edycja spisu'!L102","v":"00:00:00"},{"$f":"'Edycja spisu'!M102","v":0},{"$f":"'Edycja spisu'!N102","v":"BE60-E"},1,"0",{"$f":"'Wydruk spisu'!J101","v":0}]
[0,"KWP1209",0,{"$f":"'Wydruk spisu'!A102","v":80},{"$f":"IF('Wydruk spisu'!$B$22=2020,'Wydruk spisu'!B102&\" \"&\"Q\",'Wydruk spisu'!B102&\" \"&\"N\")","v":"1200 Q"},{"$f":"'Wydruk spisu'!C102","v":0},{"$f":"'Wydruk spisu'!D102","v":" , i.o. - , ur."},{"$f":"'Edycja spisu'!K103","v":"00:00:00"},{"$f":"'Edycja spisu'!L103","v":"00:00:00"},{"$f":"'Edycja spisu'!M103","v":0},{"$f":"'Edycja spisu'!N103","v":"BE60-E"},1,"0",{"$f":"'Wydruk spisu'!J102","v":0}]
[0,"KWP1209",0,{"$f":"'Wydruk spisu'!A103","v":81},{"$f":"IF('Wydruk spisu'!$B$22=2020,'Wydruk spisu'!B103&\" \"&\"Q\",'Wydruk spisu'!B103&\" \"&\"N\")","v":"1200 Q"},{"$f":"'Wydruk spisu'!C103","v":0},{"$f":"'Wydruk spisu'!D103","v":" , i.o. - , ur."},{"$f":"'Edycja spisu'!K104","v":"00:00:00"},{"$f":"'Edycja spisu'!L104","v":"00:00:00"},{"$f":"'Edycja spisu'!M104","v":0},{"$f":"'Edycja spisu'!N104","v":"BE60-E"},1,"0",{"$f":"'Wydruk spisu'!J103","v":0}]
[0,"KWP1209",0,{"$f":"'Wydruk spisu'!A104","v":82},{"$f":"IF('Wydruk spisu'!$B$22=2020,'Wydruk spisu'!B104&\" \"&\"Q\",'Wydruk spisu'!B104&\" \"&\"N\")","v":"1200 Q"},{"$f":"'Wydruk spisu'!C104","v":0},{"$f":"'Wydruk spisu'!D104","v":" , i.o. - , ur."},{"$f":"'Edycja spisu'!K105","v":"00:00:00"},{"$f":"'Edycja spisu'!L105","v":"00:00:00"},{"$f":"'Edycja spisu'!M105","v":0},{"$f":"'Edycja spisu'!N105","v":"BE60-E"},1,"0",{"$f":"'Wydruk spisu'!J104","v":0}]
[0,"KWP1209",0,{"$f":"'Wydruk spisu'!A105","v":83},{"$f":"IF('Wydruk spisu'!$B$22=2020,'Wydruk spisu'!B105&\" \"&\"Q\",'Wydruk spisu'!B105&\" \"&\"N\")","v":"1200 Q"},{"$f":"'Wydruk spisu'!C105","v":0},{"$f":"'Wydruk spisu'!D105","v":" , i.o. - , ur."},{"$f":"'Edycja spisu'!K106","v":"00:00:00"},{"$f":"'Edycja spisu'!L106","v":"00:00:00"},{"$f":"'Edycja spisu'!M106","v":0},{"$f":"'Edycja spisu'!N106","v":"BE60-E"},1,"0",{"$f":"'Wydruk spisu'!J105","v":0}]
[0,"KWP1209",0,{"$f":"'Wydruk spisu'!A106","v":84},{"$f":"IF('Wydruk spisu'!$B$22=2020,'Wydruk spisu'!B106&\" \"&\"Q\",'Wydruk spisu'!B106&\" \"&\"N\")","v":"1200 Q"},{"$f":"'Wydruk spisu'!C106","v":0},{"$f":"'Wydruk spisu'!D106","v":" , i.o. - , ur."},{"$f":"'Edycja spisu'!K107","v":"00:00:00"},{"$f":"'Edycja spisu'!L107","v":"00:00:00"},{"$f":"'Edycja spisu'!M107","v":0},{"$f":"'Edycja spisu'!N107","v":"BE60-E"},1,"0",{"$f":"'Wydruk spisu'!J106","v":0}]
[0,"KWP1209",0,{"$f":"'Wydruk spisu'!A107","v":85},{"$f":"IF('Wydruk spisu'!$B$22=2020,'Wydruk spisu'!B107&\" \"&\"Q\",'Wydruk spisu'!B107&\" \"&\"N\")","v":"1200 Q"},{"$f":"'Wydruk spisu'!C107","v":0},{"$f":"'Wydruk spisu'!D107","v":" , i.o. - , ur."},{"$f":"'Edycja spisu'!K108","v":"00:00:00"},{"$f":"'Edycja spisu'!L108","v":"00:00:00"},{"$f":"'Edycja spisu'!M108","v":0},{"$f":"'Edycja spisu'!N108","v":"BE60-E"},1,"0",{"$f":"'Wydruk spisu'!J107","v":0}]
[0,"KWP1209",0,{"$f":"'Wydruk spisu'!A108","v":86},{"$f":"IF('Wydruk spisu'!$B$22=2020,'Wydruk spisu'!B108&\" \"&\"Q\",'Wydruk spisu'!B108&\" \"&\"N\")","v":"1200 Q"},{"$f":"'Wydruk spisu'!C108","v":0},{"$f":"'Wydruk spisu'!D108","v":" , i.o. - , ur."},{"$f":"'Edycja spisu'!K109","v":"00:00:00"},{"$f":"'Edycja spisu'!L109","v":"00:00:00"},{"$f":"'Edycja spisu'!M109","v":0},{"$f":"'Edycja spisu'!N109","v":"BE60-E"},1,"0",{"$f":"'Wydruk spisu'!J108","v":0}]
[0,"KWP1209",0,{"$f":"'Wydruk spisu'!A109","v":87},{"$f":"IF('Wydruk spisu'!$B$22=2020,'Wydruk spisu'!B109&\" \"&\"Q\",'Wydruk spisu'!B109&\" \"&\"N\")","v":"1200 Q"},{"$f":"'Wydruk spisu'!C109","v":0},{"$f":"'Wydruk spisu'!D109","v":" , i.o. - , ur."},{"$f":"'Edycja spisu'!K110","v":"00:00:00"},{"$f":"'Edycja spisu'!L110","v":"00:00:00"},{"$f":"'Edycja spisu'!M110","v":0},{"$f":"'Edycja spisu'!N110","v":"BE60-E"},1,"0",{"$f":"'Wydruk spisu'!J109","v":0}]
[0,"KWP1209",0,{"$f":"'Wydruk spisu'!A110","v":88},{"$f":"IF('Wydruk spisu'!$B$22=2020,'Wydruk spisu'!B110&\" \"&\"Q\",'Wydruk spisu'!B110&\" \"&\"N\")","v":"1200 Q"},{"$f":"'Wydruk spisu'!C110","v":0},{"$f":"'Wydruk spisu'!D110","v":" , i.o. - , ur."},{"$f":"'Edycja spisu'!K111","v":"00:00:00"},{"$f":"'Edycja spisu'!L111","v":"00:00:00"},{"$f":"'Edycja spisu'!M111","v":0},{"$f":"'Edycja spisu'!N111","v":"BE60-E"},1,"0",{"$f":"'Wydruk spisu'!J110","v":0}]
[0,"KWP1209",0,{"$f":"'Wydruk spisu'!A111","v":89},{"$f":"IF('Wydruk spisu'!$B$22=2020,'Wydruk spisu'!B111&\" \"&\"Q\",'Wydruk spisu'!B111&\" \"&\"N\")","v":"1200 Q"},{"$f":"'Wydruk spisu'!C111","v":0},{"$f":"'Wydruk spisu'!D111","v":" , i.o. - , ur."},{"$f":"'Edycja spisu'!K112","v":"00:00:00"},{"$f":"'Edycja spisu'!L112","v":"00:00:00"},{"$f":"'Edycja spisu'!M112","v":0},{"$f":"'Edycja spisu'!N112","v":"BE60-E"},1,"0",{"$f":"'Wydruk spisu'!J111","v":0}]
[0,"KWP1209",0,{"$f":"'Wydruk spisu'!A112","v":90},{"$f":"IF('Wydruk spisu'!$B$22=2020,'Wydruk spisu'!B112&\" \"&\"Q\",'Wydruk spisu'!B112&\" \"&\"N\")","v":"1200 Q"},{"$f":"'Wydruk spisu'!C112","v":0},{"$f":"'Wydruk spisu'!D112","v":" , i.o. - , ur."},{"$f":"'Edycja spisu'!K113","v":"00:00:00"},{"$f":"'Edycja spisu'!L113","v":"00:00:00"},{"$f":"'Edycja spisu'!M113","v":0},{"$f":"'Edycja spisu'!N113","v":"BE60-E"},1,"0",{"$f":"'Wydruk spisu'!J112","v":0}]
[0,"KWP1209",0,{"$f":"'Wydruk spisu'!A113","v":91},{"$f":"IF('Wydruk spisu'!$B$22=2020,'Wydruk spisu'!B113&\" \"&\"Q\",'Wydruk spisu'!B113&\" \"&\"N\")","v":"1200 Q"},{"$f":"'Wydruk spisu'!C113","v":0},{"$f":"'Wydruk spisu'!D113","v":" , i.o. - , ur."},{"$f":"'Edycja spisu'!K114","v":"00:00:00"},{"$f":"'Edycja spisu'!L114","v":"00:00:00"},{"$f":"'Edycja spisu'!M114","v":0},{"$f":"'Edycja spisu'!N114","v":"BE60-E"},1,"0",{"$f":"'Wydruk spisu'!J113","v":0}]
[0,"KWP1209",0,{"$f":"'Wydruk spisu'!A114","v":92},{"$f":"IF('Wydruk spisu'!$B$22=2020,'Wydruk spisu'!B114&\" \"&\"Q\",'Wydruk spisu'!B114&\" \"&\"N\")","v":"1200 Q"},{"$f":"'Wydruk spisu'!C114","v":0},{"$f":"'Wydruk spisu'!D114","v":" , i.o. - , ur."},{"$f":"'Edycja spisu'!K115","v":"00:00:00"},{"$f":"'Edycja spisu'!L115","v":"00:00:00"},{"$f":"'Edycja spisu'!M115","v":0},{"$f":"'Edycja spisu'!N115","v":"BE60-E"},1,"0",{"$f":"'Wydruk spisu'!J114","v":0}]
[0,"KWP1209",0,{"$f":"'Wydruk spisu'!A115","v":93},{"$f":"IF('Wydruk spisu'!$B$22=2020,'Wydruk spisu'!B115&\" \"&\"Q\",'Wydruk spisu'!B115&\" \"&\"N\")","v":"1200 Q"},{"$f":"'Wydruk spisu'!C115","v":0},{"$f":"'Wydruk spisu'!D115","v":" , i.o. - , ur."},{"$f":"'Edycja spisu'!K116","v":"00:00:00"},{"$f":"'Edycja spisu'!L116","v":"00:00:00"},{"$f":"'Edycja spisu'!M116","v":0},{"$f":"'Edycja spisu'!N116","v":"BE60-E"},1,"0",{"$f":"'Wydruk spisu'!J115","v":0}]
[0,"KWP1209",0,{"$f":"'Wydruk spisu'!A116","v":94},{"$f":"IF('Wydruk spisu'!$B$22=2020,'Wydruk spisu'!B116&\" \"&\"Q\",'Wydruk spisu'!B116&\" \"&\"N\")","v":"1200 Q"},{"$f":"'Wydruk spisu'!C116","v":0},{"$f":"'Wydruk spisu'!D116","v":" , i.o. - , ur."},{"$f":"'Edycja spisu'!K117","v":"00:00:00"},{"$f":"'Edycja spisu'!L117","v":"00:00:00"},{"$f":"'Edycja spisu'!M117","v":0},{"$f":"'Edycja spisu'!N117","v":"BE60-E"},1,"0",{"$f":"'Wydruk spisu'!J116","v":0}]
[0,"KWP1209",0,{"$f":"'Wydruk spisu'!A117","v":95},{"$f":"IF('Wydruk spisu'!$B$22=2020,'Wydruk spisu'!B117&\" \"&\"Q\",'Wydruk spisu'!B117&\" \"&\"N\")","v":"1200 Q"},{"$f":"'Wydruk spisu'!C117","v":0},{"$f":"'Wydruk spisu'!D117","v":" , i.o. - , ur."},{"$f":"'Edycja spisu'!K118","v":"00:00:00"},{"$f":"'Edycja spisu'!L118","v":"00:00:00"},{"$f":"'Edycja spisu'!M118","v":0},{"$f":"'Edycja spisu'!N118","v":"BE60-E"},1,"0",{"$f":"'Wydruk spisu'!J117","v":0}]
[0,"KWP1209",0,{"$f":"'Wydruk spisu'!A118","v":96},{"$f":"IF('Wydruk spisu'!$B$22=2020,'Wydruk spisu'!B118&\" \"&\"Q\",'Wydruk spisu'!B118&\" \"&\"N\")","v":"1200 Q"},{"$f":"'Wydruk spisu'!C118","v":0},{"$f":"'Wydruk spisu'!D118","v":" , i.o. - , ur."},{"$f":"'Edycja spisu'!K119","v":"00:00:00"},{"$f":"'Edycja spisu'!L119","v":"00:00:00"},{"$f":"'Edycja spisu'!M119","v":0},{"$f":"'Edycja spisu'!N119","v":"BE60-E"},1,"0",{"$f":"'Wydruk spisu'!J118","v":0}]
[0,"KWP1209",0,{"$f":"'Wydruk spisu'!A119","v":97},{"$f":"IF('Wydruk spisu'!$B$22=2020,'Wydruk spisu'!B119&\" \"&\"Q\",'Wydruk spisu'!B119&\" \"&\"N\")","v":"1200 Q"},{"$f":"'Wydruk spisu'!C119","v":0},{"$f":"'Wydruk spisu'!D119","v":" , i.o. - , ur."},{"$f":"'Edycja spisu'!K120","v":"00:00:00"},{"$f":"'Edycja spisu'!L120","v":"00:00:00"},{"$f":"'Edycja spisu'!M120","v":0},{"$f":"'Edycja spisu'!N120","v":"BE60-E"},1,"0",{"$f":"'Wydruk spisu'!J119","v":0}]
[0,"KWP1209",0,{"$f":"'Wydruk spisu'!A120","v":98},{"$f":"IF('Wydruk spisu'!$B$22=2020,'Wydruk spisu'!B120&\" \"&\"Q\",'Wydruk spisu'!B120&\" \"&\"N\")","v":"1200 Q"},{"$f":"'Wydruk spisu'!C120","v":0},{"$f":"'Wydruk spisu'!D120","v":" , i.o. - , ur."},{"$f":"'Edycja spisu'!K121","v":"00:00:00"},{"$f":"'Edycja spisu'!L121","v":"00:00:00"},{"$f":"'Edycja spisu'!M121","v":0},{"$f":"'Edycja spisu'!N121","v":"BE60-E"},1,"0",{"$f":"'Wydruk spisu'!J120","v":0}]
[0,"KWP1209",0,{"$f":"'Wydruk spisu'!A121","v":99},{"$f":"IF('Wydruk spisu'!$B$22=2020,'Wydruk spisu'!B121&\" \"&\"Q\",'Wydruk spisu'!B121&\" \"&\"N\")","v":"1200 Q"},{"$f":"'Wydruk spisu'!C121","v":0},{"$f":"'Wydruk spisu'!D121","v":" , i.o. - , ur."},{"$f":"'Edycja spisu'!K122","v":"00:00:00"},{"$f":"'Edycja spisu'!L122","v":"00:00:00"},{"$f":"'Edycja spisu'!M122","v":0},{"$f":"'Edycja spisu'!N122","v":"BE60-E"},1,"0",{"$f":"'Wydruk spisu'!J121","v":0}]
[0,"KWP1209",0,{"$f":"'Wydruk spisu'!A122","v":100},{"$f":"IF('Wydruk spisu'!$B$22=2020,'Wydruk spisu'!B122&\" \"&\"Q\",'Wydruk spisu'!B122&\" \"&\"N\")","v":"1200 Q"},{"$f":"'Wydruk spisu'!C122","v":0},{"$f":"'Wydruk spisu'!D122","v":" , i.o. - , ur."},{"$f":"'Edycja spisu'!K123","v":"00:00:00"},{"$f":"'Edycja spisu'!L123","v":"00:00:00"},{"$f":"'Edycja spisu'!M123","v":0},{"$f":"'Edycja spisu'!N123","v":"BE60-E"},1,"0",{"$f":"'Wydruk spisu'!J122","v":0}]
[]
[null,null,null,null,null,null,"Jednostka"]
[null,null,null,null,null,null,"Biuro Kadr i Szkolenia KGP"]
[null,null,null,null,null,null,"Wyższa Szkoła Policji w Szczytnie"]
[null,null,null,null,null,null,"Centrum Szkolenia Policji w Legionowie"]
[null,null,null,null,null,null,"Szkoła Policji w Katowicach"]
[null,null,null,null,null,null,"Szkoła Policji w Pile"]
[null,null,null,null,null,null,"Szkoła Policji w Słupsku"]
[]
[]
[]
[null,null,null,"NazwaJedn",null,"IDJedn"]
[null,null,null,"Komenda Miejska Policji w Łodzi","KMP1241","Łódź"]
[null,null,null,"Komenda Miejska Policji w Piotrkowie Trybunalskim","KMP1255","Piotrków Trybunalski"]
[null,null,null,"Komenda Miejska Policji w Skierniewicach","KMP1256","Skierniewice"]
[null,null,null,"Komenda Powiatowa Policji Łódź-Wschód","KPP1218","Koluszki"]
[null,null,null,"Komenda Powiatowa Policji w Bełchatowie","KPP1201","Bełchatów"]
[null,null,null,"Komenda Powiatowa Policji w Brzezinach","KPP1219","Brzeziny"]
[null,null,null,"Komenda Powiatowa Policji w Kutnie","KPP1202","Kutno"]
[null,null,null,"Komenda Powiatowa Policji w Łasku","KPP1203","Łask"]
[null,null,null,"Komenda Powiatowa Policji w Łęczycy","KPP1204","Łęczyca"]
[null,null,null,"Komenda Powiatowa Policji w Łowiczu","KPP1205","Łowicz"]
[null,null,null,"Komenda Powiatowa Policji w Opocznie","KPP1206","Opoczno"]
[null,null,null,"Komenda Powiatowa Policji w Pabianicach","KPP1207","Pabianice"]
[null,null,null,"Komenda Powiatowa Policji w Pajęcznie","KPP1208","Pajęczno"]
[null,null,null,"Komenda Powiatowa Policji w Poddębicach","KPP1209","Poddębice"]
[null,null,null,"Komenda Powiatowa Policji w Radomsku","KPP1210","Radomsko"]
[null,null,null,"Komenda Powiatowa Policji w Rawie Mazowieckiej","KPP1211","Rawa Mazowiecka"]
[null,null,null,"Komenda Powiatowa Policji w Sieradzu","KPP1212","Sieradz"]
[null,null,null,"Komenda Powiatowa Policji w Tomaszowie Mazowieckim","KPP1213","Tomaszów Mazowiecki"]
[null,null,null,"Komenda Powiatowa Policji w Wieluniu","KPP1214","Wieluń"]
[null,null,null,"Komenda Powiatowa Policji w Wieruszowie","KPP1215","Wieruszów"]
[null,null,null,"Komenda Powiatowa Policji w Zduńskiej Woli","KPP1216","Zduńska Wola"]
[null,null,null,"Komenda Powiatowa Policji w Zgierzu","KPP1217","Zgierz"]
[null,null,null,"Wydział Kadr i Szkolenia KWP w Łodzi","KWP1209","Łódź"]